BEGIN:VCALENDAR
VERSION:2.0
PRODID:-//Resurrection United Methodist Church of Hastings - ECPv6.15.20//NONSGML v1.0//EN
CALSCALE:GREGORIAN
METHOD:PUBLISH
X-ORIGINAL-URL:https://rezumc.org
X-WR-CALDESC:Events for Resurrection United Methodist Church of Hastings
REFRESH-INTERVAL;VALUE=DURATION:PT1H
X-Robots-Tag:noindex
X-PUBLISHED-TTL:PT1H
BEGIN:VTIMEZONE
TZID:America/Chicago
BEGIN:DAYLIGHT
TZOFFSETFROM:-0600
TZOFFSETTO:-0500
TZNAME:CDT
DTSTART:20130310T080000
END:DAYLIGHT
BEGIN:STANDARD
TZOFFSETFROM:-0500
TZOFFSETTO:-0600
TZNAME:CST
DTSTART:20131103T070000
END:STANDARD
BEGIN:DAYLIGHT
TZOFFSETFROM:-0600
TZOFFSETTO:-0500
TZNAME:CDT
DTSTART:20140309T080000
END:DAYLIGHT
BEGIN:STANDARD
TZOFFSETFROM:-0500
TZOFFSETTO:-0600
TZNAME:CST
DTSTART:20141102T070000
END:STANDARD
BEGIN:DAYLIGHT
TZOFFSETFROM:-0600
TZOFFSETTO:-0500
TZNAME:CDT
DTSTART:20150308T080000
END:DAYLIGHT
BEGIN:STANDARD
TZOFFSETFROM:-0500
TZOFFSETTO:-0600
TZNAME:CST
DTSTART:20151101T070000
END:STANDARD
BEGIN:DAYLIGHT
TZOFFSETFROM:-0600
TZOFFSETTO:-0500
TZNAME:CDT
DTSTART:20160313T080000
END:DAYLIGHT
BEGIN:STANDARD
TZOFFSETFROM:-0500
TZOFFSETTO:-0600
TZNAME:CST
DTSTART:20161106T070000
END:STANDARD
END:VTIMEZONE
BEGIN:VEVENT
DTSTART;TZID=America/Chicago:20151122T133000
DTEND;TZID=America/Chicago:20151122T153000
DTSTAMP:20260423T082452
CREATED:20151030T150808Z
LAST-MODIFIED:20151107T155308Z
UID:10001695-1448199000-1448206200@rezumc.org
SUMMARY:Grief Support: Surviving the Holidays
DESCRIPTION:[efsflexvideo type=”vimeo” url=”https://vimeo.com/144981077″ allowfullscreen=”yes” widescreen=”yes” width=”500″ height=”281″/] \nThe holidays can be very difficult if you have experienced the loss of someone you love. If you need support\, you are invited to a “Surviving the Holidays” presentation on Sun. Nov. 22 @ 1:30 pm in the library. \n[contact-form-7 id=”1221″ title=”Event Registration_Griefshare”]
URL:https://rezumc.org/event/grief-support/
LOCATION:REZ Library\, 615 15th Street West\, Hastings\, MN\, 55033\, United States
ATTACH;FMTTYPE=image/jpeg:https://rezumc.org/wp-content/uploads/2015/10/red-ball-on-branch2.jpg
GEO:44.7309452;-92.8595028
X-APPLE-STRUCTURED-LOCATION;VALUE=URI;X-ADDRESS=REZ Library 615 15th Street West Hastings MN 55033 United States;X-APPLE-RADIUS=500;X-TITLE=615 15th Street West:geo:-92.8595028,44.7309452
END:VEVENT
BEGIN:VEVENT
DTSTART;TZID=America/Chicago:20151122T133000
DTEND;TZID=America/Chicago:20151122T153000
DTSTAMP:20260423T082452
CREATED:20151030T150808Z
LAST-MODIFIED:20151030T150808Z
UID:10001697-1448199000-1448206200@rezumc.org
SUMMARY:Grief Support: Surviving the Holidays
DESCRIPTION:[efsflexvideo type=”vimeo” url=”https://vimeo.com/144981077″ allowfullscreen=”yes” widescreen=”yes” width=”500″ height=”281″/] \nThe holidays can be very difficult if you have experienced the loss of someone you love. If you need support\, you are invited to a “Surviving the Holidays” presentation on Sun. Nov. 22 @ 1:30 pm in the library. \n[contact-form-7 id=”1221″ title=”Event Registration_Griefshare”]
URL:https://rezumc.org/event/grief-support-2/
LOCATION:REZ Library\, 615 15th Street West\, Hastings\, MN\, 55033\, United States
ATTACH;FMTTYPE=image/jpeg:https://rezumc.org/wp-content/uploads/2015/10/red-ball-on-branch2.jpg
GEO:44.7309452;-92.8595028
X-APPLE-STRUCTURED-LOCATION;VALUE=URI;X-ADDRESS=REZ Library 615 15th Street West Hastings MN 55033 United States;X-APPLE-RADIUS=500;X-TITLE=615 15th Street West:geo:-92.8595028,44.7309452
END:VEVENT
BEGIN:VEVENT
DTSTART;TZID=America/Chicago:20151122T133000
DTEND;TZID=America/Chicago:20151122T153000
DTSTAMP:20260423T082452
CREATED:20151030T150808Z
LAST-MODIFIED:20151030T150808Z
UID:10001699-1448199000-1448206200@rezumc.org
SUMMARY:Grief Support: Surviving the Holidays
DESCRIPTION:[efsflexvideo type=”vimeo” url=”https://vimeo.com/144981077″ allowfullscreen=”yes” widescreen=”yes” width=”500″ height=”281″/] \nThe holidays can be very difficult if you have experienced the loss of someone you love. If you need support\, you are invited to a “Surviving the Holidays” presentation on Sun. Nov. 22 @ 1:30 pm in the library. \n[contact-form-7 id=”1221″ title=”Event Registration_Griefshare”]
URL:https://rezumc.org/event/grief-support-3/
LOCATION:REZ Library\, 615 15th Street West\, Hastings\, MN\, 55033\, United States
ATTACH;FMTTYPE=image/jpeg:https://rezumc.org/wp-content/uploads/2015/10/red-ball-on-branch2.jpg
GEO:44.7309452;-92.8595028
X-APPLE-STRUCTURED-LOCATION;VALUE=URI;X-ADDRESS=REZ Library 615 15th Street West Hastings MN 55033 United States;X-APPLE-RADIUS=500;X-TITLE=615 15th Street West:geo:-92.8595028,44.7309452
END:VEVENT
BEGIN:VEVENT
DTSTART;TZID=America/Chicago:20141028T190000
DTEND;TZID=America/Chicago:20141028T203000
DTSTAMP:20260423T082452
CREATED:20141028T180234Z
LAST-MODIFIED:20141028T180234Z
UID:10001580-1414522800-1414528200@rezumc.org
SUMMARY:Beyond The Walls
DESCRIPTION:
URL:https://rezumc.org/event/beyond-the-walls/
LOCATION:REZ Library\, 615 15th Street West\, Hastings\, MN\, 55033\, United States
GEO:44.7309452;-92.8595028
X-APPLE-STRUCTURED-LOCATION;VALUE=URI;X-ADDRESS=REZ Library 615 15th Street West Hastings MN 55033 United States;X-APPLE-RADIUS=500;X-TITLE=615 15th Street West:geo:-92.8595028,44.7309452
END:VEVENT
BEGIN:VEVENT
DTSTART;TZID=America/Chicago:20141028T190000
DTEND;TZID=America/Chicago:20141028T203000
DTSTAMP:20260423T082452
CREATED:20141028T180234Z
LAST-MODIFIED:20141028T180234Z
UID:10001582-1414522800-1414528200@rezumc.org
SUMMARY:Beyond The Walls
DESCRIPTION:
URL:https://rezumc.org/event/beyond-the-walls-2/
LOCATION:REZ Library\, 615 15th Street West\, Hastings\, MN\, 55033\, United States
GEO:44.7309452;-92.8595028
X-APPLE-STRUCTURED-LOCATION;VALUE=URI;X-ADDRESS=REZ Library 615 15th Street West Hastings MN 55033 United States;X-APPLE-RADIUS=500;X-TITLE=615 15th Street West:geo:-92.8595028,44.7309452
END:VEVENT
BEGIN:VEVENT
DTSTART;TZID=America/Chicago:20141028T190000
DTEND;TZID=America/Chicago:20141028T203000
DTSTAMP:20260423T082452
CREATED:20141028T180234Z
LAST-MODIFIED:20141028T180234Z
UID:10001710-1414522800-1414528200@rezumc.org
SUMMARY:Beyond The Walls
DESCRIPTION:
URL:https://rezumc.org/event/beyond-the-walls-3/
LOCATION:REZ Library\, 615 15th Street West\, Hastings\, MN\, 55033\, United States
GEO:44.7309452;-92.8595028
X-APPLE-STRUCTURED-LOCATION;VALUE=URI;X-ADDRESS=REZ Library 615 15th Street West Hastings MN 55033 United States;X-APPLE-RADIUS=500;X-TITLE=615 15th Street West:geo:-92.8595028,44.7309452
END:VEVENT
END:VCALENDAR