BEGIN:VCALENDAR
VERSION:2.0
PRODID:-//Resurrection United Methodist Church of Hastings - ECPv6.15.20//NONSGML v1.0//EN
CALSCALE:GREGORIAN
METHOD:PUBLISH
X-ORIGINAL-URL:https://rezumc.org
X-WR-CALDESC:Events for Resurrection United Methodist Church of Hastings
REFRESH-INTERVAL;VALUE=DURATION:PT1H
X-Robots-Tag:noindex
X-PUBLISHED-TTL:PT1H
BEGIN:VTIMEZONE
TZID:America/Chicago
BEGIN:DAYLIGHT
TZOFFSETFROM:-0600
TZOFFSETTO:-0500
TZNAME:CDT
DTSTART:20250309T080000
END:DAYLIGHT
BEGIN:STANDARD
TZOFFSETFROM:-0500
TZOFFSETTO:-0600
TZNAME:CST
DTSTART:20251102T070000
END:STANDARD
BEGIN:DAYLIGHT
TZOFFSETFROM:-0600
TZOFFSETTO:-0500
TZNAME:CDT
DTSTART:20260308T080000
END:DAYLIGHT
BEGIN:STANDARD
TZOFFSETFROM:-0500
TZOFFSETTO:-0600
TZNAME:CST
DTSTART:20261101T070000
END:STANDARD
BEGIN:DAYLIGHT
TZOFFSETFROM:-0600
TZOFFSETTO:-0500
TZNAME:CDT
DTSTART:20270314T080000
END:DAYLIGHT
BEGIN:STANDARD
TZOFFSETFROM:-0500
TZOFFSETTO:-0600
TZNAME:CST
DTSTART:20271107T070000
END:STANDARD
END:VTIMEZONE
BEGIN:VEVENT
DTSTART;TZID=America/Chicago:20260422T180000
DTEND;TZID=America/Chicago:20260422T183000
DTSTAMP:20260421T050306
CREATED:20260419T154600Z
LAST-MODIFIED:20260419T154600Z
UID:10003531-1776880800-1776882600@rezumc.org
SUMMARY:Dinner On Us
DESCRIPTION:It’s Wednesday community dinner time at Resurrection and you’re invited\, along with anyone else you bring. Cost? Absolutely nothing! Hope you can make it.
URL:https://rezumc.org/event/dinner-on-us-113/
LOCATION:Resurrection Church\, 615 15th Street West\, Hastings\, 55033\, United States
CATEGORIES:rezCommunity,Wednesday Dinner
ATTACH;FMTTYPE=image/jpeg:https://rezumc.org/wp-content/uploads/2022/08/wednesday-dinners-s.jpg
GEO:44.7309452;-92.8595028
X-APPLE-STRUCTURED-LOCATION;VALUE=URI;X-ADDRESS=Resurrection Church 615 15th Street West Hastings 55033 United States;X-APPLE-RADIUS=500;X-TITLE=615 15th Street West:geo:-92.8595028,44.7309452
END:VEVENT
BEGIN:VEVENT
DTSTART;TZID=America/Chicago:20260422T183000
DTEND;TZID=America/Chicago:20260422T200000
DTSTAMP:20260421T050306
CREATED:20260419T154452Z
LAST-MODIFIED:20260419T154452Z
UID:10003529-1776882600-1776888000@rezumc.org
SUMMARY:rezYouth Oasis
DESCRIPTION:Students in grades 6-12 meet together on Wednesdays at rezYouth’s Oasis to experience the benefits of a community centered around God. It starts at 6:30p with a few fun\, high-energy games\, then a short\, relevant message given by one of the leaders. Afterward\, students break into small groups to discuss the message more in-depth. BONUS: Come for the free dinner each week at 6:00p!
URL:https://rezumc.org/event/rezyouth-oasis-83/
LOCATION:Resurrection Church\, 615 15th Street West\, Hastings\, 55033\, United States
CATEGORIES:Oasis,Students
ATTACH;FMTTYPE=image/png:https://rezumc.org/wp-content/uploads/2025/10/oasis-logo-RGB-1000px.png
ORGANIZER;CN="Isaiah Curtis":MAILTO:isaiah@rezumc.org
GEO:44.7309452;-92.8595028
X-APPLE-STRUCTURED-LOCATION;VALUE=URI;X-ADDRESS=Resurrection Church 615 15th Street West Hastings 55033 United States;X-APPLE-RADIUS=500;X-TITLE=615 15th Street West:geo:-92.8595028,44.7309452
END:VEVENT
BEGIN:VEVENT
DTSTART;TZID=America/Chicago:20260502T100000
DTEND;TZID=America/Chicago:20260502T153000
DTSTAMP:20260421T050306
CREATED:20260219T152229Z
LAST-MODIFIED:20260219T194521Z
UID:10003503-1777716000-1777735800@rezumc.org
SUMMARY:Refresh! A Spring Retreat for Women
DESCRIPTION:A quick escape to recharge your soul and reignite your faith! Join us in the spring for this one-day retreat\, full of uplifting teaching\, inspiring worship\, and meaningful fellowship with other women. Step away\, refresh your spirit\, and leave encouraged in your walk with Christ. Hosted by Yours Faithfully Ministries\, the theme of this event will be “Fuel”. Invite some friends and register soon! \nINFO / REGISTRATION\nYou’re blessed when you’ve worked up a good appetite for God. He’s food and drink in the best meal you’ll ever eat.\n– Matthew 5:6
URL:https://rezumc.org/event/refresh-a-spring-retreat-for-women/
LOCATION:Resurrection Church\, 615 15th Street West\, Hastings\, 55033\, United States
CATEGORIES:rezWomen
ATTACH;FMTTYPE=image/jpeg:https://rezumc.org/wp-content/uploads/2026/02/Refresh-Womens-Retreat-2026-s.jpg
GEO:44.7309452;-92.8595028
X-APPLE-STRUCTURED-LOCATION;VALUE=URI;X-ADDRESS=Resurrection Church 615 15th Street West Hastings 55033 United States;X-APPLE-RADIUS=500;X-TITLE=615 15th Street West:geo:-92.8595028,44.7309452
END:VEVENT
BEGIN:VEVENT
DTSTART;TZID=America/Chicago:20260503T080000
DTEND;TZID=America/Chicago:20260503T113000
DTSTAMP:20260421T050306
CREATED:20260412T145108Z
LAST-MODIFIED:20260412T145108Z
UID:10003524-1777795200-1777807800@rezumc.org
SUMMARY:Plant Sale
DESCRIPTION:Get a head start on your gardening at our Annual Plant Sale on Sunday\, MAY 03\, 8-11:30a. A variety of tomato plants\, pepper plants\, and indoor and outdoor flowering plants will be available\, plus something new: patio tomato plants and patio pepper plants ready for your gardening pleasure. All monies from this sale will go directly to St. Joseph Alamano Church\, Kenya. ‘Tuko pamoja’ . . . We are one.
URL:https://rezumc.org/event/plant-sale-2026/
LOCATION:Resurrection Church\, 615 15th Street West\, Hastings\, 55033\, United States
CATEGORIES:rezCommunity
ATTACH;FMTTYPE=image/jpeg:https://rezumc.org/wp-content/uploads/2026/04/plant-sale-s.jpg
GEO:44.7309452;-92.8595028
X-APPLE-STRUCTURED-LOCATION;VALUE=URI;X-ADDRESS=Resurrection Church 615 15th Street West Hastings 55033 United States;X-APPLE-RADIUS=500;X-TITLE=615 15th Street West:geo:-92.8595028,44.7309452
END:VEVENT
BEGIN:VEVENT
DTSTART;TZID=America/Chicago:20260517T080000
DTEND;TZID=America/Chicago:20260517T113000
DTSTAMP:20260421T050306
CREATED:20260416T123844Z
LAST-MODIFIED:20260416T123844Z
UID:10003527-1779004800-1779017400@rezumc.org
SUMMARY:Joy Circle Bake Sale
DESCRIPTION:Do you enjoy homemade bakery goods? On MAY 17\, Joy Circle will be selling delicious treats here from 8-11:30a. Joy Circle meets at REZ every third Tuesday of the month\, 1:00p\, during the school year and features interesting topics and speakers. All are welcome!
URL:https://rezumc.org/event/joy-circle-bake-sale-2026/
LOCATION:Resurrection Church\, 615 15th Street West\, Hastings\, 55033\, United States
CATEGORIES:Joy Circle
ATTACH;FMTTYPE=image/jpeg:https://rezumc.org/wp-content/uploads/2026/04/Joy-Circle-Bake-Sale-2026-s.jpg
GEO:44.7309452;-92.8595028
X-APPLE-STRUCTURED-LOCATION;VALUE=URI;X-ADDRESS=Resurrection Church 615 15th Street West Hastings 55033 United States;X-APPLE-RADIUS=500;X-TITLE=615 15th Street West:geo:-92.8595028,44.7309452
END:VEVENT
BEGIN:VEVENT
DTSTART;VALUE=DATE:20260608
DTEND;VALUE=DATE:20260613
DTSTAMP:20260421T050306
CREATED:20260412T144729Z
LAST-MODIFIED:20260416T132826Z
UID:10003522-1780876800-1781308799@rezumc.org
SUMMARY:VBS Week
DESCRIPTION:Step through the mist into Rainforest Falls\, overflowing with wild waterfalls\, towering trees\, and colorful creatures. Beneath a canopy of chattering birds and howling monkeys\, kids plunge into a lifelong adventure of discovering the nature of God. They’ll explore what it means to be rooted in relationship with God\, their creator\, a safe place in life’s storms. \nRegister your child (ages 5 years through grade 5) for this summer’s VBS (if you have more than three children\, the maximum charge is $60 per family (not including t-shirts). VBS meets from 9:00a to noon through the entire week of June 8-12\, 2026. Register today! \nREGISTER FOR VBSWANT TO VOLUNTEER?
URL:https://rezumc.org/event/vbs-week-2026/
LOCATION:Resurrection Church\, 615 15th Street West\, Hastings\, 55033\, United States
CATEGORIES:rezKids
ATTACH;FMTTYPE=image/jpeg:https://rezumc.org/wp-content/uploads/2026/04/2026-VBS-s.jpg
ORGANIZER;CN="Dayna Steinke":MAILTO:dayna@rezumc.org
GEO:44.7309452;-92.8595028
X-APPLE-STRUCTURED-LOCATION;VALUE=URI;X-ADDRESS=Resurrection Church 615 15th Street West Hastings 55033 United States;X-APPLE-RADIUS=500;X-TITLE=615 15th Street West:geo:-92.8595028,44.7309452
END:VEVENT
END:VCALENDAR