BEGIN:VCALENDAR
VERSION:2.0
PRODID:-//Resurrection United Methodist Church of Hastings - ECPv6.15.20//NONSGML v1.0//EN
CALSCALE:GREGORIAN
METHOD:PUBLISH
X-WR-CALNAME:Resurrection United Methodist Church of Hastings
X-ORIGINAL-URL:https://rezumc.org
X-WR-CALDESC:Events for Resurrection United Methodist Church of Hastings
REFRESH-INTERVAL;VALUE=DURATION:PT1H
X-Robots-Tag:noindex
X-PUBLISHED-TTL:PT1H
BEGIN:VTIMEZONE
TZID:America/Chicago
BEGIN:DAYLIGHT
TZOFFSETFROM:-0600
TZOFFSETTO:-0500
TZNAME:CDT
DTSTART:20140309T080000
END:DAYLIGHT
BEGIN:STANDARD
TZOFFSETFROM:-0500
TZOFFSETTO:-0600
TZNAME:CST
DTSTART:20141102T070000
END:STANDARD
BEGIN:DAYLIGHT
TZOFFSETFROM:-0600
TZOFFSETTO:-0500
TZNAME:CDT
DTSTART:20150308T080000
END:DAYLIGHT
BEGIN:STANDARD
TZOFFSETFROM:-0500
TZOFFSETTO:-0600
TZNAME:CST
DTSTART:20151101T070000
END:STANDARD
BEGIN:DAYLIGHT
TZOFFSETFROM:-0600
TZOFFSETTO:-0500
TZNAME:CDT
DTSTART:20160313T080000
END:DAYLIGHT
BEGIN:STANDARD
TZOFFSETFROM:-0500
TZOFFSETTO:-0600
TZNAME:CST
DTSTART:20161106T070000
END:STANDARD
BEGIN:DAYLIGHT
TZOFFSETFROM:-0600
TZOFFSETTO:-0500
TZNAME:CDT
DTSTART:20170312T080000
END:DAYLIGHT
BEGIN:STANDARD
TZOFFSETFROM:-0500
TZOFFSETTO:-0600
TZNAME:CST
DTSTART:20171105T070000
END:STANDARD
BEGIN:DAYLIGHT
TZOFFSETFROM:-0600
TZOFFSETTO:-0500
TZNAME:CDT
DTSTART:20180311T080000
END:DAYLIGHT
BEGIN:STANDARD
TZOFFSETFROM:-0500
TZOFFSETTO:-0600
TZNAME:CST
DTSTART:20181104T070000
END:STANDARD
BEGIN:DAYLIGHT
TZOFFSETFROM:-0600
TZOFFSETTO:-0500
TZNAME:CDT
DTSTART:20190310T080000
END:DAYLIGHT
BEGIN:STANDARD
TZOFFSETFROM:-0500
TZOFFSETTO:-0600
TZNAME:CST
DTSTART:20191103T070000
END:STANDARD
BEGIN:DAYLIGHT
TZOFFSETFROM:-0600
TZOFFSETTO:-0500
TZNAME:CDT
DTSTART:20200308T080000
END:DAYLIGHT
BEGIN:STANDARD
TZOFFSETFROM:-0500
TZOFFSETTO:-0600
TZNAME:CST
DTSTART:20201101T070000
END:STANDARD
END:VTIMEZONE
BEGIN:VEVENT
DTSTART;TZID=America/Chicago:20190619T170000
DTEND;TZID=America/Chicago:20190619T210000
DTSTAMP:20260424T170836
CREATED:20190613T143400Z
LAST-MODIFIED:20190616T033230Z
UID:10002721-1560963600-1560978000@rezumc.org
SUMMARY:The Extreme Tour-Pioneer Park
DESCRIPTION:This event on Wednesday is open to everyone and uses music to help create a safe and appealing setting where diverse members of the community can come together\, and where people in need can be connected with resources and organizations who can help meet those needs. \nResurrection is helping out the Extreme Tour by feeding this group of twelve lunch and dinner on Tuesday and Wednesday. If you’re able to help out with food\, etc.\, use the button below to let us know. Questions? Contact Cole Klaus. \n[efsbutton style=”” size=”” color_class=”” align=”left” type=”link” target=”false” title=”HELP FEED THE TWELVE” link=”https://rezumc.breezechms.com/form/17fcf6255582672447146491227561534641264″]
URL:https://rezumc.org/event/the-extreme-tour-pioneer-park/
LOCATION:Pioneer Park\, 801 15th Street West\, Hastings\, MN\, 55033\, United States
CATEGORIES:Oasis
ATTACH;FMTTYPE=image/jpeg:https://rezumc.org/wp-content/uploads/2019/06/extreme-tour-c-s.jpg
ORGANIZER;CN="Cole Klaus":MAILTO:cole@rezumc.org
GEO:44.7306099;-92.86152
X-APPLE-STRUCTURED-LOCATION;VALUE=URI;X-ADDRESS=Pioneer Park 801 15th Street West Hastings MN 55033 United States;X-APPLE-RADIUS=500;X-TITLE=801 15th Street West:geo:-92.86152,44.7306099
END:VEVENT
BEGIN:VEVENT
DTSTART;TZID=America/Chicago:20190619T170000
DTEND;TZID=America/Chicago:20190619T210000
DTSTAMP:20260424T170836
CREATED:20190613T143400Z
LAST-MODIFIED:20190613T143400Z
UID:10002723-1560963600-1560978000@rezumc.org
SUMMARY:The Extreme Tour-Pioneer Park
DESCRIPTION:This event on Wednesday is open to everyone and uses music to help create a safe and appealing setting where diverse members of the community can come together\, and where people in need can be connected with resources and organizations who can help meet those needs. \nResurrection is helping out the Extreme Tour by feeding this group of twelve lunch and dinner on Tuesday and Wednesday. If you’re able to help out with food\, etc.\, use the button below to let us know. Questions? Contact Cole Klaus. \n[efsbutton style=”” size=”” color_class=”” align=”left” type=”link” target=”false” title=”HELP FEED THE TWELVE” link=”https://rezumc.breezechms.com/form/17fcf6255582672447146491227561534641264″]
URL:https://rezumc.org/event/the-extreme-tour-pioneer-park-2/
LOCATION:Pioneer Park\, 801 15th Street West\, Hastings\, MN\, 55033\, United States
CATEGORIES:Oasis
ATTACH;FMTTYPE=image/jpeg:https://rezumc.org/wp-content/uploads/2019/06/extreme-tour-c-s.jpg
ORGANIZER;CN="Cole Klaus":MAILTO:cole@rezumc.org
GEO:44.7306099;-92.86152
X-APPLE-STRUCTURED-LOCATION;VALUE=URI;X-ADDRESS=Pioneer Park 801 15th Street West Hastings MN 55033 United States;X-APPLE-RADIUS=500;X-TITLE=801 15th Street West:geo:-92.86152,44.7306099
END:VEVENT
BEGIN:VEVENT
DTSTART;TZID=America/Chicago:20180818T150000
DTEND;TZID=America/Chicago:20180818T190000
DTSTAMP:20260424T170836
CREATED:20180723T133409Z
LAST-MODIFIED:20180801T173927Z
UID:10001956-1534604400-1534618800@rezumc.org
SUMMARY:Party at Pioneer Park
DESCRIPTION:We’re taking over Pioneer Park on Saturday\, August 18th\, from 3:00–6:00 pm for an awesome all-church\, all-community celebration in our neighborhood with:\n– Bouncy house/inflatables\n– Bunch of fun games\n– Free food (while it lasts)\n– Amazing food from the Blue Coconut BBQ food truck\nIt’s a great chance to invite/meet neighbors\, have fun\, catch up with friends and relax. Please bring a school supply for donating to Hastings Family Service\, too. At 6 pm\, Overflow band will be filling the air with extended worship to cap things off. If the weather doesn’t cooperate\, we’ll haul everything inside and have an indoor party. Hope you can make it! \n\n[efsbutton class=”” style=”” size=”” color_class=”” align=”left” type=”link” target=”false” title=”I want to help at the party!” link=”https://airtable.com/shr5aHo1ti25m2KlW”]
URL:https://rezumc.org/event/party-at-pioneer/
LOCATION:Pioneer Park\, 801 15th Street West\, Hastings\, MN\, 55033\, United States
CATEGORIES:rezCommunity,rezKids,rezMen,Students
ATTACH;FMTTYPE=image/jpeg:https://rezumc.org/wp-content/uploads/2018/07/Party_Pioneer_screen-s.jpg
GEO:44.7306099;-92.86152
X-APPLE-STRUCTURED-LOCATION;VALUE=URI;X-ADDRESS=Pioneer Park 801 15th Street West Hastings MN 55033 United States;X-APPLE-RADIUS=500;X-TITLE=801 15th Street West:geo:-92.86152,44.7306099
END:VEVENT
BEGIN:VEVENT
DTSTART;TZID=America/Chicago:20180818T150000
DTEND;TZID=America/Chicago:20180818T190000
DTSTAMP:20260424T170836
CREATED:20180723T133409Z
LAST-MODIFIED:20180723T133409Z
UID:10002930-1534604400-1534618800@rezumc.org
SUMMARY:Party at Pioneer Park
DESCRIPTION:We’re taking over Pioneer Park on Saturday\, August 18th\, from 3:00–6:00 pm for an awesome all-church\, all-community celebration in our neighborhood with:\n– Bouncy house/inflatables\n– Bunch of fun games\n– Free food (while it lasts)\n– Amazing food from the Blue Coconut BBQ food truck\nIt’s a great chance to invite/meet neighbors\, have fun\, catch up with friends and relax. Please bring a school supply for donating to Hastings Family Service\, too. At 6 pm\, Overflow band will be filling the air with extended worship to cap things off. If the weather doesn’t cooperate\, we’ll haul everything inside and have an indoor party. Hope you can make it! \n\n[efsbutton class=”” style=”” size=”” color_class=”” align=”left” type=”link” target=”false” title=”I want to help at the party!” link=”https://airtable.com/shr5aHo1ti25m2KlW”]
URL:https://rezumc.org/event/party-at-pioneer-2/
LOCATION:Pioneer Park\, 801 15th Street West\, Hastings\, MN\, 55033\, United States
CATEGORIES:rezCommunity,rezKids,rezMen,Students
ATTACH;FMTTYPE=image/jpeg:https://rezumc.org/wp-content/uploads/2018/07/Party_Pioneer_screen-s.jpg
GEO:44.7306099;-92.86152
X-APPLE-STRUCTURED-LOCATION;VALUE=URI;X-ADDRESS=Pioneer Park 801 15th Street West Hastings MN 55033 United States;X-APPLE-RADIUS=500;X-TITLE=801 15th Street West:geo:-92.86152,44.7306099
END:VEVENT
BEGIN:VEVENT
DTSTART;TZID=America/Chicago:20150812T150000
DTEND;TZID=America/Chicago:20150812T170000
DTSTAMP:20260424T170836
CREATED:20150806T234414Z
LAST-MODIFIED:20150807T013550Z
UID:10002045-1439391600-1439398800@rezumc.org
SUMMARY:Wet\, Wacky\, Wild\, Wonderful Wednesday
DESCRIPTION:Super fun in the park from 3:00 to 5:00 on Wednesday with a meal served at 5:00 (hot dogs\, fruit\, chips\, icees). Open to kids ages 4 thru 4th grade (older kids may help and earn CAMPER BUCKS); pre-registration is appreciated. Sign up online or call. \n[contact-form-7 id=”914″ title=”Event Registration_Wild Wednesday”]
URL:https://rezumc.org/event/wet-wacky-wild-wonderful-wednesday/
LOCATION:Pioneer Park\, 801 15th Street West\, Hastings\, MN\, 55033\, United States
ATTACH;FMTTYPE=image/jpeg:https://rezumc.org/wp-content/uploads/2015/08/WWWWwed1.jpg
ORGANIZER;CN="4Kids":MAILTO:julie@hastingsumc.org
GEO:44.7306099;-92.86152
X-APPLE-STRUCTURED-LOCATION;VALUE=URI;X-ADDRESS=Pioneer Park 801 15th Street West Hastings MN 55033 United States;X-APPLE-RADIUS=500;X-TITLE=801 15th Street West:geo:-92.86152,44.7306099
END:VEVENT
BEGIN:VEVENT
DTSTART;TZID=America/Chicago:20150812T150000
DTEND;TZID=America/Chicago:20150812T170000
DTSTAMP:20260424T170836
CREATED:20150806T234414Z
LAST-MODIFIED:20150806T234414Z
UID:10002044-1439391600-1439398800@rezumc.org
SUMMARY:Wet\, Wacky\, Wild\, Wonderful Wednesday
DESCRIPTION:Super fun in the park from 3:00 to 5:00 on Wednesday with a meal served at 5:00 (hot dogs\, fruit\, chips\, icees). Open to kids ages 4 thru 4th grade (older kids may help and earn CAMPER BUCKS); pre-registration is appreciated. Sign up online or call. \n[contact-form-7 id=”914″ title=”Event Registration_Wild Wednesday”]
URL:https://rezumc.org/event/wet-wacky-wild-wonderful-wednesday-2/
LOCATION:Pioneer Park\, 801 15th Street West\, Hastings\, MN\, 55033\, United States
ATTACH;FMTTYPE=image/jpeg:https://rezumc.org/wp-content/uploads/2015/08/WWWWwed1.jpg
ORGANIZER;CN="4Kids":MAILTO:julie@hastingsumc.org
GEO:44.7306099;-92.86152
X-APPLE-STRUCTURED-LOCATION;VALUE=URI;X-ADDRESS=Pioneer Park 801 15th Street West Hastings MN 55033 United States;X-APPLE-RADIUS=500;X-TITLE=801 15th Street West:geo:-92.86152,44.7306099
END:VEVENT
BEGIN:VEVENT
DTSTART;TZID=America/Chicago:20150812T150000
DTEND;TZID=America/Chicago:20150812T170000
DTSTAMP:20260424T170836
CREATED:20150806T234414Z
LAST-MODIFIED:20150806T234414Z
UID:10002043-1439391600-1439398800@rezumc.org
SUMMARY:Wet\, Wacky\, Wild\, Wonderful Wednesday
DESCRIPTION:Super fun in the park from 3:00 to 5:00 on Wednesday with a meal served at 5:00 (hot dogs\, fruit\, chips\, icees). Open to kids ages 4 thru 4th grade (older kids may help and earn CAMPER BUCKS); pre-registration is appreciated. Sign up online or call. \n[contact-form-7 id=”914″ title=”Event Registration_Wild Wednesday”]
URL:https://rezumc.org/event/wet-wacky-wild-wonderful-wednesday-3/
LOCATION:Pioneer Park\, 801 15th Street West\, Hastings\, MN\, 55033\, United States
ATTACH;FMTTYPE=image/jpeg:https://rezumc.org/wp-content/uploads/2015/08/WWWWwed1.jpg
ORGANIZER;CN="4Kids":MAILTO:julie@hastingsumc.org
GEO:44.7306099;-92.86152
X-APPLE-STRUCTURED-LOCATION;VALUE=URI;X-ADDRESS=Pioneer Park 801 15th Street West Hastings MN 55033 United States;X-APPLE-RADIUS=500;X-TITLE=801 15th Street West:geo:-92.86152,44.7306099
END:VEVENT
END:VCALENDAR