BEGIN:VCALENDAR
VERSION:2.0
PRODID:-//Resurrection United Methodist Church of Hastings - ECPv6.15.20//NONSGML v1.0//EN
CALSCALE:GREGORIAN
METHOD:PUBLISH
X-WR-CALNAME:Resurrection United Methodist Church of Hastings
X-ORIGINAL-URL:https://rezumc.org
X-WR-CALDESC:Events for Resurrection United Methodist Church of Hastings
REFRESH-INTERVAL;VALUE=DURATION:PT1H
X-Robots-Tag:noindex
X-PUBLISHED-TTL:PT1H
BEGIN:VTIMEZONE
TZID:America/Chicago
BEGIN:DAYLIGHT
TZOFFSETFROM:-0600
TZOFFSETTO:-0500
TZNAME:CDT
DTSTART:20140309T080000
END:DAYLIGHT
BEGIN:STANDARD
TZOFFSETFROM:-0500
TZOFFSETTO:-0600
TZNAME:CST
DTSTART:20141102T070000
END:STANDARD
BEGIN:DAYLIGHT
TZOFFSETFROM:-0600
TZOFFSETTO:-0500
TZNAME:CDT
DTSTART:20150308T080000
END:DAYLIGHT
BEGIN:STANDARD
TZOFFSETFROM:-0500
TZOFFSETTO:-0600
TZNAME:CST
DTSTART:20151101T070000
END:STANDARD
BEGIN:DAYLIGHT
TZOFFSETFROM:-0600
TZOFFSETTO:-0500
TZNAME:CDT
DTSTART:20160313T080000
END:DAYLIGHT
BEGIN:STANDARD
TZOFFSETFROM:-0500
TZOFFSETTO:-0600
TZNAME:CST
DTSTART:20161106T070000
END:STANDARD
BEGIN:DAYLIGHT
TZOFFSETFROM:-0600
TZOFFSETTO:-0500
TZNAME:CDT
DTSTART:20170312T080000
END:DAYLIGHT
BEGIN:STANDARD
TZOFFSETFROM:-0500
TZOFFSETTO:-0600
TZNAME:CST
DTSTART:20171105T070000
END:STANDARD
BEGIN:DAYLIGHT
TZOFFSETFROM:-0600
TZOFFSETTO:-0500
TZNAME:CDT
DTSTART:20180311T080000
END:DAYLIGHT
BEGIN:STANDARD
TZOFFSETFROM:-0500
TZOFFSETTO:-0600
TZNAME:CST
DTSTART:20181104T070000
END:STANDARD
BEGIN:DAYLIGHT
TZOFFSETFROM:-0600
TZOFFSETTO:-0500
TZNAME:CDT
DTSTART:20190310T080000
END:DAYLIGHT
BEGIN:STANDARD
TZOFFSETFROM:-0500
TZOFFSETTO:-0600
TZNAME:CST
DTSTART:20191103T070000
END:STANDARD
BEGIN:DAYLIGHT
TZOFFSETFROM:-0600
TZOFFSETTO:-0500
TZNAME:CDT
DTSTART:20200308T080000
END:DAYLIGHT
BEGIN:STANDARD
TZOFFSETFROM:-0500
TZOFFSETTO:-0600
TZNAME:CST
DTSTART:20201101T070000
END:STANDARD
END:VTIMEZONE
BEGIN:VEVENT
DTSTART;VALUE=DATE:20190305
DTEND;VALUE=DATE:20190306
DTSTAMP:20260421T032717
CREATED:20190208T200624Z
LAST-MODIFIED:20190208T200624Z
UID:10002783-1551744000-1551830399@rezumc.org
SUMMARY:Fundraiser from Green Mill Pizza - March 5th
DESCRIPTION:Present this voucher (use link below) at the Green Mill Restaurant in Hastings on Tuesday\, March 5\, 2019\, and 15% of your total bill will go back to support Resurrection UMC. That simple. \n[efsbutton style=”” size=”” color_class=”” align=”left” type=”link” target=”false” title=”COUPON” link=”https://rezumc.org/wp-content/uploads/2019/02/Screenshot-2019-02-08-14.02.26.png”]
URL:https://rezumc.org/event/car-wash-fundraiser-at-green-mill-pizza-2/
LOCATION:Green Mill Pizza\, 909 Vermillion St.\, Hastings\, MN\, 55033
CATEGORIES:rezCommunity,rezLife
ATTACH;FMTTYPE=image/png:https://rezumc.org/wp-content/uploads/2019/02/Screenshot-2019-02-08-14.02.26.png
GEO:44.737286;-92.8518664
X-APPLE-STRUCTURED-LOCATION;VALUE=URI;X-ADDRESS=Green Mill Pizza 909 Vermillion St. Hastings MN 55033;X-APPLE-RADIUS=500;X-TITLE=909 Vermillion St.:geo:-92.8518664,44.737286
END:VEVENT
BEGIN:VEVENT
DTSTART;VALUE=DATE:20190305
DTEND;VALUE=DATE:20190306
DTSTAMP:20260421T032717
CREATED:20190208T200624Z
LAST-MODIFIED:20190208T200624Z
UID:10002048-1551744000-1551830399@rezumc.org
SUMMARY:Fundraiser from Green Mill Pizza - March 5th
DESCRIPTION:Present this voucher (use link below) at the Green Mill Restaurant in Hastings on Tuesday\, March 5\, 2019\, and 15% of your total bill will go back to support Resurrection UMC. That simple. \n[efsbutton style=”” size=”” color_class=”” align=”left” type=”link” target=”false” title=”COUPON” link=”https://www.rezumc.org/wp-content/uploads/2019/02/Screenshot-2019-02-08-14.02.26.png”]
URL:https://rezumc.org/event/car-wash-fundraiser-at-green-mill-pizza-2-2/
LOCATION:Green Mill Pizza\, 909 Vermillion St.\, Hastings\, MN\, 55033
CATEGORIES:rezCommunity,rezLife
ATTACH;FMTTYPE=image/png:https://rezumc.org/wp-content/uploads/2019/02/Screenshot-2019-02-08-14.02.26.png
GEO:44.737286;-92.8518664
X-APPLE-STRUCTURED-LOCATION;VALUE=URI;X-ADDRESS=Green Mill Pizza 909 Vermillion St. Hastings MN 55033;X-APPLE-RADIUS=500;X-TITLE=909 Vermillion St.:geo:-92.8518664,44.737286
END:VEVENT
BEGIN:VEVENT
DTSTART;TZID=America/Chicago:20150531T120000
DTEND;TZID=America/Chicago:20150531T170000
DTSTAMP:20260421T032717
CREATED:20150529T145324Z
LAST-MODIFIED:20150529T202731Z
UID:10001986-1433073600-1433091600@rezumc.org
SUMMARY:Car Wash Fundraiser at Green Mill Pizza
DESCRIPTION:Get that car washed this Sunday after church to help support Summer Sizzler Camp Scholarships and our youth group.
URL:https://rezumc.org/event/car-wash-fundraiser-at-green-mill-pizza/
LOCATION:Green Mill Pizza\, 909 Vermillion St.\, Hastings\, MN\, 55033
ATTACH;FMTTYPE=image/jpeg:https://rezumc.org/wp-content/uploads/2015/05/11091014_10153419331073846_831122088523317652_o.jpg
GEO:44.737286;-92.8518664
X-APPLE-STRUCTURED-LOCATION;VALUE=URI;X-ADDRESS=Green Mill Pizza 909 Vermillion St. Hastings MN 55033;X-APPLE-RADIUS=500;X-TITLE=909 Vermillion St.:geo:-92.8518664,44.737286
END:VEVENT
BEGIN:VEVENT
DTSTART;TZID=America/Chicago:20150531T120000
DTEND;TZID=America/Chicago:20150531T170000
DTSTAMP:20260421T032717
CREATED:20150529T145324Z
LAST-MODIFIED:20150529T145324Z
UID:10001984-1433073600-1433091600@rezumc.org
SUMMARY:Car Wash Fundraiser at Green Mill Pizza
DESCRIPTION:Get that car washed this Sunday after church to help support Summer Sizzler Camp Scholarships and our youth group.
URL:https://rezumc.org/event/car-wash-fundraiser-at-green-mill-pizza-3/
LOCATION:Green Mill Pizza\, 909 Vermillion St.\, Hastings\, MN\, 55033
ATTACH;FMTTYPE=image/jpeg:https://rezumc.org/wp-content/uploads/2015/05/11091014_10153419331073846_831122088523317652_o.jpg
GEO:44.737286;-92.8518664
X-APPLE-STRUCTURED-LOCATION;VALUE=URI;X-ADDRESS=Green Mill Pizza 909 Vermillion St. Hastings MN 55033;X-APPLE-RADIUS=500;X-TITLE=909 Vermillion St.:geo:-92.8518664,44.737286
END:VEVENT
BEGIN:VEVENT
DTSTART;TZID=America/Chicago:20150531T120000
DTEND;TZID=America/Chicago:20150531T170000
DTSTAMP:20260421T032717
CREATED:20150529T145324Z
LAST-MODIFIED:20150529T145324Z
UID:10001982-1433073600-1433091600@rezumc.org
SUMMARY:Car Wash Fundraiser at Green Mill Pizza
DESCRIPTION:Get that car washed this Sunday after church to help support Summer Sizzler Camp Scholarships and our youth group.
URL:https://rezumc.org/event/car-wash-fundraiser-at-green-mill-pizza-4/
LOCATION:Green Mill Pizza\, 909 Vermillion St.\, Hastings\, MN\, 55033
ATTACH;FMTTYPE=image/jpeg:https://rezumc.org/wp-content/uploads/2015/05/11091014_10153419331073846_831122088523317652_o.jpg
GEO:44.737286;-92.8518664
X-APPLE-STRUCTURED-LOCATION;VALUE=URI;X-ADDRESS=Green Mill Pizza 909 Vermillion St. Hastings MN 55033;X-APPLE-RADIUS=500;X-TITLE=909 Vermillion St.:geo:-92.8518664,44.737286
END:VEVENT
END:VCALENDAR