BEGIN:VCALENDAR
VERSION:2.0
PRODID:-//Resurrection United Methodist Church of Hastings - ECPv6.15.20//NONSGML v1.0//EN
CALSCALE:GREGORIAN
METHOD:PUBLISH
X-ORIGINAL-URL:https://rezumc.org
X-WR-CALDESC:Events for Resurrection United Methodist Church of Hastings
REFRESH-INTERVAL;VALUE=DURATION:PT1H
X-Robots-Tag:noindex
X-PUBLISHED-TTL:PT1H
BEGIN:VTIMEZONE
TZID:America/Chicago
BEGIN:DAYLIGHT
TZOFFSETFROM:-0600
TZOFFSETTO:-0500
TZNAME:CDT
DTSTART:20160313T080000
END:DAYLIGHT
BEGIN:STANDARD
TZOFFSETFROM:-0500
TZOFFSETTO:-0600
TZNAME:CST
DTSTART:20161106T070000
END:STANDARD
BEGIN:DAYLIGHT
TZOFFSETFROM:-0600
TZOFFSETTO:-0500
TZNAME:CDT
DTSTART:20170312T080000
END:DAYLIGHT
BEGIN:STANDARD
TZOFFSETFROM:-0500
TZOFFSETTO:-0600
TZNAME:CST
DTSTART:20171105T070000
END:STANDARD
BEGIN:DAYLIGHT
TZOFFSETFROM:-0600
TZOFFSETTO:-0500
TZNAME:CDT
DTSTART:20180311T080000
END:DAYLIGHT
BEGIN:STANDARD
TZOFFSETFROM:-0500
TZOFFSETTO:-0600
TZNAME:CST
DTSTART:20181104T070000
END:STANDARD
BEGIN:DAYLIGHT
TZOFFSETFROM:-0600
TZOFFSETTO:-0500
TZNAME:CDT
DTSTART:20190310T080000
END:DAYLIGHT
BEGIN:STANDARD
TZOFFSETFROM:-0500
TZOFFSETTO:-0600
TZNAME:CST
DTSTART:20191103T070000
END:STANDARD
END:VTIMEZONE
BEGIN:VEVENT
DTSTART;TZID=America/Chicago:20180414T090000
DTEND;TZID=America/Chicago:20180414T103000
DTSTAMP:20260424T230338
CREATED:20180317T130116Z
LAST-MODIFIED:20180317T130116Z
UID:10001917-1523696400-1523701800@rezumc.org
SUMMARY:Arise with the Guys
DESCRIPTION:is an annual event at Grace Church where professional and collegiate Christian athletes share their inspirational messages of faith\, godly values\, and legacy-building. Featuring Tony Dungy\, Case Keenum and Adam Thielen. Tickets are $19 each and we have 20 reserved seats in the main auditorium. First come\, first served. Let us know if you want to go and we’ll reserve a ticket for you! We will car pool to the event from Resurrection UMC\, leaving at 7:30 am. Limited number of tickets.\n[efsbutton style=”” size=”” color_class=”” align=”left” type=”link” target=”false” title=”SIGN UP” link=”https://rezumc.breezechms.com/form/63d7a78775669″]
URL:https://rezumc.org/event/arise-with-the-guys-2/
LOCATION:Grace Church\, 9301 Eden Prarie Drive\, Eden Prairie\, MN\, 55347
ATTACH;FMTTYPE=image/jpeg:https://rezumc.org/wp-content/uploads/2018/03/Screenshot-2018-03-17-07.38.50-s.jpg
GEO:44.8354393;-93.4779249
X-APPLE-STRUCTURED-LOCATION;VALUE=URI;X-ADDRESS=Grace Church 9301 Eden Prarie Drive Eden Prairie MN 55347;X-APPLE-RADIUS=500;X-TITLE=9301 Eden Prarie Drive:geo:-93.4779249,44.8354393
END:VEVENT
BEGIN:VEVENT
DTSTART;TZID=America/Chicago:20180414T090000
DTEND;TZID=America/Chicago:20180414T103000
DTSTAMP:20260424T230338
CREATED:20180317T130116Z
LAST-MODIFIED:20180317T130116Z
UID:10001918-1523696400-1523701800@rezumc.org
SUMMARY:Arise with the Guys
DESCRIPTION:is an annual event at Grace Church where professional and collegiate Christian athletes share their inspirational messages of faith\, godly values\, and legacy-building. Featuring Tony Dungy\, Case Keenum and Adam Thielen. Tickets are $19 each and we have 20 reserved seats in the main auditorium. First come\, first served. Let us know if you want to go and we’ll reserve a ticket for you! We will car pool to the event from Resurrection UMC\, leaving at 7:30 am. Limited number of tickets.\n[efsbutton style=”” size=”” color_class=”” align=”left” type=”link” target=”false” title=”SIGN UP” link=”https://rezumc.breezechms.com/form/63d7a78775669″]
URL:https://rezumc.org/event/arise-with-the-guys-2-2/
LOCATION:Grace Church\, 9301 Eden Prarie Drive\, Eden Prairie\, MN\, 55347
ATTACH;FMTTYPE=image/jpeg:https://rezumc.org/wp-content/uploads/2018/03/Screenshot-2018-03-17-07.38.50-s.jpg
GEO:44.8354393;-93.4779249
X-APPLE-STRUCTURED-LOCATION;VALUE=URI;X-ADDRESS=Grace Church 9301 Eden Prarie Drive Eden Prairie MN 55347;X-APPLE-RADIUS=500;X-TITLE=9301 Eden Prarie Drive:geo:-93.4779249,44.8354393
END:VEVENT
BEGIN:VEVENT
DTSTART;TZID=America/Chicago:20170408T090000
DTEND;TZID=America/Chicago:20170408T103000
DTSTAMP:20260424T230338
CREATED:20170326T024418Z
LAST-MODIFIED:20170326T031148Z
UID:10001789-1491642000-1491647400@rezumc.org
SUMMARY:Arise with the Guys
DESCRIPTION:Arise With the Guys is an annual event at Grace Church where professional and collegiate Christian athletes share their inspirational messages of faith\, godly values\, and legacy-building. Featuring Tony Dungy and Peyton Manning. Limited number of tickets.\n[efsbutton style=”” size=”” color_class=”” align=”left” type=”link” target=”false” title=”SIGN UP” link=”https://rezumc.breezechms.com/form/63d7a787756″]
URL:https://rezumc.org/event/arise-with-the-guys/
LOCATION:Grace Church\, 9301 Eden Prarie Drive\, Eden Prairie\, MN\, 55347
ATTACH;FMTTYPE=image/jpeg:https://rezumc.org/wp-content/uploads/2017/03/arise_breeze.jpg
GEO:44.8354393;-93.4779249
X-APPLE-STRUCTURED-LOCATION;VALUE=URI;X-ADDRESS=Grace Church 9301 Eden Prarie Drive Eden Prairie MN 55347;X-APPLE-RADIUS=500;X-TITLE=9301 Eden Prarie Drive:geo:-93.4779249,44.8354393
END:VEVENT
BEGIN:VEVENT
DTSTART;TZID=America/Chicago:20170408T090000
DTEND;TZID=America/Chicago:20170408T103000
DTSTAMP:20260424T230338
CREATED:20170326T024418Z
LAST-MODIFIED:20170326T024418Z
UID:10001790-1491642000-1491647400@rezumc.org
SUMMARY:Arise with the Guys
DESCRIPTION:Arise With the Guys is an annual event at Grace Church where professional and collegiate Christian athletes share their inspirational messages of faith\, godly values\, and legacy-building. Featuring Tony Dungy and Peyton Manning. Limited number of tickets.\n[efsbutton style=”” size=”” color_class=”” align=”left” type=”link” target=”false” title=”SIGN UP” link=”https://rezumc.breezechms.com/form/63d7a787756″]
URL:https://rezumc.org/event/arise-with-the-guys-3/
LOCATION:Grace Church\, 9301 Eden Prarie Drive\, Eden Prairie\, MN\, 55347
ATTACH;FMTTYPE=image/jpeg:https://rezumc.org/wp-content/uploads/2017/03/arise_breeze.jpg
GEO:44.8354393;-93.4779249
X-APPLE-STRUCTURED-LOCATION;VALUE=URI;X-ADDRESS=Grace Church 9301 Eden Prarie Drive Eden Prairie MN 55347;X-APPLE-RADIUS=500;X-TITLE=9301 Eden Prarie Drive:geo:-93.4779249,44.8354393
END:VEVENT
BEGIN:VEVENT
DTSTART;TZID=America/Chicago:20170408T090000
DTEND;TZID=America/Chicago:20170408T103000
DTSTAMP:20260424T230338
CREATED:20170326T024418Z
LAST-MODIFIED:20170326T024418Z
UID:10001791-1491642000-1491647400@rezumc.org
SUMMARY:Arise with the Guys
DESCRIPTION:Arise With the Guys is an annual event at Grace Church where professional and collegiate Christian athletes share their inspirational messages of faith\, godly values\, and legacy-building. Featuring Tony Dungy and Peyton Manning. Limited number of tickets.\n[efsbutton style=”” size=”” color_class=”” align=”left” type=”link” target=”false” title=”SIGN UP” link=”https://rezumc.breezechms.com/form/63d7a787756″]
URL:https://rezumc.org/event/arise-with-the-guys-4/
LOCATION:Grace Church\, 9301 Eden Prarie Drive\, Eden Prairie\, MN\, 55347
ATTACH;FMTTYPE=image/jpeg:https://rezumc.org/wp-content/uploads/2017/03/arise_breeze.jpg
GEO:44.8354393;-93.4779249
X-APPLE-STRUCTURED-LOCATION;VALUE=URI;X-ADDRESS=Grace Church 9301 Eden Prarie Drive Eden Prairie MN 55347;X-APPLE-RADIUS=500;X-TITLE=9301 Eden Prarie Drive:geo:-93.4779249,44.8354393
END:VEVENT
END:VCALENDAR