BEGIN:VCALENDAR
VERSION:2.0
PRODID:-//Resurrection United Methodist Church of Hastings - ECPv6.15.20//NONSGML v1.0//EN
CALSCALE:GREGORIAN
METHOD:PUBLISH
X-ORIGINAL-URL:https://rezumc.org
X-WR-CALDESC:Events for Resurrection United Methodist Church of Hastings
REFRESH-INTERVAL;VALUE=DURATION:PT1H
X-Robots-Tag:noindex
X-PUBLISHED-TTL:PT1H
BEGIN:VTIMEZONE
TZID:America/Chicago
BEGIN:DAYLIGHT
TZOFFSETFROM:-0600
TZOFFSETTO:-0500
TZNAME:CDT
DTSTART:20180311T080000
END:DAYLIGHT
BEGIN:STANDARD
TZOFFSETFROM:-0500
TZOFFSETTO:-0600
TZNAME:CST
DTSTART:20181104T070000
END:STANDARD
BEGIN:DAYLIGHT
TZOFFSETFROM:-0600
TZOFFSETTO:-0500
TZNAME:CDT
DTSTART:20190310T080000
END:DAYLIGHT
BEGIN:STANDARD
TZOFFSETFROM:-0500
TZOFFSETTO:-0600
TZNAME:CST
DTSTART:20191103T070000
END:STANDARD
BEGIN:DAYLIGHT
TZOFFSETFROM:-0600
TZOFFSETTO:-0500
TZNAME:CDT
DTSTART:20200308T080000
END:DAYLIGHT
BEGIN:STANDARD
TZOFFSETFROM:-0500
TZOFFSETTO:-0600
TZNAME:CST
DTSTART:20201101T070000
END:STANDARD
BEGIN:DAYLIGHT
TZOFFSETFROM:-0600
TZOFFSETTO:-0500
TZNAME:CDT
DTSTART:20210314T080000
END:DAYLIGHT
BEGIN:STANDARD
TZOFFSETFROM:-0500
TZOFFSETTO:-0600
TZNAME:CST
DTSTART:20211107T070000
END:STANDARD
END:VTIMEZONE
BEGIN:VEVENT
DTSTART;VALUE=DATE:20201004
DTEND;VALUE=DATE:20201006
DTSTAMP:20260424T110619
CREATED:20200928T211527Z
LAST-MODIFIED:20200929T162256Z
UID:10002282-1601769600-1601942399@rezumc.org
SUMMARY:UMW Craft Sale
DESCRIPTION:Pick up some great crafts at this fall Resurrection UMC event. The Craft Sale takes place outside after each worship service on October 4th & 5th and helps support the mission work of the United Methodist Women. 100% of those monies are used to support the mission work of the United Methodist Women. NOTE: Drop-off items for the sale from September 29–October 1 (Tuesday through Thursday) after 10:00 a.m. 
URL:https://rezumc.org/event/craft-sale-fall-2020/
LOCATION:Resurrection Church\, 615 15th Street West\, Hastings\, 55033\, United States
CATEGORIES:rezCommunity
ATTACH;FMTTYPE=image/jpeg:https://rezumc.org/wp-content/uploads/2020/09/fall-craft-sale-s.jpg
ORGANIZER;CN="Sue Ganzer":MAILTO:sue@rezumc.org
GEO:44.7309452;-92.8595028
X-APPLE-STRUCTURED-LOCATION;VALUE=URI;X-ADDRESS=Resurrection Church 615 15th Street West Hastings 55033 United States;X-APPLE-RADIUS=500;X-TITLE=615 15th Street West:geo:-92.8595028,44.7309452
END:VEVENT
BEGIN:VEVENT
DTSTART;VALUE=DATE:20201004
DTEND;VALUE=DATE:20201006
DTSTAMP:20260424T110619
CREATED:20200928T211527Z
LAST-MODIFIED:20200928T211527Z
UID:10002284-1601769600-1601942399@rezumc.org
SUMMARY:UMW Craft Sale
DESCRIPTION:Pick up some great crafts at this fall Resurrection UMC event. The Craft Sale takes place outside after each worship service on October 4th & 5th and helps support the mission work of the United Methodist Women. 100% of those monies are used to support the mission work of the United Methodist Women. NOTE: Drop-off items for the sale from September 29–October 1 (Tuesday through Thursday) after 10:00 a.m. 
URL:https://rezumc.org/event/craft-sale-fall-2020-2/
LOCATION:Resurrection Church\, 615 15th Street West\, Hastings\, 55033\, United States
CATEGORIES:rezCommunity
ATTACH;FMTTYPE=image/jpeg:https://rezumc.org/wp-content/uploads/2020/09/fall-craft-sale-s.jpg
ORGANIZER;CN="Sue Ganzer":MAILTO:sue@rezumc.org
GEO:44.7309452;-92.8595028
X-APPLE-STRUCTURED-LOCATION;VALUE=URI;X-ADDRESS=Resurrection Church 615 15th Street West Hastings 55033 United States;X-APPLE-RADIUS=500;X-TITLE=615 15th Street West:geo:-92.8595028,44.7309452
END:VEVENT
BEGIN:VEVENT
DTSTART;VALUE=DATE:20191031
DTEND;VALUE=DATE:20191104
DTSTAMP:20260424T110619
CREATED:20190930T212545Z
LAST-MODIFIED:20191005T131834Z
UID:10002125-1572480000-1572825599@rezumc.org
SUMMARY:Unidos en Cristo
DESCRIPTION:Unidos en Cristo (UeC)\, or “United in Christ\,” is a weekend retreat for people seeking to grow in their relationship with Christ.\nMore than 5\,000 people from a variety of churches have attended a Unidos weekend. The experience begins with a structured three-day weekend in an atmosphere of friendship and joy. \nAt an Unidos weekend\, you’ll learn: \n\nto discover yourself and your own worth on a more fundamental level\,\nto experience the presence and love of Jesus Christ\, and\nto become aware of what a loving and caring Christian community can bring to the world.\n\nThis is the first Co-Ed UeC weekend. Although this is not designed as a couple’s weekend (men and women meet separately in their respective gender group)\, both individuals & couples are invited to attend. If anyone is interested in getting more information and/or sponsoring an individual or couple\, please contact Sue Ganzer or the church office (651-437-4398) for more information. \nLearn more about Unidos en Cristo.
URL:https://rezumc.org/event/unidos-en-cristo-2019/
LOCATION:Faith Presbyterian Church Minnetonka\, 12007 Excelsior Boulevard\, Minnetonka\, MN\, 55343\, United States
CATEGORIES:rezMen,rezWomen
ATTACH;FMTTYPE=image/jpeg:https://rezumc.org/wp-content/uploads/2015/11/uec-logo-color-united-cropped.jpg
ORGANIZER;CN="Sue Ganzer":MAILTO:sue@rezumc.org
GEO:44.9201243;-93.4329565
X-APPLE-STRUCTURED-LOCATION;VALUE=URI;X-ADDRESS=Faith Presbyterian Church Minnetonka 12007 Excelsior Boulevard Minnetonka MN 55343 United States;X-APPLE-RADIUS=500;X-TITLE=12007 Excelsior Boulevard:geo:-93.4329565,44.9201243
END:VEVENT
BEGIN:VEVENT
DTSTART;VALUE=DATE:20191031
DTEND;VALUE=DATE:20191104
DTSTAMP:20260424T110619
CREATED:20190930T212545Z
LAST-MODIFIED:20190930T212545Z
UID:10002126-1572480000-1572825599@rezumc.org
SUMMARY:Unidos en Cristo
DESCRIPTION:Unidos en Cristo (UeC)\, or “United in Christ\,” is a weekend retreat for people seeking to grow in their relationship with Christ.\nMore than 5\,000 people from a variety of churches have attended a Unidos weekend. The experience begins with a structured three-day weekend in an atmosphere of friendship and joy. \nAt an Unidos weekend\, you’ll learn: \n\nto discover yourself and your own worth on a more fundamental level\,\nto experience the presence and love of Jesus Christ\, and\nto become aware of what a loving and caring Christian community can bring to the world.\n\nThis is the first Co-Ed UeC weekend. Although this is not designed as a couple’s weekend (men and women meet separately in their respective gender group)\, both individuals & couples are invited to attend. If anyone is interested in getting more information and/or sponsoring an individual or couple\, please contact Sue Ganzer or the church office (651-437-4398) for more information. \nLearn more about Unidos en Cristo.
URL:https://rezumc.org/event/unidos-en-cristo-2019-2/
LOCATION:Faith Presbyterian Church Minnetonka\, 12007 Excelsior Boulevard\, Minnetonka\, MN\, 55343\, United States
CATEGORIES:rezMen,rezWomen
ATTACH;FMTTYPE=image/jpeg:https://rezumc.org/wp-content/uploads/2015/11/uec-logo-color-united-cropped.jpg
ORGANIZER;CN="Sue Ganzer":MAILTO:sue@rezumc.org
GEO:44.9201243;-93.4329565
X-APPLE-STRUCTURED-LOCATION;VALUE=URI;X-ADDRESS=Faith Presbyterian Church Minnetonka 12007 Excelsior Boulevard Minnetonka MN 55343 United States;X-APPLE-RADIUS=500;X-TITLE=12007 Excelsior Boulevard:geo:-93.4329565,44.9201243
END:VEVENT
END:VCALENDAR