BEGIN:VCALENDAR
VERSION:2.0
PRODID:-//Resurrection United Methodist Church of Hastings - ECPv6.15.20//NONSGML v1.0//EN
CALSCALE:GREGORIAN
METHOD:PUBLISH
X-ORIGINAL-URL:https://rezumc.org
X-WR-CALDESC:Events for Resurrection United Methodist Church of Hastings
REFRESH-INTERVAL;VALUE=DURATION:PT1H
X-Robots-Tag:noindex
X-PUBLISHED-TTL:PT1H
BEGIN:VTIMEZONE
TZID:America/Chicago
BEGIN:DAYLIGHT
TZOFFSETFROM:-0600
TZOFFSETTO:-0500
TZNAME:CDT
DTSTART:20140309T080000
END:DAYLIGHT
BEGIN:STANDARD
TZOFFSETFROM:-0500
TZOFFSETTO:-0600
TZNAME:CST
DTSTART:20141102T070000
END:STANDARD
BEGIN:DAYLIGHT
TZOFFSETFROM:-0600
TZOFFSETTO:-0500
TZNAME:CDT
DTSTART:20150308T080000
END:DAYLIGHT
BEGIN:STANDARD
TZOFFSETFROM:-0500
TZOFFSETTO:-0600
TZNAME:CST
DTSTART:20151101T070000
END:STANDARD
BEGIN:DAYLIGHT
TZOFFSETFROM:-0600
TZOFFSETTO:-0500
TZNAME:CDT
DTSTART:20160313T080000
END:DAYLIGHT
BEGIN:STANDARD
TZOFFSETFROM:-0500
TZOFFSETTO:-0600
TZNAME:CST
DTSTART:20161106T070000
END:STANDARD
BEGIN:DAYLIGHT
TZOFFSETFROM:-0600
TZOFFSETTO:-0500
TZNAME:CDT
DTSTART:20170312T080000
END:DAYLIGHT
BEGIN:STANDARD
TZOFFSETFROM:-0500
TZOFFSETTO:-0600
TZNAME:CST
DTSTART:20171105T070000
END:STANDARD
BEGIN:DAYLIGHT
TZOFFSETFROM:-0600
TZOFFSETTO:-0500
TZNAME:CDT
DTSTART:20180311T080000
END:DAYLIGHT
BEGIN:STANDARD
TZOFFSETFROM:-0500
TZOFFSETTO:-0600
TZNAME:CST
DTSTART:20181104T070000
END:STANDARD
BEGIN:DAYLIGHT
TZOFFSETFROM:-0600
TZOFFSETTO:-0500
TZNAME:CDT
DTSTART:20190310T080000
END:DAYLIGHT
BEGIN:STANDARD
TZOFFSETFROM:-0500
TZOFFSETTO:-0600
TZNAME:CST
DTSTART:20191103T070000
END:STANDARD
END:VTIMEZONE
BEGIN:VEVENT
DTSTART;TZID=America/Chicago:20180428T083000
DTEND;TZID=America/Chicago:20180428T160000
DTSTAMP:20260424T151459
CREATED:20180403T034353Z
LAST-MODIFIED:20180403T034353Z
UID:10001933-1524904200-1524931200@rezumc.org
SUMMARY:River Valley District UMW Spring Meeting
DESCRIPTION:Program on prison ministry and mass incarceration presented at Shakopee UMC. Registration opens at 8:30 a.m.. We will be car pooling to the event\, returning by 4 p.m.. Contact Ginny Vandervest to arrange carpooling or more information.
URL:https://rezumc.org/event/river-valley-district-umw-spring-meeting/
END:VEVENT
BEGIN:VEVENT
DTSTART;TZID=America/Chicago:20180428T083000
DTEND;TZID=America/Chicago:20180428T160000
DTSTAMP:20260424T151459
CREATED:20180403T034353Z
LAST-MODIFIED:20180403T034353Z
UID:10001934-1524904200-1524931200@rezumc.org
SUMMARY:River Valley District UMW Spring Meeting
DESCRIPTION:Program on prison ministry and mass incarceration presented at Shakopee UMC. Registration opens at 8:30 a.m.. We will be car pooling to the event\, returning by 4 p.m.. Contact Ginny Vandervest to arrange carpooling or more information.
URL:https://rezumc.org/event/river-valley-district-umw-spring-meeting-2/
END:VEVENT
BEGIN:VEVENT
DTSTART;TZID=America/Chicago:20150811T173000
DTEND;TZID=America/Chicago:20150811T202000
DTSTAMP:20260424T151459
CREATED:20150805T222512Z
LAST-MODIFIED:20150805T223013Z
UID:10002085-1439314200-1439324400@rezumc.org
SUMMARY:Created for Happiness
DESCRIPTION:Listen to Lisa Valentine on how she has been practicing gratitude for over twenty years. Open to men and women of all ages. Registration opens at 5:30 pm. Supper at 6:15 pm. Program starts at 7 pm. Cost is $10 and includes dinner. Register at the Welcome Desk this Sunday or online below. \n\n[contact-form-7 id=”908″ title=”Event Registration”]
URL:https://rezumc.org/event/created-for-happiness/
LOCATION:Resurrection Church\, 615 15th Street West\, Hastings\, 55033\, United States
GEO:44.7309452;-92.8595028
X-APPLE-STRUCTURED-LOCATION;VALUE=URI;X-ADDRESS=Resurrection Church 615 15th Street West Hastings 55033 United States;X-APPLE-RADIUS=500;X-TITLE=615 15th Street West:geo:-92.8595028,44.7309452
END:VEVENT
BEGIN:VEVENT
DTSTART;TZID=America/Chicago:20150811T173000
DTEND;TZID=America/Chicago:20150811T202000
DTSTAMP:20260424T151459
CREATED:20150805T222512Z
LAST-MODIFIED:20150805T222512Z
UID:10002047-1439314200-1439324400@rezumc.org
SUMMARY:Created for Happiness
DESCRIPTION:Listen to Lisa Valentine on how she has been practicing gratitude for over twenty years. Open to men and women of all ages. Registration opens at 5:30 pm. Supper at 6:15 pm. Program starts at 7 pm. Cost is $10 and includes dinner. Register at the Welcome Desk this Sunday or online below. \n\n[contact-form-7 id=”908″ title=”Event Registration”]
URL:https://rezumc.org/event/created-for-happiness-2/
LOCATION:Resurrection Church\, 615 15th Street West\, Hastings\, 55033\, United States
GEO:44.7309452;-92.8595028
X-APPLE-STRUCTURED-LOCATION;VALUE=URI;X-ADDRESS=Resurrection Church 615 15th Street West Hastings 55033 United States;X-APPLE-RADIUS=500;X-TITLE=615 15th Street West:geo:-92.8595028,44.7309452
END:VEVENT
BEGIN:VEVENT
DTSTART;TZID=America/Chicago:20150811T173000
DTEND;TZID=America/Chicago:20150811T202000
DTSTAMP:20260424T151459
CREATED:20150805T222512Z
LAST-MODIFIED:20150805T222512Z
UID:10002046-1439314200-1439324400@rezumc.org
SUMMARY:Created for Happiness
DESCRIPTION:Listen to Lisa Valentine on how she has been practicing gratitude for over twenty years. Open to men and women of all ages. Registration opens at 5:30 pm. Supper at 6:15 pm. Program starts at 7 pm. Cost is $10 and includes dinner. Register at the Welcome Desk this Sunday or online below. \n\n[contact-form-7 id=”908″ title=”Event Registration”]
URL:https://rezumc.org/event/created-for-happiness-3/
LOCATION:Resurrection Church\, 615 15th Street West\, Hastings\, 55033\, United States
GEO:44.7309452;-92.8595028
X-APPLE-STRUCTURED-LOCATION;VALUE=URI;X-ADDRESS=Resurrection Church 615 15th Street West Hastings 55033 United States;X-APPLE-RADIUS=500;X-TITLE=615 15th Street West:geo:-92.8595028,44.7309452
END:VEVENT
END:VCALENDAR