BEGIN:VCALENDAR
VERSION:2.0
PRODID:-//Resurrection United Methodist Church of Hastings - ECPv6.15.20//NONSGML v1.0//EN
CALSCALE:GREGORIAN
METHOD:PUBLISH
X-ORIGINAL-URL:https://rezumc.org
X-WR-CALDESC:Events for Resurrection United Methodist Church of Hastings
REFRESH-INTERVAL;VALUE=DURATION:PT1H
X-Robots-Tag:noindex
X-PUBLISHED-TTL:PT1H
BEGIN:VTIMEZONE
TZID:America/Chicago
BEGIN:DAYLIGHT
TZOFFSETFROM:-0600
TZOFFSETTO:-0500
TZNAME:CDT
DTSTART:20140309T080000
END:DAYLIGHT
BEGIN:STANDARD
TZOFFSETFROM:-0500
TZOFFSETTO:-0600
TZNAME:CST
DTSTART:20141102T070000
END:STANDARD
BEGIN:DAYLIGHT
TZOFFSETFROM:-0600
TZOFFSETTO:-0500
TZNAME:CDT
DTSTART:20150308T080000
END:DAYLIGHT
BEGIN:STANDARD
TZOFFSETFROM:-0500
TZOFFSETTO:-0600
TZNAME:CST
DTSTART:20151101T070000
END:STANDARD
BEGIN:DAYLIGHT
TZOFFSETFROM:-0600
TZOFFSETTO:-0500
TZNAME:CDT
DTSTART:20160313T080000
END:DAYLIGHT
BEGIN:STANDARD
TZOFFSETFROM:-0500
TZOFFSETTO:-0600
TZNAME:CST
DTSTART:20161106T070000
END:STANDARD
BEGIN:DAYLIGHT
TZOFFSETFROM:-0600
TZOFFSETTO:-0500
TZNAME:CDT
DTSTART:20170312T080000
END:DAYLIGHT
BEGIN:STANDARD
TZOFFSETFROM:-0500
TZOFFSETTO:-0600
TZNAME:CST
DTSTART:20171105T070000
END:STANDARD
BEGIN:DAYLIGHT
TZOFFSETFROM:-0600
TZOFFSETTO:-0500
TZNAME:CDT
DTSTART:20180311T080000
END:DAYLIGHT
BEGIN:STANDARD
TZOFFSETFROM:-0500
TZOFFSETTO:-0600
TZNAME:CST
DTSTART:20181104T070000
END:STANDARD
BEGIN:DAYLIGHT
TZOFFSETFROM:-0600
TZOFFSETTO:-0500
TZNAME:CDT
DTSTART:20190310T080000
END:DAYLIGHT
BEGIN:STANDARD
TZOFFSETFROM:-0500
TZOFFSETTO:-0600
TZNAME:CST
DTSTART:20191103T070000
END:STANDARD
BEGIN:DAYLIGHT
TZOFFSETFROM:-0600
TZOFFSETTO:-0500
TZNAME:CDT
DTSTART:20200308T080000
END:DAYLIGHT
BEGIN:STANDARD
TZOFFSETFROM:-0500
TZOFFSETTO:-0600
TZNAME:CST
DTSTART:20201101T070000
END:STANDARD
BEGIN:DAYLIGHT
TZOFFSETFROM:-0600
TZOFFSETTO:-0500
TZNAME:CDT
DTSTART:20210314T080000
END:DAYLIGHT
BEGIN:STANDARD
TZOFFSETFROM:-0500
TZOFFSETTO:-0600
TZNAME:CST
DTSTART:20211107T070000
END:STANDARD
BEGIN:DAYLIGHT
TZOFFSETFROM:-0600
TZOFFSETTO:-0500
TZNAME:CDT
DTSTART:20220313T080000
END:DAYLIGHT
BEGIN:STANDARD
TZOFFSETFROM:-0500
TZOFFSETTO:-0600
TZNAME:CST
DTSTART:20221106T070000
END:STANDARD
END:VTIMEZONE
BEGIN:VEVENT
DTSTART;TZID=America/Chicago:20211125T120000
DTEND;TZID=America/Chicago:20211125T130000
DTSTAMP:20260424T223931
CREATED:20211102T143804Z
LAST-MODIFIED:20211124T163704Z
UID:10003075-1637841600-1637845200@rezumc.org
SUMMARY:Thanksgiving Day Dinner
DESCRIPTION:You’re invited to a Thanksgiving feast here at the church. And if you’re not able to travel\, we’ll deliver it to you–just contact the church office by email or phone at 651.437.4398. All are welcome – spread the word!
URL:https://rezumc.org/event/thanksgiving-day-dinner-2021/
LOCATION:Resurrection Church\, 615 15th Street West\, Hastings\, 55033\, United States
CATEGORIES:rezCommunity
ATTACH;FMTTYPE=image/png:https://rezumc.org/wp-content/uploads/2021/11/rez-thanksgiving-2021-sm-1.png
GEO:44.7309452;-92.8595028
X-APPLE-STRUCTURED-LOCATION;VALUE=URI;X-ADDRESS=Resurrection Church 615 15th Street West Hastings 55033 United States;X-APPLE-RADIUS=500;X-TITLE=615 15th Street West:geo:-92.8595028,44.7309452
END:VEVENT
BEGIN:VEVENT
DTSTART;TZID=America/Chicago:20150509T093000
DTEND;TZID=America/Chicago:20150509T110000
DTSTAMP:20260424T223931
CREATED:20150430T134916Z
LAST-MODIFIED:20150430T140824Z
UID:10001748-1431163800-1431169200@rezumc.org
SUMMARY:Mother's Day Saturday Brunch
DESCRIPTION:Want to make mom feel special? Treat her to brunch. Tickets on sale in the church office during the week and in the lobby on Sunday morning. Black Dirt Theatre Improv will be providing entertainment.
URL:https://rezumc.org/event/mothers-day-brunch/
LOCATION:Resurrection Church\, 615 15th Street West\, Hastings\, 55033\, United States
ATTACH;FMTTYPE=image/jpeg:https://rezumc.org/wp-content/uploads/2015/04/brunch_460.jpg
GEO:44.7309452;-92.8595028
X-APPLE-STRUCTURED-LOCATION;VALUE=URI;X-ADDRESS=Resurrection Church 615 15th Street West Hastings 55033 United States;X-APPLE-RADIUS=500;X-TITLE=615 15th Street West:geo:-92.8595028,44.7309452
END:VEVENT
BEGIN:VEVENT
DTSTART;TZID=America/Chicago:20150509T093000
DTEND;TZID=America/Chicago:20150509T110000
DTSTAMP:20260424T223931
CREATED:20150430T134916Z
LAST-MODIFIED:20150430T134916Z
UID:10001746-1431163800-1431169200@rezumc.org
SUMMARY:Mother's Day Saturday Brunch
DESCRIPTION:Want to make mom feel special? Treat her to brunch. Tickets on sale in the church office during the week and in the lobby on Sunday morning. Black Dirt Theatre Improv will be providing entertainment.
URL:https://rezumc.org/event/mothers-day-brunch-2/
LOCATION:Resurrection Church\, 615 15th Street West\, Hastings\, 55033\, United States
ATTACH;FMTTYPE=image/jpeg:https://rezumc.org/wp-content/uploads/2015/04/brunch_460.jpg
GEO:44.7309452;-92.8595028
X-APPLE-STRUCTURED-LOCATION;VALUE=URI;X-ADDRESS=Resurrection Church 615 15th Street West Hastings 55033 United States;X-APPLE-RADIUS=500;X-TITLE=615 15th Street West:geo:-92.8595028,44.7309452
END:VEVENT
BEGIN:VEVENT
DTSTART;TZID=America/Chicago:20150509T093000
DTEND;TZID=America/Chicago:20150509T110000
DTSTAMP:20260424T223931
CREATED:20150430T134916Z
LAST-MODIFIED:20150430T134916Z
UID:10002030-1431163800-1431169200@rezumc.org
SUMMARY:Mother's Day Saturday Brunch
DESCRIPTION:Want to make mom feel special? Treat her to brunch. Tickets on sale in the church office during the week and in the lobby on Sunday morning. Black Dirt Theatre Improv will be providing entertainment.
URL:https://rezumc.org/event/mothers-day-brunch-3/
LOCATION:Resurrection Church\, 615 15th Street West\, Hastings\, 55033\, United States
ATTACH;FMTTYPE=image/jpeg:https://rezumc.org/wp-content/uploads/2015/04/brunch_460.jpg
GEO:44.7309452;-92.8595028
X-APPLE-STRUCTURED-LOCATION;VALUE=URI;X-ADDRESS=Resurrection Church 615 15th Street West Hastings 55033 United States;X-APPLE-RADIUS=500;X-TITLE=615 15th Street West:geo:-92.8595028,44.7309452
END:VEVENT
END:VCALENDAR