BEGIN:VCALENDAR
VERSION:2.0
PRODID:-//Resurrection United Methodist Church of Hastings - ECPv6.15.20//NONSGML v1.0//EN
CALSCALE:GREGORIAN
METHOD:PUBLISH
X-ORIGINAL-URL:https://rezumc.org
X-WR-CALDESC:Events for Resurrection United Methodist Church of Hastings
REFRESH-INTERVAL;VALUE=DURATION:PT1H
X-Robots-Tag:noindex
X-PUBLISHED-TTL:PT1H
BEGIN:VTIMEZONE
TZID:America/Chicago
BEGIN:DAYLIGHT
TZOFFSETFROM:-0600
TZOFFSETTO:-0500
TZNAME:CDT
DTSTART:20180311T080000
END:DAYLIGHT
BEGIN:STANDARD
TZOFFSETFROM:-0500
TZOFFSETTO:-0600
TZNAME:CST
DTSTART:20181104T070000
END:STANDARD
BEGIN:DAYLIGHT
TZOFFSETFROM:-0600
TZOFFSETTO:-0500
TZNAME:CDT
DTSTART:20190310T080000
END:DAYLIGHT
BEGIN:STANDARD
TZOFFSETFROM:-0500
TZOFFSETTO:-0600
TZNAME:CST
DTSTART:20191103T070000
END:STANDARD
BEGIN:DAYLIGHT
TZOFFSETFROM:-0600
TZOFFSETTO:-0500
TZNAME:CDT
DTSTART:20200308T080000
END:DAYLIGHT
BEGIN:STANDARD
TZOFFSETFROM:-0500
TZOFFSETTO:-0600
TZNAME:CST
DTSTART:20201101T070000
END:STANDARD
BEGIN:DAYLIGHT
TZOFFSETFROM:-0600
TZOFFSETTO:-0500
TZNAME:CDT
DTSTART:20210314T080000
END:DAYLIGHT
BEGIN:STANDARD
TZOFFSETFROM:-0500
TZOFFSETTO:-0600
TZNAME:CST
DTSTART:20211107T070000
END:STANDARD
END:VTIMEZONE
BEGIN:VEVENT
DTSTART;TZID=America/Chicago:20201005T170000
DTEND;TZID=America/Chicago:20201005T173000
DTSTAMP:20260424T053230
CREATED:20200929T163412Z
LAST-MODIFIED:20200929T163412Z
UID:10003033-1601917200-1601919000@rezumc.org
SUMMARY:Monday Outdoor Worship
DESCRIPTION:Resurrection holds an informal worship service outdoors in the south parking lot each Monday\, 5:00p\, throughout October. Enjoy music\, prayer and message from the current sermon series. Please bring a chair/comfortable seating. Weather permitting (canceled in the event of on-going rain or inclement weather.)
URL:https://rezumc.org/event/outdoor-worship-service-2-2-2/
LOCATION:Resurrection Church\, 615 15th Street West\, Hastings\, 55033\, United States
CATEGORIES:rezCommunity,rezLife
ATTACH;FMTTYPE=image/jpeg:https://rezumc.org/wp-content/uploads/2020/09/outdoor-worship-500-s.jpg
ORGANIZER;CN="Mark Miller":MAILTO:pastormark@rezumc.org
GEO:44.7309452;-92.8595028
X-APPLE-STRUCTURED-LOCATION;VALUE=URI;X-ADDRESS=Resurrection Church 615 15th Street West Hastings 55033 United States;X-APPLE-RADIUS=500;X-TITLE=615 15th Street West:geo:-92.8595028,44.7309452
END:VEVENT
BEGIN:VEVENT
DTSTART;TZID=America/Chicago:20200803T183000
DTEND;TZID=America/Chicago:20200803T193000
DTSTAMP:20260424T053230
CREATED:20200720T045551Z
LAST-MODIFIED:20200729T023706Z
UID:10002307-1596479400-1596483000@rezumc.org
SUMMARY:Monday Outdoor Worship
DESCRIPTION:Resurrection holds an informal worship service outdoors in the south parking lot (it’s shaded) each Monday\, 6:30p\, throughout the summer. Enjoy music\, prayer and message from the current sermon series. Please bring a chair/comfortable seating. Weather permitting (canceled in the event of rain or inclement weather.)
URL:https://rezumc.org/event/outdoor-worship-service-2/
LOCATION:Resurrection Church\, 615 15th Street West\, Hastings\, 55033\, United States
CATEGORIES:rezCommunity,rezLife
ATTACH;FMTTYPE=image/jpeg:https://rezumc.org/wp-content/uploads/2020/07/outdoor-worship-mondays-s.jpg
ORGANIZER;CN="Mark Miller":MAILTO:pastormark@rezumc.org
GEO:44.7309452;-92.8595028
X-APPLE-STRUCTURED-LOCATION;VALUE=URI;X-ADDRESS=Resurrection Church 615 15th Street West Hastings 55033 United States;X-APPLE-RADIUS=500;X-TITLE=615 15th Street West:geo:-92.8595028,44.7309452
END:VEVENT
BEGIN:VEVENT
DTSTART;TZID=America/Chicago:20200803T183000
DTEND;TZID=America/Chicago:20200803T193000
DTSTAMP:20260424T053230
CREATED:20200720T045551Z
LAST-MODIFIED:20200720T045551Z
UID:10002308-1596479400-1596483000@rezumc.org
SUMMARY:Monday Outdoor Worship
DESCRIPTION:Resurrection holds an informal worship service outdoors in the south parking lot (it’s shaded) each Monday\, 6:30p\, throughout the summer. Enjoy music\, prayer and message from the current sermon series. Please bring a chair/comfortable seating. Weather permitting (canceled in the event of rain or inclement weather.)
URL:https://rezumc.org/event/outdoor-worship-service-2-3/
LOCATION:Resurrection Church\, 615 15th Street West\, Hastings\, 55033\, United States
CATEGORIES:rezCommunity,rezLife
ATTACH;FMTTYPE=image/jpeg:https://rezumc.org/wp-content/uploads/2020/07/outdoor-worship-mondays-s.jpg
ORGANIZER;CN="Mark Miller":MAILTO:pastormark@rezumc.org
GEO:44.7309452;-92.8595028
X-APPLE-STRUCTURED-LOCATION;VALUE=URI;X-ADDRESS=Resurrection Church 615 15th Street West Hastings 55033 United States;X-APPLE-RADIUS=500;X-TITLE=615 15th Street West:geo:-92.8595028,44.7309452
END:VEVENT
BEGIN:VEVENT
DTSTART;TZID=America/Chicago:20200611T210000
DTEND;TZID=America/Chicago:20200611T213000
DTSTAMP:20260424T053230
CREATED:20200609T120116Z
LAST-MODIFIED:20200609T120116Z
UID:10002341-1591909200-1591911000@rezumc.org
SUMMARY:Candlelight Prayer Vigil
DESCRIPTION:Join us out on the church lawn as we unite in prayer for peace and justice during these troubled times (bring a blanket or lawn chair).
URL:https://rezumc.org/event/candlelight-prayer-vigil/
LOCATION:Resurrection Church\, 615 15th Street West\, Hastings\, 55033\, United States
CATEGORIES:rezCommunity,rezLife
ATTACH;FMTTYPE=image/jpeg:https://rezumc.org/wp-content/uploads/2020/06/zac-cain-Ah0gblUUwIg-unsplash-scaled.jpg
ORGANIZER;CN="Mark Miller":MAILTO:pastormark@rezumc.org
GEO:44.7309452;-92.8595028
X-APPLE-STRUCTURED-LOCATION;VALUE=URI;X-ADDRESS=Resurrection Church 615 15th Street West Hastings 55033 United States;X-APPLE-RADIUS=500;X-TITLE=615 15th Street West:geo:-92.8595028,44.7309452
END:VEVENT
BEGIN:VEVENT
DTSTART;TZID=America/Chicago:20200611T210000
DTEND;TZID=America/Chicago:20200611T213000
DTSTAMP:20260424T053230
CREATED:20200609T120116Z
LAST-MODIFIED:20200609T120116Z
UID:10002304-1591909200-1591911000@rezumc.org
SUMMARY:Candlelight Prayer Vigil
DESCRIPTION:Join us out on the church lawn as we unite in prayer for peace and justice during these troubled times (bring a blanket or lawn chair).
URL:https://rezumc.org/event/candlelight-prayer-vigil-2/
LOCATION:Resurrection Church\, 615 15th Street West\, Hastings\, 55033\, United States
CATEGORIES:rezCommunity,rezLife
ATTACH;FMTTYPE=image/jpeg:https://rezumc.org/wp-content/uploads/2020/06/zac-cain-Ah0gblUUwIg-unsplash-scaled.jpg
ORGANIZER;CN="Mark Miller":MAILTO:pastormark@rezumc.org
GEO:44.7309452;-92.8595028
X-APPLE-STRUCTURED-LOCATION;VALUE=URI;X-ADDRESS=Resurrection Church 615 15th Street West Hastings 55033 United States;X-APPLE-RADIUS=500;X-TITLE=615 15th Street West:geo:-92.8595028,44.7309452
END:VEVENT
BEGIN:VEVENT
DTSTART;TZID=America/Chicago:20200306T183000
DTEND;TZID=America/Chicago:20200307T120000
DTSTAMP:20260424T053230
CREATED:20200224T225558Z
LAST-MODIFIED:20200224T225558Z
UID:10002335-1583519400-1583582400@rezumc.org
SUMMARY:Confirmation Overnight Retreat
DESCRIPTION:This is a free overnight retreat led by Pastor Mark is for all students in Confirmation class. Leaving from Resurrection at 6:30 pm and returning the next day at 12:00 pm. Students need to have eaten supper beforehand plus need to bring a pillow and sleeping bag/bed roll. Contact the church office with any questions. \n[efsbutton style=”” size=”” color_class=”” align=”left” type=”link” target=”false” title=”PERMISSION FORM” link=”https://rezumc.breezechms.com/form/2f12df917541994″]
URL:https://rezumc.org/event/confirmation-overnight-retreat/
LOCATION:Red Wing UMC\, 403 East Ave\, Red Wing\, MN\, 55066
CATEGORIES:Oasis
ATTACH;FMTTYPE=image/jpeg:https://rezumc.org/wp-content/uploads/2020/02/van_pic.jpg
ORGANIZER;CN="Mark Miller":MAILTO:pastormark@rezumc.org
GEO:44.5632315;-92.5343015
X-APPLE-STRUCTURED-LOCATION;VALUE=URI;X-ADDRESS=Red Wing UMC 403 East Ave Red Wing MN 55066;X-APPLE-RADIUS=500;X-TITLE=403 East Ave:geo:-92.5343015,44.5632315
END:VEVENT
BEGIN:VEVENT
DTSTART;TZID=America/Chicago:20200306T183000
DTEND;TZID=America/Chicago:20200307T120000
DTSTAMP:20260424T053230
CREATED:20200224T225558Z
LAST-MODIFIED:20200224T225558Z
UID:10002337-1583519400-1583582400@rezumc.org
SUMMARY:Confirmation Overnight Retreat
DESCRIPTION:This is a free overnight retreat led by Pastor Mark is for all students in Confirmation class. Leaving from Resurrection at 6:30 pm and returning the next day at 12:00 pm. Students need to have eaten supper beforehand plus need to bring a pillow and sleeping bag/bed roll. Contact the church office with any questions. \n[efsbutton style=”” size=”” color_class=”” align=”left” type=”link” target=”false” title=”PERMISSION FORM” link=”https://rezumc.breezechms.com/form/2f12df917541994″]
URL:https://rezumc.org/event/confirmation-overnight-retreat-2/
LOCATION:Red Wing UMC\, 403 East Ave\, Red Wing\, MN\, 55066
CATEGORIES:Oasis
ATTACH;FMTTYPE=image/jpeg:https://rezumc.org/wp-content/uploads/2020/02/van_pic.jpg
ORGANIZER;CN="Mark Miller":MAILTO:pastormark@rezumc.org
GEO:44.5632315;-92.5343015
X-APPLE-STRUCTURED-LOCATION;VALUE=URI;X-ADDRESS=Red Wing UMC 403 East Ave Red Wing MN 55066;X-APPLE-RADIUS=500;X-TITLE=403 East Ave:geo:-92.5343015,44.5632315
END:VEVENT
BEGIN:VEVENT
DTSTART;TZID=America/Chicago:20191027T113000
DTEND;TZID=America/Chicago:20191027T123000
DTSTAMP:20260424T053230
CREATED:20190913T185621Z
LAST-MODIFIED:20190913T190840Z
UID:10002704-1572175800-1572179400@rezumc.org
SUMMARY:Confirmation Class
DESCRIPTION:This is a great opportunity for students to learn about Jesus and serving others. Totally revamped and taught by Pastor Mark\, it is now a two-year program for kids in 8th and 9th grade (NOTE: as part this new format\, we will also have 7th graders and up included this year). Class starts Sunday\, October 27\, 2019 and ends with Confirmation Sunday on April 26\, 2020. There is no charge for this class. \nPlease register your student with the link below. \n[efsbutton style=”” size=”” color_class=”” align=”left” type=”link” target=”false” title=”REGISTER FOR CONFIRMATION” link=”https://rezumc.breezechms.com/form/2f12df82945367″] \n\nWeekly Agenda\nEach Sunday\, a meal will be provided for the Students and Leaders immediately following the 3rd Worship service (around 11:30a). At 11:45\, everyone will gather as a large group in Fellowship Hall and meet for 30 minutes under Pastor Mark’s guidance\, then will break into small groups at 12:15p\, meeting for 15 minutes. \nPARENTS MEETING\nA special meeting for parents is set for Sunday\, September 29th at 11:30am to discuss class details and answer related questions.
URL:https://rezumc.org/event/rez-confirmation-2019/
CATEGORIES:Oasis
ATTACH;FMTTYPE=image/jpeg:https://rezumc.org/wp-content/uploads/2019/09/marvin-heilemann-hhwxgGPWg-A-unsplash-e1568325940795.jpg
ORGANIZER;CN="Mark Miller":MAILTO:pastormark@rezumc.org
END:VEVENT
BEGIN:VEVENT
DTSTART;TZID=America/Chicago:20191027T113000
DTEND;TZID=America/Chicago:20191027T123000
DTSTAMP:20260424T053230
CREATED:20190913T185621Z
LAST-MODIFIED:20190913T185621Z
UID:10002706-1572175800-1572179400@rezumc.org
SUMMARY:Confirmation Class
DESCRIPTION:This is a great opportunity for students to learn about Jesus and serving others. Totally revamped and taught by Pastor Mark\, it is now a two-year program for kids in 8th and 9th grade (NOTE: as part this new format\, we will also have 7th graders and up included this year). Class starts Sunday\, October 27\, 2019 and ends with Confirmation Sunday on April 26\, 2020. There is no charge for this class. \nPlease register your student with the link below. \n[efsbutton style=”” size=”” color_class=”” align=”left” type=”link” target=”false” title=”REGISTER FOR CONFIRMATION” link=”https://rezumc.breezechms.com/form/2f12df82945367″] \n\nWeekly Agenda\nEach Sunday\, a meal will be provided for the Students and Leaders immediately following the 3rd Worship service (around 11:30a). At 11:45\, everyone will gather as a large group in Fellowship Hall and meet for 30 minutes under Pastor Mark’s guidance\, then will break into small groups at 12:15p\, meeting for 15 minutes. \nPARENTS MEETING\nA special meeting for parents is set for Sunday\, September 29th at 11:30am to discuss class details and answer related questions.
URL:https://rezumc.org/event/rez-confirmation-2019-2/
CATEGORIES:Oasis
ATTACH;FMTTYPE=image/jpeg:https://rezumc.org/wp-content/uploads/2019/09/marvin-heilemann-hhwxgGPWg-A-unsplash-e1568325940795.jpg
ORGANIZER;CN="Mark Miller":MAILTO:pastormark@rezumc.org
END:VEVENT
END:VCALENDAR