BEGIN:VCALENDAR
VERSION:2.0
PRODID:-//Resurrection United Methodist Church of Hastings - ECPv6.15.20//NONSGML v1.0//EN
CALSCALE:GREGORIAN
METHOD:PUBLISH
X-ORIGINAL-URL:https://rezumc.org
X-WR-CALDESC:Events for Resurrection United Methodist Church of Hastings
REFRESH-INTERVAL;VALUE=DURATION:PT1H
X-Robots-Tag:noindex
X-PUBLISHED-TTL:PT1H
BEGIN:VTIMEZONE
TZID:America/Chicago
BEGIN:DAYLIGHT
TZOFFSETFROM:-0600
TZOFFSETTO:-0500
TZNAME:CDT
DTSTART:20140309T080000
END:DAYLIGHT
BEGIN:STANDARD
TZOFFSETFROM:-0500
TZOFFSETTO:-0600
TZNAME:CST
DTSTART:20141102T070000
END:STANDARD
BEGIN:DAYLIGHT
TZOFFSETFROM:-0600
TZOFFSETTO:-0500
TZNAME:CDT
DTSTART:20150308T080000
END:DAYLIGHT
BEGIN:STANDARD
TZOFFSETFROM:-0500
TZOFFSETTO:-0600
TZNAME:CST
DTSTART:20151101T070000
END:STANDARD
BEGIN:DAYLIGHT
TZOFFSETFROM:-0600
TZOFFSETTO:-0500
TZNAME:CDT
DTSTART:20160313T080000
END:DAYLIGHT
BEGIN:STANDARD
TZOFFSETFROM:-0500
TZOFFSETTO:-0600
TZNAME:CST
DTSTART:20161106T070000
END:STANDARD
END:VTIMEZONE
BEGIN:VEVENT
DTSTART;TZID=America/Chicago:20151009T181500
DTEND;TZID=America/Chicago:20151009T203000
DTSTAMP:20260423T214422
CREATED:20150918T131854Z
LAST-MODIFIED:20150922T213622Z
UID:10002111-1444414500-1444422600@rezumc.org
SUMMARY:Rise Up for Single Moms
DESCRIPTION:All single moms are welcome to gather in fellowship to hear and reflect on a video message on how FEAR can prevent us from rising up to be the leaders that our children need us to be. This is a powerful message for single moms that you don’t want to miss. Childcare is provided\, but has already filled up. \n[contact-form-7 id=”1041″ title=”Event Registration_Rise Up”]
URL:https://rezumc.org/event/rise-up-for-single-moms/
LOCATION:Resurrection Church\, 615 15th Street West\, Hastings\, 55033\, United States
GEO:44.7309452;-92.8595028
X-APPLE-STRUCTURED-LOCATION;VALUE=URI;X-ADDRESS=Resurrection Church 615 15th Street West Hastings 55033 United States;X-APPLE-RADIUS=500;X-TITLE=615 15th Street West:geo:-92.8595028,44.7309452
END:VEVENT
BEGIN:VEVENT
DTSTART;TZID=America/Chicago:20151009T181500
DTEND;TZID=America/Chicago:20151009T203000
DTSTAMP:20260423T214422
CREATED:20150918T131854Z
LAST-MODIFIED:20150918T131854Z
UID:10002110-1444414500-1444422600@rezumc.org
SUMMARY:Rise Up for Single Moms
DESCRIPTION:All single moms are welcome to gather in fellowship to hear and reflect on a video message on how FEAR can prevent us from rising up to be the leaders that our children need us to be. This is a powerful message for single moms that you don’t want to miss. Childcare is provided\, but has already filled up. \n[contact-form-7 id=”1041″ title=”Event Registration_Rise Up”]
URL:https://rezumc.org/event/rise-up-for-single-moms-2/
LOCATION:Resurrection Church\, 615 15th Street West\, Hastings\, 55033\, United States
GEO:44.7309452;-92.8595028
X-APPLE-STRUCTURED-LOCATION;VALUE=URI;X-ADDRESS=Resurrection Church 615 15th Street West Hastings 55033 United States;X-APPLE-RADIUS=500;X-TITLE=615 15th Street West:geo:-92.8595028,44.7309452
END:VEVENT
BEGIN:VEVENT
DTSTART;TZID=America/Chicago:20151009T181500
DTEND;TZID=America/Chicago:20151009T203000
DTSTAMP:20260423T214422
CREATED:20150918T131854Z
LAST-MODIFIED:20150918T131854Z
UID:10002109-1444414500-1444422600@rezumc.org
SUMMARY:Rise Up for Single Moms
DESCRIPTION:All single moms are welcome to gather in fellowship to hear and reflect on a video message on how FEAR can prevent us from rising up to be the leaders that our children need us to be. This is a powerful message for single moms that you don’t want to miss. Childcare is provided\, but has already filled up. \n[contact-form-7 id=”1041″ title=”Event Registration_Rise Up”]
URL:https://rezumc.org/event/rise-up-for-single-moms-3/
LOCATION:Resurrection Church\, 615 15th Street West\, Hastings\, 55033\, United States
GEO:44.7309452;-92.8595028
X-APPLE-STRUCTURED-LOCATION;VALUE=URI;X-ADDRESS=Resurrection Church 615 15th Street West Hastings 55033 United States;X-APPLE-RADIUS=500;X-TITLE=615 15th Street West:geo:-92.8595028,44.7309452
END:VEVENT
END:VCALENDAR