BEGIN:VCALENDAR
VERSION:2.0
PRODID:-//Resurrection United Methodist Church of Hastings - ECPv6.15.20//NONSGML v1.0//EN
CALSCALE:GREGORIAN
METHOD:PUBLISH
X-WR-CALNAME:Resurrection United Methodist Church of Hastings
X-ORIGINAL-URL:https://rezumc.org
X-WR-CALDESC:Events for Resurrection United Methodist Church of Hastings
REFRESH-INTERVAL;VALUE=DURATION:PT1H
X-Robots-Tag:noindex
X-PUBLISHED-TTL:PT1H
BEGIN:VTIMEZONE
TZID:America/Chicago
BEGIN:DAYLIGHT
TZOFFSETFROM:-0600
TZOFFSETTO:-0500
TZNAME:CDT
DTSTART:20210314T080000
END:DAYLIGHT
BEGIN:STANDARD
TZOFFSETFROM:-0500
TZOFFSETTO:-0600
TZNAME:CST
DTSTART:20211107T070000
END:STANDARD
BEGIN:DAYLIGHT
TZOFFSETFROM:-0600
TZOFFSETTO:-0500
TZNAME:CDT
DTSTART:20220313T080000
END:DAYLIGHT
BEGIN:STANDARD
TZOFFSETFROM:-0500
TZOFFSETTO:-0600
TZNAME:CST
DTSTART:20221106T070000
END:STANDARD
BEGIN:DAYLIGHT
TZOFFSETFROM:-0600
TZOFFSETTO:-0500
TZNAME:CDT
DTSTART:20230312T080000
END:DAYLIGHT
BEGIN:STANDARD
TZOFFSETFROM:-0500
TZOFFSETTO:-0600
TZNAME:CST
DTSTART:20231105T070000
END:STANDARD
BEGIN:DAYLIGHT
TZOFFSETFROM:-0600
TZOFFSETTO:-0500
TZNAME:CDT
DTSTART:20240310T080000
END:DAYLIGHT
BEGIN:STANDARD
TZOFFSETFROM:-0500
TZOFFSETTO:-0600
TZNAME:CST
DTSTART:20241103T070000
END:STANDARD
BEGIN:DAYLIGHT
TZOFFSETFROM:-0600
TZOFFSETTO:-0500
TZNAME:CDT
DTSTART:20250309T080000
END:DAYLIGHT
BEGIN:STANDARD
TZOFFSETFROM:-0500
TZOFFSETTO:-0600
TZNAME:CST
DTSTART:20251102T070000
END:STANDARD
END:VTIMEZONE
BEGIN:VEVENT
DTSTART;TZID=America/Chicago:20240816T190000
DTEND;TZID=America/Chicago:20240816T200000
DTSTAMP:20260424T081328
CREATED:20240721T112737Z
LAST-MODIFIED:20240721T112737Z
UID:10003275-1723834800-1723838400@rezumc.org
SUMMARY:Summer Bingo
DESCRIPTION:Celebrate more good times this summer with a game night of Bingo on Friday\, AUG 16th\, 7:00p. Prizes? Of course. Donate gift cards and/or $5 new items in the church office leading up to this event (no garage sale items).  Questions? Contact Kari Seaman or Kristina Victora-Croke.
URL:https://rezumc.org/event/summer-bingo/
LOCATION:Resurrection Church\, 615 15th Street West\, Hastings\, 55033\, United States
CATEGORIES:rezCommunity
ATTACH;FMTTYPE=image/jpeg:https://rezumc.org/wp-content/uploads/2024/07/Summer-Bingo-s.jpg
ORGANIZER;CN="rezCommunity":MAILTO:community@rezumc.org
GEO:44.7309452;-92.8595028
X-APPLE-STRUCTURED-LOCATION;VALUE=URI;X-ADDRESS=Resurrection Church 615 15th Street West Hastings 55033 United States;X-APPLE-RADIUS=500;X-TITLE=615 15th Street West:geo:-92.8595028,44.7309452
END:VEVENT
BEGIN:VEVENT
DTSTART;TZID=America/Chicago:20240419T190000
DTEND;TZID=America/Chicago:20240419T200000
DTSTAMP:20260424T081328
CREATED:20240315T022012Z
LAST-MODIFIED:20240324T133508Z
UID:10003245-1713553200-1713556800@rezumc.org
SUMMARY:Springo Bingo
DESCRIPTION:Join in on the fun Friday\, April 19th\, 7p\, and the chance to win great prizes. Donate $5 new items and/or gift cards prior to the event in the church office (no garage sale items). Questions? Contact Kari Seaman or Kristina Victora-Croke.
URL:https://rezumc.org/event/springo-bingo/
LOCATION:Resurrection Church\, 615 15th Street West\, Hastings\, 55033\, United States
CATEGORIES:rezCommunity
ATTACH;FMTTYPE=image/png:https://rezumc.org/wp-content/uploads/2024/03/springo-bingo-01-s.png
ORGANIZER;CN="rezCommunity":MAILTO:community@rezumc.org
GEO:44.7309452;-92.8595028
X-APPLE-STRUCTURED-LOCATION;VALUE=URI;X-ADDRESS=Resurrection Church 615 15th Street West Hastings 55033 United States;X-APPLE-RADIUS=500;X-TITLE=615 15th Street West:geo:-92.8595028,44.7309452
END:VEVENT
BEGIN:VEVENT
DTSTART;TZID=America/Chicago:20221008T140000
DTEND;TZID=America/Chicago:20221008T170000
DTSTAMP:20260424T081328
CREATED:20220913T201046Z
LAST-MODIFIED:20221002T140008Z
UID:10002761-1665237600-1665248400@rezumc.org
SUMMARY:Fall Festival
DESCRIPTION:Everyone’s invited to the Tharp’s farm for free food and family fun at our annual Fall Festival event. Enjoy hayrides\, pumpkin painting and carving\, pies\, yard games and much more for all ages. \n• Popcorn/Pies/Ice Cream\n• Coffee/Hot Chocolate/Water\n• Face Painting/Coloring Pages\n• Bonfire/Tractor Hay Rides\n• Outdoor Yard Games (Corn Hole/Bean Bag tournament starts at 3:00 pm!)\n• Pumpkin Carving & Painting (free pumpkins!) \nUse the button below to donate food items for the event. And if you’re able to help set up and take down we can sure use the assist—please call/text Kari Seaman 651-236-7434 \nFOOD SIGN-UP\n\nHELP AT THE EVENT
URL:https://rezumc.org/event/rezcommunity-fall-festival-2022/
LOCATION:Tharp Farm\, 14171 Jacob Ave.\, Hastings\, MN\, 55033
CATEGORIES:rezCommunity
ATTACH;FMTTYPE=image/jpeg:https://rezumc.org/wp-content/uploads/2022/09/SLIDE-Fall-Festival-2022-s.jpg
GEO:44.742976;-92.906963
X-APPLE-STRUCTURED-LOCATION;VALUE=URI;X-ADDRESS=Tharp Farm 14171 Jacob Ave. Hastings MN 55033;X-APPLE-RADIUS=500;X-TITLE=14171 Jacob Ave.:geo:-92.906963,44.742976
END:VEVENT
BEGIN:VEVENT
DTSTART;TZID=America/Chicago:20220817T183000
DTEND;TZID=America/Chicago:20220817T200000
DTSTAMP:20260424T081328
CREATED:20220609T152218Z
LAST-MODIFIED:20220721T223214Z
UID:10002266-1660761000-1660766400@rezumc.org
SUMMARY:Women's Tea & Talk Time
DESCRIPTION:Engage in some great conversations with other women while enjoying a peaceful\, outdoor setting in the gazebo and patio area (cancelled if there’s bad weather). Meets at Wendy Humans’ residence. Hot water\, cold water\, tea and cups provided (feel free to bring your own beverage). Hosted by Wendy Human and Kari Seaman.  \nDirections\nSouth on Highway 316\, approximately 1/2 mile\, turn right onto Oxley Ave (just after 190th Street)\, follow curve to right which becomes 195th St E; next house on right.
URL:https://rezumc.org/event/womens-tea-talk-time/
LOCATION:Wendy Humans’ Home\, 15985 195th St E\, Hastings\, MN\, 55033\, United States
CATEGORIES:rezWomen
ATTACH;FMTTYPE=image/jpeg:https://rezumc.org/wp-content/uploads/2022/06/tea-time.jpg
ORGANIZER;CN="Wendy Human":MAILTO:wer6humans@embarqmail.com
GEO:44.6654871;-92.7845555
X-APPLE-STRUCTURED-LOCATION;VALUE=URI;X-ADDRESS=Wendy Humans’ Home 15985 195th St E Hastings MN 55033 United States;X-APPLE-RADIUS=500;X-TITLE=15985 195th St E:geo:-92.7845555,44.6654871
END:VEVENT
END:VCALENDAR