BEGIN:VCALENDAR
VERSION:2.0
PRODID:-//Resurrection United Methodist Church of Hastings - ECPv6.15.20//NONSGML v1.0//EN
CALSCALE:GREGORIAN
METHOD:PUBLISH
X-ORIGINAL-URL:https://rezumc.org
X-WR-CALDESC:Events for Resurrection United Methodist Church of Hastings
REFRESH-INTERVAL;VALUE=DURATION:PT1H
X-Robots-Tag:noindex
X-PUBLISHED-TTL:PT1H
BEGIN:VTIMEZONE
TZID:America/Chicago
BEGIN:DAYLIGHT
TZOFFSETFROM:-0600
TZOFFSETTO:-0500
TZNAME:CDT
DTSTART:20140309T080000
END:DAYLIGHT
BEGIN:STANDARD
TZOFFSETFROM:-0500
TZOFFSETTO:-0600
TZNAME:CST
DTSTART:20141102T070000
END:STANDARD
BEGIN:DAYLIGHT
TZOFFSETFROM:-0600
TZOFFSETTO:-0500
TZNAME:CDT
DTSTART:20150308T080000
END:DAYLIGHT
BEGIN:STANDARD
TZOFFSETFROM:-0500
TZOFFSETTO:-0600
TZNAME:CST
DTSTART:20151101T070000
END:STANDARD
BEGIN:DAYLIGHT
TZOFFSETFROM:-0600
TZOFFSETTO:-0500
TZNAME:CDT
DTSTART:20160313T080000
END:DAYLIGHT
BEGIN:STANDARD
TZOFFSETFROM:-0500
TZOFFSETTO:-0600
TZNAME:CST
DTSTART:20161106T070000
END:STANDARD
END:VTIMEZONE
BEGIN:VEVENT
DTSTART;TZID=America/Chicago:20150925T050000
DTEND;TZID=America/Chicago:20150925T183000
DTSTAMP:20260424T023157
CREATED:20150918T142244Z
LAST-MODIFIED:20150918T142244Z
UID:10002108-1443157200-1443205800@rezumc.org
SUMMARY:Loaves & Fishes Community Meal Help
DESCRIPTION:Loaves & Fishes from HUMC serves a meal the 4th Friday each month at Creekside Community Center. If you would like to help\, please meet at Creekside Community Center\, 9801 Penn Ave S\, Minneapolis\, MN at 5:00 pm. If you have any questions\, contact Jerry Matula \, 651-437-2719.
URL:https://rezumc.org/event/loaves-fishes-community-meal-help/
LOCATION:Creekside Community Theater\, 9801 Penn Ave S\, Minneapolis\, 55431
ATTACH;FMTTYPE=image/png:https://rezumc.org/wp-content/uploads/2015/09/loavesfishesmn.png
GEO:44.8256495;-93.3079699
X-APPLE-STRUCTURED-LOCATION;VALUE=URI;X-ADDRESS=Creekside Community Theater 9801 Penn Ave S Minneapolis 55431;X-APPLE-RADIUS=500;X-TITLE=9801 Penn Ave S:geo:-93.3079699,44.8256495
END:VEVENT
BEGIN:VEVENT
DTSTART;TZID=America/Chicago:20150925T050000
DTEND;TZID=America/Chicago:20150925T183000
DTSTAMP:20260424T023157
CREATED:20150918T142244Z
LAST-MODIFIED:20150918T142244Z
UID:10002107-1443157200-1443205800@rezumc.org
SUMMARY:Loaves & Fishes Community Meal Help
DESCRIPTION:Loaves & Fishes from HUMC serves a meal the 4th Friday each month at Creekside Community Center. If you would like to help\, please meet at Creekside Community Center\, 9801 Penn Ave S\, Minneapolis\, MN at 5:00 pm. If you have any questions\, contact Jerry Matula \, 651-437-2719.
URL:https://rezumc.org/event/loaves-fishes-community-meal-help-2/
LOCATION:Creekside Community Theater\, 9801 Penn Ave S\, Minneapolis\, 55431
ATTACH;FMTTYPE=image/png:https://rezumc.org/wp-content/uploads/2015/09/loavesfishesmn.png
GEO:44.8256495;-93.3079699
X-APPLE-STRUCTURED-LOCATION;VALUE=URI;X-ADDRESS=Creekside Community Theater 9801 Penn Ave S Minneapolis 55431;X-APPLE-RADIUS=500;X-TITLE=9801 Penn Ave S:geo:-93.3079699,44.8256495
END:VEVENT
BEGIN:VEVENT
DTSTART;TZID=America/Chicago:20150925T050000
DTEND;TZID=America/Chicago:20150925T183000
DTSTAMP:20260424T023157
CREATED:20150918T142244Z
LAST-MODIFIED:20150918T142244Z
UID:10002106-1443157200-1443205800@rezumc.org
SUMMARY:Loaves & Fishes Community Meal Help
DESCRIPTION:Loaves & Fishes from HUMC serves a meal the 4th Friday each month at Creekside Community Center. If you would like to help\, please meet at Creekside Community Center\, 9801 Penn Ave S\, Minneapolis\, MN at 5:00 pm. If you have any questions\, contact Jerry Matula \, 651-437-2719.
URL:https://rezumc.org/event/loaves-fishes-community-meal-help-3/
LOCATION:Creekside Community Theater\, 9801 Penn Ave S\, Minneapolis\, 55431
ATTACH;FMTTYPE=image/png:https://rezumc.org/wp-content/uploads/2015/09/loavesfishesmn.png
GEO:44.8256495;-93.3079699
X-APPLE-STRUCTURED-LOCATION;VALUE=URI;X-ADDRESS=Creekside Community Theater 9801 Penn Ave S Minneapolis 55431;X-APPLE-RADIUS=500;X-TITLE=9801 Penn Ave S:geo:-93.3079699,44.8256495
END:VEVENT
END:VCALENDAR