BEGIN:VCALENDAR
VERSION:2.0
PRODID:-//Resurrection United Methodist Church of Hastings - ECPv6.15.20//NONSGML v1.0//EN
CALSCALE:GREGORIAN
METHOD:PUBLISH
X-ORIGINAL-URL:https://rezumc.org
X-WR-CALDESC:Events for Resurrection United Methodist Church of Hastings
REFRESH-INTERVAL;VALUE=DURATION:PT1H
X-Robots-Tag:noindex
X-PUBLISHED-TTL:PT1H
BEGIN:VTIMEZONE
TZID:America/Chicago
BEGIN:DAYLIGHT
TZOFFSETFROM:-0600
TZOFFSETTO:-0500
TZNAME:CDT
DTSTART:20180311T080000
END:DAYLIGHT
BEGIN:STANDARD
TZOFFSETFROM:-0500
TZOFFSETTO:-0600
TZNAME:CST
DTSTART:20181104T070000
END:STANDARD
BEGIN:DAYLIGHT
TZOFFSETFROM:-0600
TZOFFSETTO:-0500
TZNAME:CDT
DTSTART:20190310T080000
END:DAYLIGHT
BEGIN:STANDARD
TZOFFSETFROM:-0500
TZOFFSETTO:-0600
TZNAME:CST
DTSTART:20191103T070000
END:STANDARD
BEGIN:DAYLIGHT
TZOFFSETFROM:-0600
TZOFFSETTO:-0500
TZNAME:CDT
DTSTART:20200308T080000
END:DAYLIGHT
BEGIN:STANDARD
TZOFFSETFROM:-0500
TZOFFSETTO:-0600
TZNAME:CST
DTSTART:20201101T070000
END:STANDARD
BEGIN:DAYLIGHT
TZOFFSETFROM:-0600
TZOFFSETTO:-0500
TZNAME:CDT
DTSTART:20210314T080000
END:DAYLIGHT
BEGIN:STANDARD
TZOFFSETFROM:-0500
TZOFFSETTO:-0600
TZNAME:CST
DTSTART:20211107T070000
END:STANDARD
BEGIN:DAYLIGHT
TZOFFSETFROM:-0600
TZOFFSETTO:-0500
TZNAME:CDT
DTSTART:20220313T080000
END:DAYLIGHT
BEGIN:STANDARD
TZOFFSETFROM:-0500
TZOFFSETTO:-0600
TZNAME:CST
DTSTART:20221106T070000
END:STANDARD
END:VTIMEZONE
BEGIN:VEVENT
DTSTART;TZID=America/Chicago:20211028T100000
DTEND;TZID=America/Chicago:20211028T111500
DTSTAMP:20260424T151246
CREATED:20211021T180633Z
LAST-MODIFIED:20211021T180633Z
UID:10003077-1635415200-1635419700@rezumc.org
SUMMARY:Bible Study: All Things New
DESCRIPTION:The city of ancient Corinth was much like our own modern-day cities: a melting pot of electrifying cultural experiences to be had\, along with the myriad pitfalls of spiritual depravity. Still\, Paul wrote to the church of God in Corinth. Meaning God’s church is meant to thrive in any city and every circumstance in which we find ourselves. Paul’s letter is as timely as ever. \nOver 8 sessions\, Kelly Minter will lead you through the Letter of 2 Corinthians\, exploring the anchoring truths of bearing treasures in jars of clay\, meeting Christ through a pressing thorn\, opening wide your heart in the midst of hurtful relationships\, and what it means to embrace the lost and lonely as ministers of the new covenant. Each of us has a message to proclaim and live by: Because of Jesus the old has gone\, the new has come. \nFeatures: \n\nLeader helps to guide questions and discussions within the group\n7 personal study segments with homework to complete between 8 weeks of group sessions\nRecipes for personal enjoyment or when hosting a small group in your home\n\nBenefits: \n\nGrow in biblical literacy with in-depth study of the Book of 2 Corinthians.\nDiscover how God can use you no matter your cultural setting.\nLearn how your suffering can help you comfort others.\nGain wisdom for relationships and strengthen your church and community.\nLeave your old self behind as you celebrate the new life of a believer.\nUnderstand God’s ways will set you free.\n\nSIGN UP ONLINE
URL:https://rezumc.org/event/bible-study-all-things-new-2/
LOCATION:Resurrection Church\, 615 15th Street West\, Hastings\, 55033\, United States
CATEGORIES:Adult Studies,Bible Study
ATTACH;FMTTYPE=image/jpeg:https://rezumc.org/wp-content/uploads/2021/10/All-Things-New-recent-post-750X500.jpg
GEO:44.7309452;-92.8595028
X-APPLE-STRUCTURED-LOCATION;VALUE=URI;X-ADDRESS=Resurrection Church 615 15th Street West Hastings 55033 United States;X-APPLE-RADIUS=500;X-TITLE=615 15th Street West:geo:-92.8595028,44.7309452
END:VEVENT
BEGIN:VEVENT
DTSTART;TZID=America/Chicago:20211021T100000
DTEND;TZID=America/Chicago:20211021T111500
DTSTAMP:20260424T151246
CREATED:20211011T175207Z
LAST-MODIFIED:20211020T141717Z
UID:10003083-1634810400-1634814900@rezumc.org
SUMMARY:Bible Study: All Things New
DESCRIPTION:The city of ancient Corinth was much like our own modern-day cities: a melting pot of electrifying cultural experiences to be had\, along with the myriad pitfalls of spiritual depravity. Still\, Paul wrote to the church of God in Corinth. Meaning God’s church is meant to thrive in any city and every circumstance in which we find ourselves. Paul’s letter is as timely as ever. \nOver 8 sessions\, Kelly Minter will lead you through the Letter of 2 Corinthians\, exploring the anchoring truths of bearing treasures in jars of clay\, meeting Christ through a pressing thorn\, opening wide your heart in the midst of hurtful relationships\, and what it means to embrace the lost and lonely as ministers of the new covenant. Each of us has a message to proclaim and live by: Because of Jesus the old has gone\, the new has come. \nFeatures: \n\nLeader helps to guide questions and discussions within the group\n7 personal study segments with homework to complete between 8 weeks of group sessions\nRecipes for personal enjoyment or when hosting a small group in your home\n\nBenefits: \n\nGrow in biblical literacy with in-depth study of the Book of 2 Corinthians.\nDiscover how God can use you no matter your cultural setting.\nLearn how your suffering can help you comfort others.\nGain wisdom for relationships and strengthen your church and community.\nLeave your old self behind as you celebrate the new life of a believer.\nUnderstand God’s ways will set you free.\n\nSIGN UP ONLINE
URL:https://rezumc.org/event/bible-study-all-things-new/
LOCATION:Resurrection Church\, 615 15th Street West\, Hastings\, 55033\, United States
CATEGORIES:Adult Studies,Bible Study
ATTACH;FMTTYPE=image/jpeg:https://rezumc.org/wp-content/uploads/2021/10/All-Things-New-recent-post-750X500.jpg
GEO:44.7309452;-92.8595028
X-APPLE-STRUCTURED-LOCATION;VALUE=URI;X-ADDRESS=Resurrection Church 615 15th Street West Hastings 55033 United States;X-APPLE-RADIUS=500;X-TITLE=615 15th Street West:geo:-92.8595028,44.7309452
END:VEVENT
BEGIN:VEVENT
DTSTART;TZID=America/Chicago:20210415T100000
DTEND;TZID=America/Chicago:20210415T113000
DTSTAMP:20260424T151246
CREATED:20210404T145628Z
LAST-MODIFIED:20221123T140852Z
UID:10002212-1618480800-1618486200@rezumc.org
SUMMARY:Finding God Faithful (mornings)
DESCRIPTION:An 8-week study from Kelly Minter on the book of Joseph that observes how God’s sovereignty reigns\, even in our darkest moments. Moderated by Jean Lund. \n[efsbutton style=”” size=”” color_class=”” align=”left” type=”link” target=”false” title=”REGISTER/MORNINGS” link=”https://rezumc.breezechms.com/form/17fcf625859906414727080189″]
URL:https://rezumc.org/event/finding-god-faithful-morning/
LOCATION:Resurrection Church\, 615 15th Street West\, Hastings\, 55033\, United States
CATEGORIES:Adult Studies
ATTACH;FMTTYPE=image/jpeg:https://rezumc.org/wp-content/uploads/2021/04/finding_god_faithful-SCREEN-s.jpg
GEO:44.7309452;-92.8595028
X-APPLE-STRUCTURED-LOCATION;VALUE=URI;X-ADDRESS=Resurrection Church 615 15th Street West Hastings 55033 United States;X-APPLE-RADIUS=500;X-TITLE=615 15th Street West:geo:-92.8595028,44.7309452
END:VEVENT
BEGIN:VEVENT
DTSTART;TZID=America/Chicago:20190425T100000
DTEND;TZID=America/Chicago:20190425T113000
DTSTAMP:20260424T151246
CREATED:20190405T200035Z
LAST-MODIFIED:20190405T200035Z
UID:10002739-1556186400-1556191800@rezumc.org
SUMMARY:Discerning the Voice of God Study
DESCRIPTION:Through these 7 DVD-sessions with Priscilla Shirer\, discover the key to clear and daily communication with God – humble obedience.  Learn how being surrendered unlocks His many blessings intended for us\, centers us in His will\, and helps us discern His voice in everyday life. \n[efsbutton style=”” size=”” color_class=”” align=”left” type=”link” target=”false” title=”REGISTER” link=”https://rezumc.breezechms.com/form/17fcf62585990641472709″]
URL:https://rezumc.org/event/desiring-voice-god-study/
LOCATION:Resurrection Church\, 615 15th Street West\, Hastings\, 55033\, United States
CATEGORIES:Adult Studies
ATTACH;FMTTYPE=image/jpeg:https://rezumc.org/wp-content/uploads/2019/04/study-discerning1-s.jpg
GEO:44.7309452;-92.8595028
X-APPLE-STRUCTURED-LOCATION;VALUE=URI;X-ADDRESS=Resurrection Church 615 15th Street West Hastings 55033 United States;X-APPLE-RADIUS=500;X-TITLE=615 15th Street West:geo:-92.8595028,44.7309452
END:VEVENT
BEGIN:VEVENT
DTSTART;TZID=America/Chicago:20190425T100000
DTEND;TZID=America/Chicago:20190425T113000
DTSTAMP:20260424T151246
CREATED:20190405T200035Z
LAST-MODIFIED:20190405T200035Z
UID:10002740-1556186400-1556191800@rezumc.org
SUMMARY:Discerning the Voice of God Study
DESCRIPTION:Through these 7 DVD-sessions with Priscilla Shirer\, discover the key to clear and daily communication with God – humble obedience.  Learn how being surrendered unlocks His many blessings intended for us\, centers us in His will\, and helps us discern His voice in everyday life. \n[efsbutton style=”” size=”” color_class=”” align=”left” type=”link” target=”false” title=”REGISTER” link=”https://rezumc.breezechms.com/form/17fcf62585990641472709″]
URL:https://rezumc.org/event/desiring-voice-god-study-2/
LOCATION:Resurrection Church\, 615 15th Street West\, Hastings\, 55033\, United States
CATEGORIES:Adult Studies
ATTACH;FMTTYPE=image/jpeg:https://rezumc.org/wp-content/uploads/2019/04/study-discerning1-s.jpg
GEO:44.7309452;-92.8595028
X-APPLE-STRUCTURED-LOCATION;VALUE=URI;X-ADDRESS=Resurrection Church 615 15th Street West Hastings 55033 United States;X-APPLE-RADIUS=500;X-TITLE=615 15th Street West:geo:-92.8595028,44.7309452
END:VEVENT
END:VCALENDAR