BEGIN:VCALENDAR
VERSION:2.0
PRODID:-//Resurrection United Methodist Church of Hastings - ECPv6.15.20//NONSGML v1.0//EN
CALSCALE:GREGORIAN
METHOD:PUBLISH
X-ORIGINAL-URL:https://rezumc.org
X-WR-CALDESC:Events for Resurrection United Methodist Church of Hastings
REFRESH-INTERVAL;VALUE=DURATION:PT1H
X-Robots-Tag:noindex
X-PUBLISHED-TTL:PT1H
BEGIN:VTIMEZONE
TZID:America/Chicago
BEGIN:DAYLIGHT
TZOFFSETFROM:-0600
TZOFFSETTO:-0500
TZNAME:CDT
DTSTART:20190310T080000
END:DAYLIGHT
BEGIN:STANDARD
TZOFFSETFROM:-0500
TZOFFSETTO:-0600
TZNAME:CST
DTSTART:20191103T070000
END:STANDARD
BEGIN:DAYLIGHT
TZOFFSETFROM:-0600
TZOFFSETTO:-0500
TZNAME:CDT
DTSTART:20200308T080000
END:DAYLIGHT
BEGIN:STANDARD
TZOFFSETFROM:-0500
TZOFFSETTO:-0600
TZNAME:CST
DTSTART:20201101T070000
END:STANDARD
BEGIN:DAYLIGHT
TZOFFSETFROM:-0600
TZOFFSETTO:-0500
TZNAME:CDT
DTSTART:20210314T080000
END:DAYLIGHT
BEGIN:STANDARD
TZOFFSETFROM:-0500
TZOFFSETTO:-0600
TZNAME:CST
DTSTART:20211107T070000
END:STANDARD
END:VTIMEZONE
BEGIN:VEVENT
DTSTART;TZID=America/Chicago:20200807T120000
DTEND;TZID=America/Chicago:20200808T120000
DTSTAMP:20260424T122246
CREATED:20200727T162231Z
LAST-MODIFIED:20200729T024652Z
UID:10002310-1596801600-1596888000@rezumc.org
SUMMARY:rezYouth Lock-In
DESCRIPTION:A fun\, free overnight retreat at Resurrection UMC Hastings for any student grade 6-12 hosted by staff members Anthony Perry and Annah Williams. Students will be served lunch upon arrival and all meals/snacks will be provided. All activities have been designed with social distancing and for the safety of all participants. Face masks are required. \n[efsbutton style=”” size=”” color_class=”” align=”left” type=”link” target=”false” title=”Permission Form” link=”https://rezumc.breezechms.com/form/2f12df91754199479″]
URL:https://rezumc.org/event/rezyouth-lock-in/
LOCATION:Resurrection Church\, 615 15th Street West\, Hastings\, 55033\, United States
CATEGORIES:Oasis
ATTACH;FMTTYPE=image/jpeg:https://rezumc.org/wp-content/uploads/2020/07/victoria-feliniak-mR4_EGY9zTc-unsplash-scaled.jpg
ORGANIZER;CN="Annah Williams":MAILTO:annah@rezumc.org
GEO:44.7309452;-92.8595028
X-APPLE-STRUCTURED-LOCATION;VALUE=URI;X-ADDRESS=Resurrection Church 615 15th Street West Hastings 55033 United States;X-APPLE-RADIUS=500;X-TITLE=615 15th Street West:geo:-92.8595028,44.7309452
END:VEVENT
BEGIN:VEVENT
DTSTART;TZID=America/Chicago:20200807T120000
DTEND;TZID=America/Chicago:20200808T120000
DTSTAMP:20260424T122246
CREATED:20200727T162231Z
LAST-MODIFIED:20200727T162231Z
UID:10002312-1596801600-1596888000@rezumc.org
SUMMARY:rezYouth Lock-In
DESCRIPTION:A fun\, free overnight retreat at Resurrection UMC Hastings for any student grade 6-12 hosted by staff members Anthony Perry and Annah Williams. Students will be served lunch upon arrival and all meals/snacks will be provided. All activities have been designed with social distancing and for the safety of all participants. Face masks are required. \n[efsbutton style=”” size=”” color_class=”” align=”left” type=”link” target=”false” title=”Permission Form” link=”https://rezumc.breezechms.com/form/2f12df91754199479″]
URL:https://rezumc.org/event/rezyouth-lock-in-2/
LOCATION:Resurrection Church\, 615 15th Street West\, Hastings\, 55033\, United States
CATEGORIES:Oasis
ATTACH;FMTTYPE=image/jpeg:https://rezumc.org/wp-content/uploads/2020/07/victoria-feliniak-mR4_EGY9zTc-unsplash-scaled.jpg
ORGANIZER;CN="Annah Williams":MAILTO:annah@rezumc.org
GEO:44.7309452;-92.8595028
X-APPLE-STRUCTURED-LOCATION;VALUE=URI;X-ADDRESS=Resurrection Church 615 15th Street West Hastings 55033 United States;X-APPLE-RADIUS=500;X-TITLE=615 15th Street West:geo:-92.8595028,44.7309452
END:VEVENT
END:VCALENDAR