BEGIN:VCALENDAR
VERSION:2.0
PRODID:-//Resurrection United Methodist Church of Hastings - ECPv6.15.20//NONSGML v1.0//EN
CALSCALE:GREGORIAN
METHOD:PUBLISH
X-ORIGINAL-URL:https://rezumc.org
X-WR-CALDESC:Events for Resurrection United Methodist Church of Hastings
REFRESH-INTERVAL;VALUE=DURATION:PT1H
X-Robots-Tag:noindex
X-PUBLISHED-TTL:PT1H
BEGIN:VTIMEZONE
TZID:America/Chicago
BEGIN:DAYLIGHT
TZOFFSETFROM:-0600
TZOFFSETTO:-0500
TZNAME:CDT
DTSTART:20140309T080000
END:DAYLIGHT
BEGIN:STANDARD
TZOFFSETFROM:-0500
TZOFFSETTO:-0600
TZNAME:CST
DTSTART:20141102T070000
END:STANDARD
BEGIN:DAYLIGHT
TZOFFSETFROM:-0600
TZOFFSETTO:-0500
TZNAME:CDT
DTSTART:20150308T080000
END:DAYLIGHT
BEGIN:STANDARD
TZOFFSETFROM:-0500
TZOFFSETTO:-0600
TZNAME:CST
DTSTART:20151101T070000
END:STANDARD
BEGIN:DAYLIGHT
TZOFFSETFROM:-0600
TZOFFSETTO:-0500
TZNAME:CDT
DTSTART:20160313T080000
END:DAYLIGHT
BEGIN:STANDARD
TZOFFSETFROM:-0500
TZOFFSETTO:-0600
TZNAME:CST
DTSTART:20161106T070000
END:STANDARD
END:VTIMEZONE
BEGIN:VEVENT
DTSTART;TZID=America/Chicago:20150812T150000
DTEND;TZID=America/Chicago:20150812T170000
DTSTAMP:20260424T170501
CREATED:20150806T234414Z
LAST-MODIFIED:20150807T013550Z
UID:10002045-1439391600-1439398800@rezumc.org
SUMMARY:Wet\, Wacky\, Wild\, Wonderful Wednesday
DESCRIPTION:Super fun in the park from 3:00 to 5:00 on Wednesday with a meal served at 5:00 (hot dogs\, fruit\, chips\, icees). Open to kids ages 4 thru 4th grade (older kids may help and earn CAMPER BUCKS); pre-registration is appreciated. Sign up online or call. \n[contact-form-7 id=”914″ title=”Event Registration_Wild Wednesday”]
URL:https://rezumc.org/event/wet-wacky-wild-wonderful-wednesday/
LOCATION:Pioneer Park\, 801 15th Street West\, Hastings\, MN\, 55033\, United States
ATTACH;FMTTYPE=image/jpeg:https://rezumc.org/wp-content/uploads/2015/08/WWWWwed1.jpg
ORGANIZER;CN="4Kids":MAILTO:julie@hastingsumc.org
GEO:44.7306099;-92.86152
X-APPLE-STRUCTURED-LOCATION;VALUE=URI;X-ADDRESS=Pioneer Park 801 15th Street West Hastings MN 55033 United States;X-APPLE-RADIUS=500;X-TITLE=801 15th Street West:geo:-92.86152,44.7306099
END:VEVENT
BEGIN:VEVENT
DTSTART;TZID=America/Chicago:20150812T150000
DTEND;TZID=America/Chicago:20150812T170000
DTSTAMP:20260424T170501
CREATED:20150806T234414Z
LAST-MODIFIED:20150806T234414Z
UID:10002044-1439391600-1439398800@rezumc.org
SUMMARY:Wet\, Wacky\, Wild\, Wonderful Wednesday
DESCRIPTION:Super fun in the park from 3:00 to 5:00 on Wednesday with a meal served at 5:00 (hot dogs\, fruit\, chips\, icees). Open to kids ages 4 thru 4th grade (older kids may help and earn CAMPER BUCKS); pre-registration is appreciated. Sign up online or call. \n[contact-form-7 id=”914″ title=”Event Registration_Wild Wednesday”]
URL:https://rezumc.org/event/wet-wacky-wild-wonderful-wednesday-2/
LOCATION:Pioneer Park\, 801 15th Street West\, Hastings\, MN\, 55033\, United States
ATTACH;FMTTYPE=image/jpeg:https://rezumc.org/wp-content/uploads/2015/08/WWWWwed1.jpg
ORGANIZER;CN="4Kids":MAILTO:julie@hastingsumc.org
GEO:44.7306099;-92.86152
X-APPLE-STRUCTURED-LOCATION;VALUE=URI;X-ADDRESS=Pioneer Park 801 15th Street West Hastings MN 55033 United States;X-APPLE-RADIUS=500;X-TITLE=801 15th Street West:geo:-92.86152,44.7306099
END:VEVENT
BEGIN:VEVENT
DTSTART;TZID=America/Chicago:20150812T150000
DTEND;TZID=America/Chicago:20150812T170000
DTSTAMP:20260424T170501
CREATED:20150806T234414Z
LAST-MODIFIED:20150806T234414Z
UID:10002043-1439391600-1439398800@rezumc.org
SUMMARY:Wet\, Wacky\, Wild\, Wonderful Wednesday
DESCRIPTION:Super fun in the park from 3:00 to 5:00 on Wednesday with a meal served at 5:00 (hot dogs\, fruit\, chips\, icees). Open to kids ages 4 thru 4th grade (older kids may help and earn CAMPER BUCKS); pre-registration is appreciated. Sign up online or call. \n[contact-form-7 id=”914″ title=”Event Registration_Wild Wednesday”]
URL:https://rezumc.org/event/wet-wacky-wild-wonderful-wednesday-3/
LOCATION:Pioneer Park\, 801 15th Street West\, Hastings\, MN\, 55033\, United States
ATTACH;FMTTYPE=image/jpeg:https://rezumc.org/wp-content/uploads/2015/08/WWWWwed1.jpg
ORGANIZER;CN="4Kids":MAILTO:julie@hastingsumc.org
GEO:44.7306099;-92.86152
X-APPLE-STRUCTURED-LOCATION;VALUE=URI;X-ADDRESS=Pioneer Park 801 15th Street West Hastings MN 55033 United States;X-APPLE-RADIUS=500;X-TITLE=801 15th Street West:geo:-92.86152,44.7306099
END:VEVENT
END:VCALENDAR