BEGIN:VCALENDAR
VERSION:2.0
PRODID:-//Resurrection United Methodist Church of Hastings - ECPv6.15.20//NONSGML v1.0//EN
CALSCALE:GREGORIAN
METHOD:PUBLISH
X-ORIGINAL-URL:https://rezumc.org
X-WR-CALDESC:Events for Resurrection United Methodist Church of Hastings
REFRESH-INTERVAL;VALUE=DURATION:PT1H
X-Robots-Tag:noindex
X-PUBLISHED-TTL:PT1H
BEGIN:VTIMEZONE
TZID:America/Chicago
BEGIN:DAYLIGHT
TZOFFSETFROM:-0600
TZOFFSETTO:-0500
TZNAME:CDT
DTSTART:20160313T080000
END:DAYLIGHT
BEGIN:STANDARD
TZOFFSETFROM:-0500
TZOFFSETTO:-0600
TZNAME:CST
DTSTART:20161106T070000
END:STANDARD
BEGIN:DAYLIGHT
TZOFFSETFROM:-0600
TZOFFSETTO:-0500
TZNAME:CDT
DTSTART:20170312T080000
END:DAYLIGHT
BEGIN:STANDARD
TZOFFSETFROM:-0500
TZOFFSETTO:-0600
TZNAME:CST
DTSTART:20171105T070000
END:STANDARD
BEGIN:DAYLIGHT
TZOFFSETFROM:-0600
TZOFFSETTO:-0500
TZNAME:CDT
DTSTART:20180311T080000
END:DAYLIGHT
BEGIN:STANDARD
TZOFFSETFROM:-0500
TZOFFSETTO:-0600
TZNAME:CST
DTSTART:20181104T070000
END:STANDARD
BEGIN:DAYLIGHT
TZOFFSETFROM:-0600
TZOFFSETTO:-0500
TZNAME:CDT
DTSTART:20190310T080000
END:DAYLIGHT
BEGIN:STANDARD
TZOFFSETFROM:-0500
TZOFFSETTO:-0600
TZNAME:CST
DTSTART:20191103T070000
END:STANDARD
END:VTIMEZONE
BEGIN:VEVENT
DTSTART;TZID=America/Chicago:20180625T090000
DTEND;TZID=America/Chicago:20180629T120000
DTSTAMP:20260425T145009
CREATED:20180401T034028Z
LAST-MODIFIED:20180608T182938Z
UID:10001929-1529917200-1530273600@rezumc.org
SUMMARY:Vacation Bible School 2018
DESCRIPTION:Join us June 25-29\, 2018 from 9:00 am—12:00 pm each day as we kick off the summer in a BIG way with VBS. Kids ages 3 years through entering 5th grade are invited to join us at VBS each day at Shipwrecked VBS\, where kids are anchored in the truth that Jesus carries them through life’s storms. Register for VBS today.\n[efsbutton style=”” size=”” color_class=”” align=”left” type=”link” target=”false” title=”REGISTER” link=”https://rezumc.breezechms.com/form/2f12df992236″] | [efsbutton style=”” size=”” color_class=”” icon=”fi-heart” align=”left” type=”link” target=”false” title=”Donate Snacks” link=”https://airtable.com/shrr0Rp4IIeMIplov”]
URL:https://rezumc.org/event/vbs2018/
LOCATION:Resurrection Church\, 615 15th Street West\, Hastings\, 55033\, United States
ATTACH;FMTTYPE=image/jpeg:https://rezumc.org/wp-content/uploads/2018/03/shipwrecked-vbs-og-image-s.jpg
ORGANIZER;CN="Mandy Lewis":MAILTO:mandy@rezumc.org
GEO:44.7309452;-92.8595028
X-APPLE-STRUCTURED-LOCATION;VALUE=URI;X-ADDRESS=Resurrection Church 615 15th Street West Hastings 55033 United States;X-APPLE-RADIUS=500;X-TITLE=615 15th Street West:geo:-92.8595028,44.7309452
END:VEVENT
BEGIN:VEVENT
DTSTART;TZID=America/Chicago:20180625T090000
DTEND;TZID=America/Chicago:20180629T120000
DTSTAMP:20260425T145009
CREATED:20180401T034028Z
LAST-MODIFIED:20180401T034028Z
UID:10001930-1529917200-1530273600@rezumc.org
SUMMARY:Vacation Bible School 2018
DESCRIPTION:Join us June 25-29\, 2018 from 9:00 am—12:00 pm each day as we kick off the summer in a BIG way with VBS. Kids ages 3 years through entering 5th grade are invited to join us at VBS each day at Shipwrecked VBS\, where kids are anchored in the truth that Jesus carries them through life’s storms. Register for VBS today.\n[efsbutton style=”” size=”” color_class=”” align=”left” type=”link” target=”false” title=”REGISTER” link=”https://rezumc.breezechms.com/form/2f12df992236″] | [efsbutton style=”” size=”” color_class=”” icon=”fi-heart” align=”left” type=”link” target=”false” title=”Donate Snacks” link=”https://airtable.com/shrr0Rp4IIeMIplov”]
URL:https://rezumc.org/event/vbs2018-2/
LOCATION:Resurrection Church\, 615 15th Street West\, Hastings\, 55033\, United States
ATTACH;FMTTYPE=image/jpeg:https://rezumc.org/wp-content/uploads/2018/03/shipwrecked-vbs-og-image-s.jpg
ORGANIZER;CN="Mandy Lewis":MAILTO:mandy@rezumc.org
GEO:44.7309452;-92.8595028
X-APPLE-STRUCTURED-LOCATION;VALUE=URI;X-ADDRESS=Resurrection Church 615 15th Street West Hastings 55033 United States;X-APPLE-RADIUS=500;X-TITLE=615 15th Street West:geo:-92.8595028,44.7309452
END:VEVENT
BEGIN:VEVENT
DTSTART;TZID=America/Chicago:20170626T090000
DTEND;TZID=America/Chicago:20170630T120000
DTSTAMP:20260425T145009
CREATED:20170406T162004Z
LAST-MODIFIED:20170608T152131Z
UID:10002353-1498467600-1498824000@rezumc.org
SUMMARY:Vacation Bible School
DESCRIPTION:Join us June 26-30 from 9:00 am—12:00 pm each day as we kick off the summer in a BIG way with VBS. Kids ages 3 years through entering 5th grade are invited to join us at VBS this summer as we learn that we are all created by God\, built for a purpose. Register for VBS today. \n\n\n[efsbutton style=”” size=”” color_class=”” align=”left” type=”link” target=”false” title=”REGISTER” link=”https://rezumc.breezechms.com/form/2f12df99223″]
URL:https://rezumc.org/event/vbs2017/
LOCATION:Resurrection Church\, 615 15th Street West\, Hastings\, 55033\, United States
ATTACH;FMTTYPE=image/jpeg:https://rezumc.org/wp-content/uploads/2017/04/maker-fun-factory-vbs-2017-min.jpg
ORGANIZER;CN="Mandy Lewis":MAILTO:mandy@rezumc.org
GEO:44.7309452;-92.8595028
X-APPLE-STRUCTURED-LOCATION;VALUE=URI;X-ADDRESS=Resurrection Church 615 15th Street West Hastings 55033 United States;X-APPLE-RADIUS=500;X-TITLE=615 15th Street West:geo:-92.8595028,44.7309452
END:VEVENT
BEGIN:VEVENT
DTSTART;TZID=America/Chicago:20170626T090000
DTEND;TZID=America/Chicago:20170630T120000
DTSTAMP:20260425T145009
CREATED:20170406T162004Z
LAST-MODIFIED:20170406T162004Z
UID:10002351-1498467600-1498824000@rezumc.org
SUMMARY:Vacation Bible School
DESCRIPTION:Join us June 26-30 from 9:00 am—12:00 pm each day as we kick off the summer in a BIG way with VBS. Kids ages 3 years through entering 5th grade are invited to join us at VBS this summer as we learn that we are all created by God\, built for a purpose. Register for VBS today. \n\n\n[efsbutton style=”” size=”” color_class=”” align=”left” type=”link” target=”false” title=”REGISTER” link=”https://rezumc.breezechms.com/form/2f12df99223″]
URL:https://rezumc.org/event/vbs2017-2/
LOCATION:Resurrection Church\, 615 15th Street West\, Hastings\, 55033\, United States
ATTACH;FMTTYPE=image/jpeg:https://rezumc.org/wp-content/uploads/2017/04/maker-fun-factory-vbs-2017-min.jpg
ORGANIZER;CN="Mandy Lewis":MAILTO:mandy@rezumc.org
GEO:44.7309452;-92.8595028
X-APPLE-STRUCTURED-LOCATION;VALUE=URI;X-ADDRESS=Resurrection Church 615 15th Street West Hastings 55033 United States;X-APPLE-RADIUS=500;X-TITLE=615 15th Street West:geo:-92.8595028,44.7309452
END:VEVENT
BEGIN:VEVENT
DTSTART;TZID=America/Chicago:20170626T090000
DTEND;TZID=America/Chicago:20170630T120000
DTSTAMP:20260425T145009
CREATED:20170406T162004Z
LAST-MODIFIED:20170406T162004Z
UID:10001807-1498467600-1498824000@rezumc.org
SUMMARY:Vacation Bible School
DESCRIPTION:Join us June 26-30 from 9:00 am—12:00 pm each day as we kick off the summer in a BIG way with VBS. Kids ages 3 years through entering 5th grade are invited to join us at VBS this summer as we learn that we are all created by God\, built for a purpose. Register for VBS today. \n\n\n[efsbutton style=”” size=”” color_class=”” align=”left” type=”link” target=”false” title=”REGISTER” link=”https://rezumc.breezechms.com/form/2f12df99223″]
URL:https://rezumc.org/event/vbs2017-3/
LOCATION:Resurrection Church\, 615 15th Street West\, Hastings\, 55033\, United States
ATTACH;FMTTYPE=image/jpeg:https://rezumc.org/wp-content/uploads/2017/04/maker-fun-factory-vbs-2017-min.jpg
ORGANIZER;CN="Mandy Lewis":MAILTO:mandy@rezumc.org
GEO:44.7309452;-92.8595028
X-APPLE-STRUCTURED-LOCATION;VALUE=URI;X-ADDRESS=Resurrection Church 615 15th Street West Hastings 55033 United States;X-APPLE-RADIUS=500;X-TITLE=615 15th Street West:geo:-92.8595028,44.7309452
END:VEVENT
END:VCALENDAR