BEGIN:VCALENDAR
VERSION:2.0
PRODID:-//Resurrection United Methodist Church of Hastings - ECPv6.15.20//NONSGML v1.0//EN
CALSCALE:GREGORIAN
METHOD:PUBLISH
X-ORIGINAL-URL:https://rezumc.org
X-WR-CALDESC:Events for Resurrection United Methodist Church of Hastings
REFRESH-INTERVAL;VALUE=DURATION:PT1H
X-Robots-Tag:noindex
X-PUBLISHED-TTL:PT1H
BEGIN:VTIMEZONE
TZID:America/Chicago
BEGIN:DAYLIGHT
TZOFFSETFROM:-0600
TZOFFSETTO:-0500
TZNAME:CDT
DTSTART:20240310T080000
END:DAYLIGHT
BEGIN:STANDARD
TZOFFSETFROM:-0500
TZOFFSETTO:-0600
TZNAME:CST
DTSTART:20241103T070000
END:STANDARD
BEGIN:DAYLIGHT
TZOFFSETFROM:-0600
TZOFFSETTO:-0500
TZNAME:CDT
DTSTART:20250309T080000
END:DAYLIGHT
BEGIN:STANDARD
TZOFFSETFROM:-0500
TZOFFSETTO:-0600
TZNAME:CST
DTSTART:20251102T070000
END:STANDARD
BEGIN:DAYLIGHT
TZOFFSETFROM:-0600
TZOFFSETTO:-0500
TZNAME:CDT
DTSTART:20260308T080000
END:DAYLIGHT
BEGIN:STANDARD
TZOFFSETFROM:-0500
TZOFFSETTO:-0600
TZNAME:CST
DTSTART:20261101T070000
END:STANDARD
BEGIN:DAYLIGHT
TZOFFSETFROM:-0600
TZOFFSETTO:-0500
TZNAME:CDT
DTSTART:20270314T080000
END:DAYLIGHT
BEGIN:STANDARD
TZOFFSETFROM:-0500
TZOFFSETTO:-0600
TZNAME:CST
DTSTART:20271107T070000
END:STANDARD
END:VTIMEZONE
BEGIN:VEVENT
DTSTART;TZID=America/Chicago:20250921T110000
DTEND;TZID=America/Chicago:20250921T120000
DTSTAMP:20260424T185127
CREATED:20250907T160428Z
LAST-MODIFIED:20250907T160428Z
UID:10003417-1758452400-1758456000@rezumc.org
SUMMARY:Confirmation Q&A Session
DESCRIPTION:If you’re a parent or guardian of a youth who is in grades 7–12\, plan on attending this informational meeting covering the new Confirmation program aimed at helping students get a real sense of what it means and looks like to live out the Christian faith.
URL:https://rezumc.org/event/confirmation-qa-session-2025/
LOCATION:Resurrection Church\, 615 15th Street West\, Hastings\, 55033\, United States
CATEGORIES:Oasis,rezLife
ATTACH;FMTTYPE=image/jpeg:https://rezumc.org/wp-content/uploads/2025/09/SLIDE-confirmation-2025-sep-21-q-a-s.jpg
ORGANIZER;CN="Mark Miller":MAILTO:pastormark@rezumc.org
GEO:44.7309452;-92.8595028
X-APPLE-STRUCTURED-LOCATION;VALUE=URI;X-ADDRESS=Resurrection Church 615 15th Street West Hastings 55033 United States;X-APPLE-RADIUS=500;X-TITLE=615 15th Street West:geo:-92.8595028,44.7309452
END:VEVENT
BEGIN:VEVENT
DTSTART;TZID=America/Chicago:20250924T183000
DTEND;TZID=America/Chicago:20250924T193000
DTSTAMP:20260424T185127
CREATED:20250907T160535Z
LAST-MODIFIED:20250907T163903Z
UID:10003418-1758738600-1758742200@rezumc.org
SUMMARY:Confirmation Q&A Session
DESCRIPTION:If you’re a parent or guardian of a youth who is in grades 7–12\, plan on attending this informational meeting covering the new Confirmation program aimed at helping students get a real sense of what it means and looks like to live out the Christian faith.
URL:https://rezumc.org/event/confirmation-qa-session-2/
LOCATION:Resurrection Church\, 615 15th Street West\, Hastings\, 55033\, United States
CATEGORIES:Oasis,rezLife
ATTACH;FMTTYPE=image/jpeg:https://rezumc.org/wp-content/uploads/2025/09/SLIDE-confirmation-2025-sep-24q-a-s-1.jpg
ORGANIZER;CN="Mark Miller":MAILTO:pastormark@rezumc.org
GEO:44.7309452;-92.8595028
X-APPLE-STRUCTURED-LOCATION;VALUE=URI;X-ADDRESS=Resurrection Church 615 15th Street West Hastings 55033 United States;X-APPLE-RADIUS=500;X-TITLE=615 15th Street West:geo:-92.8595028,44.7309452
END:VEVENT
BEGIN:VEVENT
DTSTART;TZID=America/Chicago:20260127T190000
DTEND;TZID=America/Chicago:20260127T200000
DTSTAMP:20260424T185127
CREATED:20260111T153943Z
LAST-MODIFIED:20260114T215139Z
UID:10003484-1769540400-1769544000@rezumc.org
SUMMARY:Annual Church Conference
DESCRIPTION:Our Annual Church Conference/State of the Church Celebration takes place on JAN 27@7p. Attend to hear how we’re doing\, vote on leaders\, present the Humble Servant Award\, listen to plans for 2026\, and more! We’ll also enjoy some delicious treats during the event. In case you can’t make it\, the event will also be broadcast on our YouTube channel.
URL:https://rezumc.org/event/annual-church-conference-2026/
LOCATION:Resurrection Church\, 615 15th Street West\, Hastings\, 55033\, United States
CATEGORIES:rezLife
ATTACH;FMTTYPE=image/jpeg:https://rezumc.org/wp-content/uploads/2026/01/annual-state-of-the-church-2026-s.jpg
GEO:44.7309452;-92.8595028
X-APPLE-STRUCTURED-LOCATION;VALUE=URI;X-ADDRESS=Resurrection Church 615 15th Street West Hastings 55033 United States;X-APPLE-RADIUS=500;X-TITLE=615 15th Street West:geo:-92.8595028,44.7309452
END:VEVENT
BEGIN:VEVENT
DTSTART;TZID=America/Chicago:20260207T080000
DTEND;TZID=America/Chicago:20260207T120000
DTSTAMP:20260424T185127
CREATED:20260201T151217Z
LAST-MODIFIED:20260201T151217Z
UID:10003491-1770451200-1770465600@rezumc.org
SUMMARY:Annual Super Breakfast
DESCRIPTION:Enjoy a great breakfast put on by the Hastings Rivertown Lions Club. It’s a free breakfast\, with donations welcomed (proceeds go to the Hastings Fire Department to benefit Firefighters and First Responders). \nSUPER MENU: Ham\, French Toast\, Scrambled Eggs\, Fruit\, Milk\, Coffee\, and Juice
URL:https://rezumc.org/event/annual-super-breakfast-2026/
LOCATION:Resurrection Church\, 615 15th Street West\, Hastings\, 55033\, United States
CATEGORIES:rezLife
ATTACH;FMTTYPE=image/jpeg:https://rezumc.org/wp-content/uploads/2026/02/s-Lions-Club-Breakfast-2026.jpg
GEO:44.7309452;-92.8595028
X-APPLE-STRUCTURED-LOCATION;VALUE=URI;X-ADDRESS=Resurrection Church 615 15th Street West Hastings 55033 United States;X-APPLE-RADIUS=500;X-TITLE=615 15th Street West:geo:-92.8595028,44.7309452
END:VEVENT
BEGIN:VEVENT
DTSTART;TZID=America/Chicago:20260218T190000
DTEND;TZID=America/Chicago:20260218T200000
DTSTAMP:20260424T185127
CREATED:20260202T162755Z
LAST-MODIFIED:20260218T173733Z
UID:10003494-1771441200-1771444800@rezumc.org
SUMMARY:Ash Wednesday service
DESCRIPTION:Please join us for our Ash Wednesday service as we celebrate the beginning of Lent (also broadcast live on our YouTube channel and Facebook page).
URL:https://rezumc.org/event/ash-wednesday-service/
LOCATION:Resurrection Church\, 615 15th Street West\, Hastings\, 55033\, United States
CATEGORIES:rezLife,Students
ATTACH;FMTTYPE=image/jpeg:https://rezumc.org/wp-content/uploads/2026/02/ash-wednesday-s-1.jpg
GEO:44.7309452;-92.8595028
X-APPLE-STRUCTURED-LOCATION;VALUE=URI;X-ADDRESS=Resurrection Church 615 15th Street West Hastings 55033 United States;X-APPLE-RADIUS=500;X-TITLE=615 15th Street West:geo:-92.8595028,44.7309452
END:VEVENT
END:VCALENDAR