BEGIN:VCALENDAR
VERSION:2.0
PRODID:-//Resurrection United Methodist Church of Hastings - ECPv6.15.20//NONSGML v1.0//EN
CALSCALE:GREGORIAN
METHOD:PUBLISH
X-WR-CALNAME:Resurrection United Methodist Church of Hastings
X-ORIGINAL-URL:https://rezumc.org
X-WR-CALDESC:Events for Resurrection United Methodist Church of Hastings
REFRESH-INTERVAL;VALUE=DURATION:PT1H
X-Robots-Tag:noindex
X-PUBLISHED-TTL:PT1H
BEGIN:VTIMEZONE
TZID:America/Chicago
BEGIN:DAYLIGHT
TZOFFSETFROM:-0600
TZOFFSETTO:-0500
TZNAME:CDT
DTSTART:20240310T080000
END:DAYLIGHT
BEGIN:STANDARD
TZOFFSETFROM:-0500
TZOFFSETTO:-0600
TZNAME:CST
DTSTART:20241103T070000
END:STANDARD
BEGIN:DAYLIGHT
TZOFFSETFROM:-0600
TZOFFSETTO:-0500
TZNAME:CDT
DTSTART:20250309T080000
END:DAYLIGHT
BEGIN:STANDARD
TZOFFSETFROM:-0500
TZOFFSETTO:-0600
TZNAME:CST
DTSTART:20251102T070000
END:STANDARD
BEGIN:DAYLIGHT
TZOFFSETFROM:-0600
TZOFFSETTO:-0500
TZNAME:CDT
DTSTART:20260308T080000
END:DAYLIGHT
BEGIN:STANDARD
TZOFFSETFROM:-0500
TZOFFSETTO:-0600
TZNAME:CST
DTSTART:20261101T070000
END:STANDARD
END:VTIMEZONE
BEGIN:VEVENT
DTSTART;TZID=America/Chicago:20251001T180000
DTEND;TZID=America/Chicago:20251001T183000
DTSTAMP:20260421T010321
CREATED:20250928T151536Z
LAST-MODIFIED:20250928T151536Z
UID:10003423-1759341600-1759343400@rezumc.org
SUMMARY:Dinner On Us
DESCRIPTION:It’s Wednesday community dinner time at Resurrection and you’re invited\, along with anyone else you bring. Cost? Absolutely nothing! Hope you can make it.
URL:https://rezumc.org/event/dinner-on-us-88/
LOCATION:Resurrection Church\, 615 15th Street West\, Hastings\, 55033\, United States
CATEGORIES:rezCommunity,Wednesday Dinner
ATTACH;FMTTYPE=image/jpeg:https://rezumc.org/wp-content/uploads/2022/08/wednesday-dinners-s.jpg
GEO:44.7309452;-92.8595028
X-APPLE-STRUCTURED-LOCATION;VALUE=URI;X-ADDRESS=Resurrection Church 615 15th Street West Hastings 55033 United States;X-APPLE-RADIUS=500;X-TITLE=615 15th Street West:geo:-92.8595028,44.7309452
END:VEVENT
BEGIN:VEVENT
DTSTART;TZID=America/Chicago:20251005T113000
DTEND;TZID=America/Chicago:20251005T140000
DTSTAMP:20260421T010321
CREATED:20250914T135114Z
LAST-MODIFIED:20250914T135114Z
UID:10003420-1759663800-1759672800@rezumc.org
SUMMARY:Adopt-A-Highway Cleanup
DESCRIPTION:With Fall in the air\, it’s time to clean up the stretch of highway Resurrection UMC has committed to care for—the north and south sides of Highway 55 between Pleasant Avenue and Vermillion Street (we don’t do the median). We’ll head out from Resurrection (rain or shine) and meet at 11:30 am in the Rivertown Eye Clinic parking lot. Garbage bags\, fluorescent green safety vests\, and gloves will be supplied. And remember: the more volunteers\, the faster we finish.
URL:https://rezumc.org/event/adopt-a-highway-cleanup-fall-2025/
LOCATION:Rivertown Eye Clinic\, 1011 N Frontage Rd\, Hastings\, MN\, 55033
CATEGORIES:rezCommunity
ATTACH;FMTTYPE=image/jpeg:https://rezumc.org/wp-content/uploads/2025/09/Fall-2025-Adopt-A-Highway2-s.jpg
GEO:44.7386212;-92.8702193
X-APPLE-STRUCTURED-LOCATION;VALUE=URI;X-ADDRESS=Rivertown Eye Clinic 1011 N Frontage Rd Hastings MN 55033;X-APPLE-RADIUS=500;X-TITLE=1011 N Frontage Rd:geo:-92.8702193,44.7386212
END:VEVENT
BEGIN:VEVENT
DTSTART;TZID=America/Chicago:20251008T180000
DTEND;TZID=America/Chicago:20251008T183000
DTSTAMP:20260421T010321
CREATED:20251006T012339Z
LAST-MODIFIED:20251006T012339Z
UID:10003428-1759946400-1759948200@rezumc.org
SUMMARY:Dinner On Us
DESCRIPTION:It’s Wednesday community dinner time at Resurrection and you’re invited\, along with anyone else you bring. Cost? Absolutely nothing! Hope you can make it.
URL:https://rezumc.org/event/dinner-on-us-89/
LOCATION:Resurrection Church\, 615 15th Street West\, Hastings\, 55033\, United States
CATEGORIES:rezCommunity,Wednesday Dinner
ATTACH;FMTTYPE=image/jpeg:https://rezumc.org/wp-content/uploads/2022/08/wednesday-dinners-s.jpg
GEO:44.7309452;-92.8595028
X-APPLE-STRUCTURED-LOCATION;VALUE=URI;X-ADDRESS=Resurrection Church 615 15th Street West Hastings 55033 United States;X-APPLE-RADIUS=500;X-TITLE=615 15th Street West:geo:-92.8595028,44.7309452
END:VEVENT
BEGIN:VEVENT
DTSTART;TZID=America/Chicago:20251011T140000
DTEND;TZID=America/Chicago:20251011T170000
DTSTAMP:20260421T010321
CREATED:20250720T134023Z
LAST-MODIFIED:20250918T185653Z
UID:10003407-1760191200-1760202000@rezumc.org
SUMMARY:Fall Festival
DESCRIPTION:Everyone’s invited to the Tharp’s farm for free pumpkins\, food\, and family fun at our annual Fall Festival event. Enjoy hayrides\, pumpkin painting and carving\, pies\, yard games\, and much more for all ages. \n• Popcorn/Pies/Ice Cream\n• Coffee/Hot Chocolate/Water\n• Face Painting/Coloring Pages\n• Bonfire/Tractor Hay Rides\n• Corn Hole/Outdoor Yard Games\n• Pumpkin Carving & Painting (FREE pumpkins!) \nHELP AT THE EVENT
URL:https://rezumc.org/event/fall-festival-2025/
LOCATION:Tharp Farm\, 14171 Jacob Ave.\, Hastings\, MN\, 55033
CATEGORIES:rezCommunity
ATTACH;FMTTYPE=image/jpeg:https://rezumc.org/wp-content/uploads/2025/07/Fall-Festival-2025-s.jpg
ORGANIZER;CN="rezCommunity":MAILTO:community@rezumc.org
GEO:44.742976;-92.906963
X-APPLE-STRUCTURED-LOCATION;VALUE=URI;X-ADDRESS=Tharp Farm 14171 Jacob Ave. Hastings MN 55033;X-APPLE-RADIUS=500;X-TITLE=14171 Jacob Ave.:geo:-92.906963,44.742976
END:VEVENT
BEGIN:VEVENT
DTSTART;TZID=America/Chicago:20251022T180000
DTEND;TZID=America/Chicago:20251022T183000
DTSTAMP:20260421T010321
CREATED:20251016T230051Z
LAST-MODIFIED:20251016T230051Z
UID:10003431-1761156000-1761157800@rezumc.org
SUMMARY:Dinner On Us
DESCRIPTION:It’s Wednesday community dinner time at Resurrection and you’re invited\, along with anyone else you bring. Cost? Absolutely nothing! Hope you can make it.
URL:https://rezumc.org/event/dinner-on-us-90/
LOCATION:Resurrection Church\, 615 15th Street West\, Hastings\, 55033\, United States
CATEGORIES:rezCommunity,Wednesday Dinner
ATTACH;FMTTYPE=image/jpeg:https://rezumc.org/wp-content/uploads/2022/08/wednesday-dinners-s.jpg
GEO:44.7309452;-92.8595028
X-APPLE-STRUCTURED-LOCATION;VALUE=URI;X-ADDRESS=Resurrection Church 615 15th Street West Hastings 55033 United States;X-APPLE-RADIUS=500;X-TITLE=615 15th Street West:geo:-92.8595028,44.7309452
END:VEVENT
BEGIN:VEVENT
DTSTART;TZID=America/Chicago:20251029T180000
DTEND;TZID=America/Chicago:20251029T183000
DTSTAMP:20260421T010321
CREATED:20251026T154147Z
LAST-MODIFIED:20251026T154147Z
UID:10003438-1761760800-1761762600@rezumc.org
SUMMARY:Dinner On Us
DESCRIPTION:It’s Wednesday community dinner time at Resurrection and you’re invited\, along with anyone else you bring. Cost? Absolutely nothing! Hope you can make it.
URL:https://rezumc.org/event/dinner-on-us-91/
LOCATION:Resurrection Church\, 615 15th Street West\, Hastings\, 55033\, United States
CATEGORIES:rezCommunity,Wednesday Dinner
ATTACH;FMTTYPE=image/jpeg:https://rezumc.org/wp-content/uploads/2022/08/wednesday-dinners-s.jpg
GEO:44.7309452;-92.8595028
X-APPLE-STRUCTURED-LOCATION;VALUE=URI;X-ADDRESS=Resurrection Church 615 15th Street West Hastings 55033 United States;X-APPLE-RADIUS=500;X-TITLE=615 15th Street West:geo:-92.8595028,44.7309452
END:VEVENT
END:VCALENDAR