BEGIN:VCALENDAR
VERSION:2.0
PRODID:-//Resurrection United Methodist Church of Hastings - ECPv6.15.20//NONSGML v1.0//EN
CALSCALE:GREGORIAN
METHOD:PUBLISH
X-WR-CALNAME:Resurrection United Methodist Church of Hastings
X-ORIGINAL-URL:https://rezumc.org
X-WR-CALDESC:Events for Resurrection United Methodist Church of Hastings
REFRESH-INTERVAL;VALUE=DURATION:PT1H
X-Robots-Tag:noindex
X-PUBLISHED-TTL:PT1H
BEGIN:VTIMEZONE
TZID:America/Chicago
BEGIN:DAYLIGHT
TZOFFSETFROM:-0600
TZOFFSETTO:-0500
TZNAME:CDT
DTSTART:20240310T080000
END:DAYLIGHT
BEGIN:STANDARD
TZOFFSETFROM:-0500
TZOFFSETTO:-0600
TZNAME:CST
DTSTART:20241103T070000
END:STANDARD
BEGIN:DAYLIGHT
TZOFFSETFROM:-0600
TZOFFSETTO:-0500
TZNAME:CDT
DTSTART:20250309T080000
END:DAYLIGHT
BEGIN:STANDARD
TZOFFSETFROM:-0500
TZOFFSETTO:-0600
TZNAME:CST
DTSTART:20251102T070000
END:STANDARD
BEGIN:DAYLIGHT
TZOFFSETFROM:-0600
TZOFFSETTO:-0500
TZNAME:CDT
DTSTART:20260308T080000
END:DAYLIGHT
BEGIN:STANDARD
TZOFFSETFROM:-0500
TZOFFSETTO:-0600
TZNAME:CST
DTSTART:20261101T070000
END:STANDARD
END:VTIMEZONE
BEGIN:VEVENT
DTSTART;TZID=America/Chicago:20250205T180000
DTEND;TZID=America/Chicago:20250205T183000
DTSTAMP:20260423T123419
CREATED:20250202T154629Z
LAST-MODIFIED:20250202T154629Z
UID:10003347-1738778400-1738780200@rezumc.org
SUMMARY:Dinner On Us
DESCRIPTION:It’s Wednesday community dinner time at Resurrection and you’re invited\, along with anyone else you bring. Cost? Absolutely nothing! Hope you can make it.
URL:https://rezumc.org/event/dinner-on-us-68/
LOCATION:Resurrection Church\, 615 15th Street West\, Hastings\, 55033\, United States
CATEGORIES:rezCommunity,Wednesday Dinner
ATTACH;FMTTYPE=image/jpeg:https://rezumc.org/wp-content/uploads/2022/08/wednesday-dinners-s.jpg
GEO:44.7309452;-92.8595028
X-APPLE-STRUCTURED-LOCATION;VALUE=URI;X-ADDRESS=Resurrection Church 615 15th Street West Hastings 55033 United States;X-APPLE-RADIUS=500;X-TITLE=615 15th Street West:geo:-92.8595028,44.7309452
END:VEVENT
BEGIN:VEVENT
DTSTART;TZID=America/Chicago:20250212T180000
DTEND;TZID=America/Chicago:20250212T183000
DTSTAMP:20260423T123419
CREATED:20250209T160358Z
LAST-MODIFIED:20250209T160358Z
UID:10003350-1739383200-1739385000@rezumc.org
SUMMARY:Dinner On Us
DESCRIPTION:It’s Wednesday community dinner time at Resurrection and you’re invited\, along with anyone else you bring. Cost? Absolutely nothing! Hope you can make it.
URL:https://rezumc.org/event/dinner-on-us-69/
LOCATION:Resurrection Church\, 615 15th Street West\, Hastings\, 55033\, United States
CATEGORIES:rezCommunity,Wednesday Dinner
ATTACH;FMTTYPE=image/jpeg:https://rezumc.org/wp-content/uploads/2022/08/wednesday-dinners-s.jpg
GEO:44.7309452;-92.8595028
X-APPLE-STRUCTURED-LOCATION;VALUE=URI;X-ADDRESS=Resurrection Church 615 15th Street West Hastings 55033 United States;X-APPLE-RADIUS=500;X-TITLE=615 15th Street West:geo:-92.8595028,44.7309452
END:VEVENT
BEGIN:VEVENT
DTSTART;TZID=America/Chicago:20250219T180000
DTEND;TZID=America/Chicago:20250219T183000
DTSTAMP:20260423T123419
CREATED:20250216T141700Z
LAST-MODIFIED:20250216T141700Z
UID:10003351-1739988000-1739989800@rezumc.org
SUMMARY:Dinner On Us
DESCRIPTION:It’s Wednesday community dinner time at Resurrection and you’re invited\, along with anyone else you bring. Cost? Absolutely nothing! Hope you can make it.
URL:https://rezumc.org/event/dinner-on-us-70/
LOCATION:Resurrection Church\, 615 15th Street West\, Hastings\, 55033\, United States
CATEGORIES:rezCommunity,Wednesday Dinner
ATTACH;FMTTYPE=image/jpeg:https://rezumc.org/wp-content/uploads/2022/08/wednesday-dinners-s.jpg
GEO:44.7309452;-92.8595028
X-APPLE-STRUCTURED-LOCATION;VALUE=URI;X-ADDRESS=Resurrection Church 615 15th Street West Hastings 55033 United States;X-APPLE-RADIUS=500;X-TITLE=615 15th Street West:geo:-92.8595028,44.7309452
END:VEVENT
BEGIN:VEVENT
DTSTART;TZID=America/Chicago:20250226T180000
DTEND;TZID=America/Chicago:20250226T183000
DTSTAMP:20260423T123419
CREATED:20250224T053439Z
LAST-MODIFIED:20250224T053439Z
UID:10003354-1740592800-1740594600@rezumc.org
SUMMARY:Dinner On Us
DESCRIPTION:It’s Wednesday community dinner time at Resurrection and you’re invited\, along with anyone else you bring. Cost? Absolutely nothing! Hope you can make it.
URL:https://rezumc.org/event/dinner-on-us-71/
LOCATION:Resurrection Church\, 615 15th Street West\, Hastings\, 55033\, United States
CATEGORIES:rezCommunity,Wednesday Dinner
ATTACH;FMTTYPE=image/jpeg:https://rezumc.org/wp-content/uploads/2022/08/wednesday-dinners-s.jpg
GEO:44.7309452;-92.8595028
X-APPLE-STRUCTURED-LOCATION;VALUE=URI;X-ADDRESS=Resurrection Church 615 15th Street West Hastings 55033 United States;X-APPLE-RADIUS=500;X-TITLE=615 15th Street West:geo:-92.8595028,44.7309452
END:VEVENT
END:VCALENDAR