BEGIN:VCALENDAR
VERSION:2.0
PRODID:-//Resurrection United Methodist Church of Hastings - ECPv6.15.20//NONSGML v1.0//EN
CALSCALE:GREGORIAN
METHOD:PUBLISH
X-WR-CALNAME:Resurrection United Methodist Church of Hastings
X-ORIGINAL-URL:https://rezumc.org
X-WR-CALDESC:Events for Resurrection United Methodist Church of Hastings
REFRESH-INTERVAL;VALUE=DURATION:PT1H
X-Robots-Tag:noindex
X-PUBLISHED-TTL:PT1H
BEGIN:VTIMEZONE
TZID:America/Chicago
BEGIN:DAYLIGHT
TZOFFSETFROM:-0600
TZOFFSETTO:-0500
TZNAME:CDT
DTSTART:20240310T080000
END:DAYLIGHT
BEGIN:STANDARD
TZOFFSETFROM:-0500
TZOFFSETTO:-0600
TZNAME:CST
DTSTART:20241103T070000
END:STANDARD
BEGIN:DAYLIGHT
TZOFFSETFROM:-0600
TZOFFSETTO:-0500
TZNAME:CDT
DTSTART:20250309T080000
END:DAYLIGHT
BEGIN:STANDARD
TZOFFSETFROM:-0500
TZOFFSETTO:-0600
TZNAME:CST
DTSTART:20251102T070000
END:STANDARD
BEGIN:DAYLIGHT
TZOFFSETFROM:-0600
TZOFFSETTO:-0500
TZNAME:CDT
DTSTART:20260308T080000
END:DAYLIGHT
BEGIN:STANDARD
TZOFFSETFROM:-0500
TZOFFSETTO:-0600
TZNAME:CST
DTSTART:20261101T070000
END:STANDARD
END:VTIMEZONE
BEGIN:VEVENT
DTSTART;TZID=America/Chicago:20250108T180000
DTEND;TZID=America/Chicago:20250108T183000
DTSTAMP:20260423T141042
CREATED:20241229T212747Z
LAST-MODIFIED:20241229T212747Z
UID:10003335-1736359200-1736361000@rezumc.org
SUMMARY:Dinner On Us
DESCRIPTION:We’re back after the holiday break! It’s Wednesday community dinner time at Resurrection and you’re invited\, along with anyone else you bring. Cost? Absolutely nothing! Hope you can make it.
URL:https://rezumc.org/event/dinner-on-us-64/
LOCATION:Resurrection Church\, 615 15th Street West\, Hastings\, 55033\, United States
CATEGORIES:rezCommunity,Wednesday Dinner
ATTACH;FMTTYPE=image/jpeg:https://rezumc.org/wp-content/uploads/2022/08/wednesday-dinners-s.jpg
GEO:44.7309452;-92.8595028
X-APPLE-STRUCTURED-LOCATION;VALUE=URI;X-ADDRESS=Resurrection Church 615 15th Street West Hastings 55033 United States;X-APPLE-RADIUS=500;X-TITLE=615 15th Street West:geo:-92.8595028,44.7309452
END:VEVENT
BEGIN:VEVENT
DTSTART;TZID=America/Chicago:20250109T173500
DTEND;TZID=America/Chicago:20250109T194500
DTSTAMP:20260423T141042
CREATED:20241209T121826Z
LAST-MODIFIED:20250106T204328Z
UID:10003327-1736444100-1736451900@rezumc.org
SUMMARY:CLOSED: Happily Ever Laughter Video + Meal
DESCRIPTION:NOTE: Registration is now closed for this event.\nWant to give your relationships a free GIFT? Join us for Yakov Smirnoff: Happily Ever Laughter. Yakov\, a comedian and psychologist\, brings his infectious charm and practical\, research-based advice to the big screen with a sense of humor unlike any other! This video leaves the audience in stitches as he guides them on how to bring the honeymoon stage back to their relationship and keep it going year after year. Meal is served at 5:35p\, with the video starting at 6:15p. Free childcare is available.
URL:https://rezumc.org/event/happily-ever-after-meal/
LOCATION:Resurrection Church\, 615 15th Street West\, Hastings\, 55033\, United States
CATEGORIES:rezCommunity
ATTACH;FMTTYPE=image/jpeg:https://rezumc.org/wp-content/uploads/2024/12/Smirnoff-2025r-s.jpg
ORGANIZER;CN="rezCommunity":MAILTO:community@rezumc.org
GEO:44.7309452;-92.8595028
X-APPLE-STRUCTURED-LOCATION;VALUE=URI;X-ADDRESS=Resurrection Church 615 15th Street West Hastings 55033 United States;X-APPLE-RADIUS=500;X-TITLE=615 15th Street West:geo:-92.8595028,44.7309452
END:VEVENT
BEGIN:VEVENT
DTSTART;TZID=America/Chicago:20250115T180000
DTEND;TZID=America/Chicago:20250115T183000
DTSTAMP:20260423T141042
CREATED:20250112T153802Z
LAST-MODIFIED:20250112T153802Z
UID:10003338-1736964000-1736965800@rezumc.org
SUMMARY:Dinner On Us
DESCRIPTION:It’s Wednesday community dinner time at Resurrection and you’re invited\, along with anyone else you bring. Cost? Absolutely nothing! Hope you can make it.
URL:https://rezumc.org/event/dinner-on-us-65/
LOCATION:Resurrection Church\, 615 15th Street West\, Hastings\, 55033\, United States
CATEGORIES:rezCommunity,Wednesday Dinner
ATTACH;FMTTYPE=image/jpeg:https://rezumc.org/wp-content/uploads/2022/08/wednesday-dinners-s.jpg
GEO:44.7309452;-92.8595028
X-APPLE-STRUCTURED-LOCATION;VALUE=URI;X-ADDRESS=Resurrection Church 615 15th Street West Hastings 55033 United States;X-APPLE-RADIUS=500;X-TITLE=615 15th Street West:geo:-92.8595028,44.7309452
END:VEVENT
BEGIN:VEVENT
DTSTART;TZID=America/Chicago:20250122T180000
DTEND;TZID=America/Chicago:20250122T183000
DTSTAMP:20260423T141042
CREATED:20250119T154354Z
LAST-MODIFIED:20250119T154354Z
UID:10003341-1737568800-1737570600@rezumc.org
SUMMARY:Dinner On Us
DESCRIPTION:It’s Wednesday community dinner time at Resurrection and you’re invited\, along with anyone else you bring. Cost? Absolutely nothing! Hope you can make it.
URL:https://rezumc.org/event/dinner-on-us-66/
LOCATION:Resurrection Church\, 615 15th Street West\, Hastings\, 55033\, United States
CATEGORIES:rezCommunity,Wednesday Dinner
ATTACH;FMTTYPE=image/jpeg:https://rezumc.org/wp-content/uploads/2022/08/wednesday-dinners-s.jpg
GEO:44.7309452;-92.8595028
X-APPLE-STRUCTURED-LOCATION;VALUE=URI;X-ADDRESS=Resurrection Church 615 15th Street West Hastings 55033 United States;X-APPLE-RADIUS=500;X-TITLE=615 15th Street West:geo:-92.8595028,44.7309452
END:VEVENT
BEGIN:VEVENT
DTSTART;TZID=America/Chicago:20250129T180000
DTEND;TZID=America/Chicago:20250129T183000
DTSTAMP:20260423T141042
CREATED:20250126T151000Z
LAST-MODIFIED:20250126T151000Z
UID:10003343-1738173600-1738175400@rezumc.org
SUMMARY:Dinner On Us
DESCRIPTION:It’s Wednesday community dinner time at Resurrection and you’re invited\, along with anyone else you bring. Cost? Absolutely nothing! Hope you can make it.
URL:https://rezumc.org/event/dinner-on-us-67/
LOCATION:Resurrection Church\, 615 15th Street West\, Hastings\, 55033\, United States
CATEGORIES:rezCommunity,Wednesday Dinner
ATTACH;FMTTYPE=image/jpeg:https://rezumc.org/wp-content/uploads/2022/08/wednesday-dinners-s.jpg
GEO:44.7309452;-92.8595028
X-APPLE-STRUCTURED-LOCATION;VALUE=URI;X-ADDRESS=Resurrection Church 615 15th Street West Hastings 55033 United States;X-APPLE-RADIUS=500;X-TITLE=615 15th Street West:geo:-92.8595028,44.7309452
END:VEVENT
END:VCALENDAR