BEGIN:VCALENDAR
VERSION:2.0
PRODID:-//Resurrection United Methodist Church of Hastings - ECPv6.15.20//NONSGML v1.0//EN
CALSCALE:GREGORIAN
METHOD:PUBLISH
X-ORIGINAL-URL:https://rezumc.org
X-WR-CALDESC:Events for Resurrection United Methodist Church of Hastings
REFRESH-INTERVAL;VALUE=DURATION:PT1H
X-Robots-Tag:noindex
X-PUBLISHED-TTL:PT1H
BEGIN:VTIMEZONE
TZID:America/Chicago
BEGIN:DAYLIGHT
TZOFFSETFROM:-0600
TZOFFSETTO:-0500
TZNAME:CDT
DTSTART:20230312T080000
END:DAYLIGHT
BEGIN:STANDARD
TZOFFSETFROM:-0500
TZOFFSETTO:-0600
TZNAME:CST
DTSTART:20231105T070000
END:STANDARD
BEGIN:DAYLIGHT
TZOFFSETFROM:-0600
TZOFFSETTO:-0500
TZNAME:CDT
DTSTART:20240310T080000
END:DAYLIGHT
BEGIN:STANDARD
TZOFFSETFROM:-0500
TZOFFSETTO:-0600
TZNAME:CST
DTSTART:20241103T070000
END:STANDARD
BEGIN:DAYLIGHT
TZOFFSETFROM:-0600
TZOFFSETTO:-0500
TZNAME:CDT
DTSTART:20250309T080000
END:DAYLIGHT
BEGIN:STANDARD
TZOFFSETFROM:-0500
TZOFFSETTO:-0600
TZNAME:CST
DTSTART:20251102T070000
END:STANDARD
END:VTIMEZONE
BEGIN:VEVENT
DTSTART;TZID=America/Chicago:20241204T180000
DTEND;TZID=America/Chicago:20241204T183000
DTSTAMP:20260423T155114
CREATED:20241124T154832Z
LAST-MODIFIED:20241124T154832Z
UID:10003315-1733335200-1733337000@rezumc.org
SUMMARY:Dinner On Us
DESCRIPTION:It’s Wednesday community dinner time at Resurrection and you’re invited\, along with anyone else you bring. Cost? Absolutely nothing! Hope you can make it.
URL:https://rezumc.org/event/dinner-on-us-61/
LOCATION:Resurrection Church\, 615 15th Street West\, Hastings\, 55033\, United States
CATEGORIES:rezCommunity,Wednesday Dinner
ATTACH;FMTTYPE=image/jpeg:https://rezumc.org/wp-content/uploads/2022/08/wednesday-dinners-s.jpg
GEO:44.7309452;-92.8595028
X-APPLE-STRUCTURED-LOCATION;VALUE=URI;X-ADDRESS=Resurrection Church 615 15th Street West Hastings 55033 United States;X-APPLE-RADIUS=500;X-TITLE=615 15th Street West:geo:-92.8595028,44.7309452
END:VEVENT
BEGIN:VEVENT
DTSTART;TZID=America/Chicago:20241206T190000
DTEND;TZID=America/Chicago:20241206T210000
DTSTAMP:20260423T155114
CREATED:20241024T172501Z
LAST-MODIFIED:20241206T210210Z
UID:10003304-1733511600-1733518800@rezumc.org
SUMMARY:A Celebration of Christmas
DESCRIPTION:Join us for an evening of special music\, singing together\, and fellowship. It’s a lovely way to prepare our hearts and focus our minds on the most important things in this season of Advent. We’ll enjoy Christmas cookies afterward. Can’t make it in person? Join us online live at 7:00p. \nWATCH IT LIVE
URL:https://rezumc.org/event/a-celebration-of-christmas/
LOCATION:Resurrection Church\, 615 15th Street West\, Hastings\, 55033\, United States
CATEGORIES:rezCommunity
ATTACH;FMTTYPE=image/jpeg:https://rezumc.org/wp-content/uploads/2024/10/AD-christmas-celebration-2024-s.jpg
ORGANIZER;CN="Craig Wasner":MAILTO:craig@rezumc.org
GEO:44.7309452;-92.8595028
X-APPLE-STRUCTURED-LOCATION;VALUE=URI;X-ADDRESS=Resurrection Church 615 15th Street West Hastings 55033 United States;X-APPLE-RADIUS=500;X-TITLE=615 15th Street West:geo:-92.8595028,44.7309452
END:VEVENT
BEGIN:VEVENT
DTSTART;TZID=America/Chicago:20241211T180000
DTEND;TZID=America/Chicago:20241211T183000
DTSTAMP:20260423T155114
CREATED:20241209T140918Z
LAST-MODIFIED:20241209T140918Z
UID:10003331-1733940000-1733941800@rezumc.org
SUMMARY:Dinner On Us
DESCRIPTION:It’s Wednesday community dinner time at Resurrection and you’re invited\, along with anyone else you bring. Cost? Absolutely nothing! Hope you can make it.
URL:https://rezumc.org/event/dinner-on-us-62/
LOCATION:Resurrection Church\, 615 15th Street West\, Hastings\, 55033\, United States
CATEGORIES:rezCommunity,Wednesday Dinner
ATTACH;FMTTYPE=image/jpeg:https://rezumc.org/wp-content/uploads/2022/08/wednesday-dinners-s.jpg
GEO:44.7309452;-92.8595028
X-APPLE-STRUCTURED-LOCATION;VALUE=URI;X-ADDRESS=Resurrection Church 615 15th Street West Hastings 55033 United States;X-APPLE-RADIUS=500;X-TITLE=615 15th Street West:geo:-92.8595028,44.7309452
END:VEVENT
BEGIN:VEVENT
DTSTART;TZID=America/Chicago:20241215T133000
DTEND;TZID=America/Chicago:20241215T153000
DTSTAMP:20260423T155114
CREATED:20241204T174430Z
LAST-MODIFIED:20241204T174430Z
UID:10003326-1734269400-1734276600@rezumc.org
SUMMARY:Let's Make Lefse
DESCRIPTION:Aunt Ida always makes her home country’s dish\, Lefse\, during the Advent season for the family. Now you can\, too. Learn how to make this traditional Norwegian favorite with us at our free cooking class on Sunday\, DEC 15\, at 1:30 pm. Meet in the kitchen.
URL:https://rezumc.org/event/lefse-2024/
LOCATION:Resurrection Church\, 615 15th Street West\, Hastings\, 55033\, United States
CATEGORIES:rezCommunity
ATTACH;FMTTYPE=image/jpeg:https://rezumc.org/wp-content/uploads/2024/12/Lefse-Class-s.jpg
ORGANIZER;CN="Wendy Human":MAILTO:wer6humans@embarqmail.com
GEO:44.7309452;-92.8595028
X-APPLE-STRUCTURED-LOCATION;VALUE=URI;X-ADDRESS=Resurrection Church 615 15th Street West Hastings 55033 United States;X-APPLE-RADIUS=500;X-TITLE=615 15th Street West:geo:-92.8595028,44.7309452
END:VEVENT
BEGIN:VEVENT
DTSTART;TZID=America/Chicago:20241218T180000
DTEND;TZID=America/Chicago:20241218T183000
DTSTAMP:20260423T155114
CREATED:20241215T163613Z
LAST-MODIFIED:20241215T163613Z
UID:10003333-1734544800-1734546600@rezumc.org
SUMMARY:Dinner On Us
DESCRIPTION:It’s Wednesday community dinner time at Resurrection and you’re invited\, along with anyone else you bring. Cost? Absolutely nothing! Hope you can make it.
URL:https://rezumc.org/event/dinner-on-us-63/
LOCATION:Resurrection Church\, 615 15th Street West\, Hastings\, 55033\, United States
CATEGORIES:rezCommunity,Wednesday Dinner
ATTACH;FMTTYPE=image/jpeg:https://rezumc.org/wp-content/uploads/2022/08/wednesday-dinners-s.jpg
GEO:44.7309452;-92.8595028
X-APPLE-STRUCTURED-LOCATION;VALUE=URI;X-ADDRESS=Resurrection Church 615 15th Street West Hastings 55033 United States;X-APPLE-RADIUS=500;X-TITLE=615 15th Street West:geo:-92.8595028,44.7309452
END:VEVENT
BEGIN:VEVENT
DTSTART;TZID=America/Chicago:20241224T163000
DTEND;TZID=America/Chicago:20241224T173000
DTSTAMP:20260423T155114
CREATED:20241124T165046Z
LAST-MODIFIED:20241124T165046Z
UID:10003318-1735057800-1735061400@rezumc.org
SUMMARY:Christmas Eve Service: 4:30p
DESCRIPTION:Join us in celebrating Christmas on Christmas Eve\, December 24th at either our 4:30p or 7:00p candlelight services. Childcare is available for kids ages 3 and under at the 4:30p service.
URL:https://rezumc.org/event/christmas-eve-service-430p/2024-12-24/
LOCATION:Resurrection Church\, 615 15th Street West\, Hastings\, 55033\, United States
CATEGORIES:rezCommunity
ATTACH;FMTTYPE=image/jpeg:https://rezumc.org/wp-content/uploads/2024/11/AD-christmas-eve-services-s.jpg
ORGANIZER;CN="rezCommunity":MAILTO:community@rezumc.org
GEO:44.7309452;-92.8595028
X-APPLE-STRUCTURED-LOCATION;VALUE=URI;X-ADDRESS=Resurrection Church 615 15th Street West Hastings 55033 United States;X-APPLE-RADIUS=500;X-TITLE=615 15th Street West:geo:-92.8595028,44.7309452
END:VEVENT
BEGIN:VEVENT
DTSTART;TZID=America/Chicago:20241224T190000
DTEND;TZID=America/Chicago:20241224T200000
DTSTAMP:20260423T155114
CREATED:20241124T165240Z
LAST-MODIFIED:20241124T165332Z
UID:10003323-1735066800-1735070400@rezumc.org
SUMMARY:Christmas Eve Service: 7:00p
DESCRIPTION:Join us in celebrating Christmas on Christmas Eve\, December 24th at either our 4:30p or 7:00p candlelight services. Childcare is available for kids ages 3 and under at the 4:30p service.
URL:https://rezumc.org/event/christmas-eve-service-700p/2024-12-24/
LOCATION:Resurrection Church\, 615 15th Street West\, Hastings\, 55033\, United States
CATEGORIES:rezCommunity
ATTACH;FMTTYPE=image/jpeg:https://rezumc.org/wp-content/uploads/2024/11/AD-christmas-eve-services-s.jpg
ORGANIZER;CN="rezCommunity":MAILTO:community@rezumc.org
GEO:44.7309452;-92.8595028
X-APPLE-STRUCTURED-LOCATION;VALUE=URI;X-ADDRESS=Resurrection Church 615 15th Street West Hastings 55033 United States;X-APPLE-RADIUS=500;X-TITLE=615 15th Street West:geo:-92.8595028,44.7309452
END:VEVENT
END:VCALENDAR