BEGIN:VCALENDAR
VERSION:2.0
PRODID:-//Resurrection United Methodist Church of Hastings - ECPv6.15.20//NONSGML v1.0//EN
CALSCALE:GREGORIAN
METHOD:PUBLISH
X-ORIGINAL-URL:https://rezumc.org
X-WR-CALDESC:Events for Resurrection United Methodist Church of Hastings
REFRESH-INTERVAL;VALUE=DURATION:PT1H
X-Robots-Tag:noindex
X-PUBLISHED-TTL:PT1H
BEGIN:VTIMEZONE
TZID:America/Chicago
BEGIN:DAYLIGHT
TZOFFSETFROM:-0600
TZOFFSETTO:-0500
TZNAME:CDT
DTSTART:20230312T080000
END:DAYLIGHT
BEGIN:STANDARD
TZOFFSETFROM:-0500
TZOFFSETTO:-0600
TZNAME:CST
DTSTART:20231105T070000
END:STANDARD
BEGIN:DAYLIGHT
TZOFFSETFROM:-0600
TZOFFSETTO:-0500
TZNAME:CDT
DTSTART:20240310T080000
END:DAYLIGHT
BEGIN:STANDARD
TZOFFSETFROM:-0500
TZOFFSETTO:-0600
TZNAME:CST
DTSTART:20241103T070000
END:STANDARD
BEGIN:DAYLIGHT
TZOFFSETFROM:-0600
TZOFFSETTO:-0500
TZNAME:CDT
DTSTART:20250309T080000
END:DAYLIGHT
BEGIN:STANDARD
TZOFFSETFROM:-0500
TZOFFSETTO:-0600
TZNAME:CST
DTSTART:20251102T070000
END:STANDARD
END:VTIMEZONE
BEGIN:VEVENT
DTSTART;TZID=America/Chicago:20241106T180000
DTEND;TZID=America/Chicago:20241106T183000
DTSTAMP:20260423T171912
CREATED:20241103T152627Z
LAST-MODIFIED:20241103T152627Z
UID:10003310-1730916000-1730917800@rezumc.org
SUMMARY:Dinner On Us
DESCRIPTION:It’s Wednesday community dinner time at Resurrection and you’re invited\, along with anyone else you bring. Cost? Absolutely nothing! Hope you can make it.
URL:https://rezumc.org/event/dinner-on-us-58/
LOCATION:Resurrection Church\, 615 15th Street West\, Hastings\, 55033\, United States
CATEGORIES:rezCommunity,Wednesday Dinner
ATTACH;FMTTYPE=image/jpeg:https://rezumc.org/wp-content/uploads/2022/08/wednesday-dinners-s.jpg
GEO:44.7309452;-92.8595028
X-APPLE-STRUCTURED-LOCATION;VALUE=URI;X-ADDRESS=Resurrection Church 615 15th Street West Hastings 55033 United States;X-APPLE-RADIUS=500;X-TITLE=615 15th Street West:geo:-92.8595028,44.7309452
END:VEVENT
BEGIN:VEVENT
DTSTART;TZID=America/Chicago:20241113T180000
DTEND;TZID=America/Chicago:20241113T183000
DTSTAMP:20260423T171912
CREATED:20241110T165943Z
LAST-MODIFIED:20241110T165943Z
UID:10003311-1731520800-1731522600@rezumc.org
SUMMARY:Dinner On Us
DESCRIPTION:It’s Wednesday community dinner time at Resurrection and you’re invited\, along with anyone else you bring. Cost? Absolutely nothing! Hope you can make it.
URL:https://rezumc.org/event/dinner-on-us-59/
LOCATION:Resurrection Church\, 615 15th Street West\, Hastings\, 55033\, United States
CATEGORIES:rezCommunity,Wednesday Dinner
ATTACH;FMTTYPE=image/jpeg:https://rezumc.org/wp-content/uploads/2022/08/wednesday-dinners-s.jpg
GEO:44.7309452;-92.8595028
X-APPLE-STRUCTURED-LOCATION;VALUE=URI;X-ADDRESS=Resurrection Church 615 15th Street West Hastings 55033 United States;X-APPLE-RADIUS=500;X-TITLE=615 15th Street West:geo:-92.8595028,44.7309452
END:VEVENT
BEGIN:VEVENT
DTSTART;TZID=America/Chicago:20241115T183000
DTEND;TZID=America/Chicago:20241115T203000
DTSTAMP:20260423T171912
CREATED:20240929T150019Z
LAST-MODIFIED:20240929T150019Z
UID:10003295-1731695400-1731702600@rezumc.org
SUMMARY:Painting Party
DESCRIPTION:Join us for a fun-filled Friday evening painting this gorgeous pumpkin on an 11×14” canvas! Whether you are a painting enthusiast or a beginner\, our talented artist will guide you step-by-step\, making this a perfect event for memories with your friends and family. $35 cost\, payable online. \nREGISTRATION
URL:https://rezumc.org/event/painting-party-2024/
LOCATION:Resurrection Church\, 615 15th Street West\, Hastings\, 55033\, United States
CATEGORIES:rezCommunity
ATTACH;FMTTYPE=image/jpeg:https://rezumc.org/wp-content/uploads/2024/09/painting-party-s.jpg
ORGANIZER;CN="rezCommunity":MAILTO:community@rezumc.org
GEO:44.7309452;-92.8595028
X-APPLE-STRUCTURED-LOCATION;VALUE=URI;X-ADDRESS=Resurrection Church 615 15th Street West Hastings 55033 United States;X-APPLE-RADIUS=500;X-TITLE=615 15th Street West:geo:-92.8595028,44.7309452
END:VEVENT
BEGIN:VEVENT
DTSTART;TZID=America/Chicago:20241120T180000
DTEND;TZID=America/Chicago:20241120T183000
DTSTAMP:20260423T171912
CREATED:20241117T154120Z
LAST-MODIFIED:20241117T154120Z
UID:10003314-1732125600-1732127400@rezumc.org
SUMMARY:Dinner On Us
DESCRIPTION:It’s Wednesday community dinner time at Resurrection and you’re invited\, along with anyone else you bring. Cost? Absolutely nothing! Hope you can make it.
URL:https://rezumc.org/event/dinner-on-us-60/
LOCATION:Resurrection Church\, 615 15th Street West\, Hastings\, 55033\, United States
CATEGORIES:rezCommunity,Wednesday Dinner
ATTACH;FMTTYPE=image/jpeg:https://rezumc.org/wp-content/uploads/2022/08/wednesday-dinners-s.jpg
GEO:44.7309452;-92.8595028
X-APPLE-STRUCTURED-LOCATION;VALUE=URI;X-ADDRESS=Resurrection Church 615 15th Street West Hastings 55033 United States;X-APPLE-RADIUS=500;X-TITLE=615 15th Street West:geo:-92.8595028,44.7309452
END:VEVENT
BEGIN:VEVENT
DTSTART;TZID=America/Chicago:20241127T190000
DTEND;TZID=America/Chicago:20241127T200000
DTSTAMP:20260423T171912
CREATED:20241024T171058Z
LAST-MODIFIED:20241024T172143Z
UID:10003302-1732734000-1732737600@rezumc.org
SUMMARY:Thanksgiving Eve Service (+ Pie)
DESCRIPTION:Join us for a special time of giving thanks to God for all the privileges and blessings we enjoy. Pie immediately following the service. \nBRING A PIE (OR TWO)
URL:https://rezumc.org/event/thanksgiving-eve-service-pie/
LOCATION:Resurrection Church\, 615 15th Street West\, Hastings\, 55033\, United States
CATEGORIES:rezCommunity
ATTACH;FMTTYPE=image/jpeg:https://rezumc.org/wp-content/uploads/2024/10/rez-thanksgiving-pie-2024-s.jpg
GEO:44.7309452;-92.8595028
X-APPLE-STRUCTURED-LOCATION;VALUE=URI;X-ADDRESS=Resurrection Church 615 15th Street West Hastings 55033 United States;X-APPLE-RADIUS=500;X-TITLE=615 15th Street West:geo:-92.8595028,44.7309452
END:VEVENT
BEGIN:VEVENT
DTSTART;TZID=America/Chicago:20241128T120000
DTEND;TZID=America/Chicago:20241128T130000
DTSTAMP:20260423T171912
CREATED:20241021T135738Z
LAST-MODIFIED:20241021T135738Z
UID:10003303-1732795200-1732798800@rezumc.org
SUMMARY:Free Thanksgiving Dinner
DESCRIPTION:You’re invited to a Thanksgiving feast here at the church. And if you’re not able to travel\, we’ll deliver it to you–just contact the church office by email\, or phone us at 651.437.4398. All are welcome – spread the word! Want to help with the meal (cooking\, serving\, or delivery)? Sign up online or at church.
URL:https://rezumc.org/event/free-thanksgiving-dinner/
LOCATION:Resurrection Church\, 615 15th Street West\, Hastings\, 55033\, United States
CATEGORIES:rezCommunity
ATTACH;FMTTYPE=image/png:https://rezumc.org/wp-content/uploads/2024/10/rez-thanksgiving-dinner-2024-s.png
ORGANIZER;CN="rezCommunity":MAILTO:community@rezumc.org
GEO:44.7309452;-92.8595028
X-APPLE-STRUCTURED-LOCATION;VALUE=URI;X-ADDRESS=Resurrection Church 615 15th Street West Hastings 55033 United States;X-APPLE-RADIUS=500;X-TITLE=615 15th Street West:geo:-92.8595028,44.7309452
END:VEVENT
END:VCALENDAR