BEGIN:VCALENDAR
VERSION:2.0
PRODID:-//Resurrection United Methodist Church of Hastings - ECPv6.15.20//NONSGML v1.0//EN
CALSCALE:GREGORIAN
METHOD:PUBLISH
X-ORIGINAL-URL:https://rezumc.org
X-WR-CALDESC:Events for Resurrection United Methodist Church of Hastings
REFRESH-INTERVAL;VALUE=DURATION:PT1H
X-Robots-Tag:noindex
X-PUBLISHED-TTL:PT1H
BEGIN:VTIMEZONE
TZID:America/Chicago
BEGIN:DAYLIGHT
TZOFFSETFROM:-0600
TZOFFSETTO:-0500
TZNAME:CDT
DTSTART:20230312T080000
END:DAYLIGHT
BEGIN:STANDARD
TZOFFSETFROM:-0500
TZOFFSETTO:-0600
TZNAME:CST
DTSTART:20231105T070000
END:STANDARD
BEGIN:DAYLIGHT
TZOFFSETFROM:-0600
TZOFFSETTO:-0500
TZNAME:CDT
DTSTART:20240310T080000
END:DAYLIGHT
BEGIN:STANDARD
TZOFFSETFROM:-0500
TZOFFSETTO:-0600
TZNAME:CST
DTSTART:20241103T070000
END:STANDARD
BEGIN:DAYLIGHT
TZOFFSETFROM:-0600
TZOFFSETTO:-0500
TZNAME:CDT
DTSTART:20250309T080000
END:DAYLIGHT
BEGIN:STANDARD
TZOFFSETFROM:-0500
TZOFFSETTO:-0600
TZNAME:CST
DTSTART:20251102T070000
END:STANDARD
END:VTIMEZONE
BEGIN:VEVENT
DTSTART;TZID=America/Chicago:20240110T180000
DTEND;TZID=America/Chicago:20240110T183000
DTSTAMP:20260424T081458
CREATED:20231231T150323Z
LAST-MODIFIED:20231231T150323Z
UID:10003211-1704909600-1704911400@rezumc.org
SUMMARY:Dinner On Us
DESCRIPTION:After our holiday break\, our Wednesday dinner time is back at Resurrection and you’re invited\, along with anyone else you bring. Cost? Absolutely nothing! Hope you can make it.
URL:https://rezumc.org/event/2024-dinner-on-us-1/
LOCATION:Resurrection Church\, 615 15th Street West\, Hastings\, 55033\, United States
CATEGORIES:rezCommunity,Wednesday Dinner
ATTACH;FMTTYPE=image/jpeg:https://rezumc.org/wp-content/uploads/2022/08/wednesday-dinners-s.jpg
GEO:44.7309452;-92.8595028
X-APPLE-STRUCTURED-LOCATION;VALUE=URI;X-ADDRESS=Resurrection Church 615 15th Street West Hastings 55033 United States;X-APPLE-RADIUS=500;X-TITLE=615 15th Street West:geo:-92.8595028,44.7309452
END:VEVENT
BEGIN:VEVENT
DTSTART;TZID=America/Chicago:20240117T180000
DTEND;TZID=America/Chicago:20240117T183000
DTSTAMP:20260424T081458
CREATED:20240114T163046Z
LAST-MODIFIED:20240114T163046Z
UID:10003214-1705514400-1705516200@rezumc.org
SUMMARY:Dinner On Us
DESCRIPTION:After our holiday break\, our Wednesday dinner time is back at Resurrection and you’re invited\, along with anyone else you bring. Cost? Absolutely nothing! Hope you can make it.
URL:https://rezumc.org/event/dinner-on-us-33/
LOCATION:Resurrection Church\, 615 15th Street West\, Hastings\, 55033\, United States
CATEGORIES:rezCommunity,Wednesday Dinner
ATTACH;FMTTYPE=image/jpeg:https://rezumc.org/wp-content/uploads/2022/08/wednesday-dinners-s.jpg
GEO:44.7309452;-92.8595028
X-APPLE-STRUCTURED-LOCATION;VALUE=URI;X-ADDRESS=Resurrection Church 615 15th Street West Hastings 55033 United States;X-APPLE-RADIUS=500;X-TITLE=615 15th Street West:geo:-92.8595028,44.7309452
END:VEVENT
BEGIN:VEVENT
DTSTART;TZID=America/Chicago:20240124T180000
DTEND;TZID=America/Chicago:20240124T183000
DTSTAMP:20260424T081458
CREATED:20240121T163043Z
LAST-MODIFIED:20240121T163043Z
UID:10003218-1706119200-1706121000@rezumc.org
SUMMARY:Dinner On Us
DESCRIPTION:It’s Wednesday community dinner time at Resurrection and you’re invited\, along with anyone else you bring. Cost? Absolutely nothing! Hope you can make it.
URL:https://rezumc.org/event/dinner-on-us-34/
LOCATION:Resurrection Church\, 615 15th Street West\, Hastings\, 55033\, United States
CATEGORIES:rezCommunity,Wednesday Dinner
ATTACH;FMTTYPE=image/jpeg:https://rezumc.org/wp-content/uploads/2022/08/wednesday-dinners-s.jpg
GEO:44.7309452;-92.8595028
X-APPLE-STRUCTURED-LOCATION;VALUE=URI;X-ADDRESS=Resurrection Church 615 15th Street West Hastings 55033 United States;X-APPLE-RADIUS=500;X-TITLE=615 15th Street West:geo:-92.8595028,44.7309452
END:VEVENT
BEGIN:VEVENT
DTSTART;TZID=America/Chicago:20240131T180000
DTEND;TZID=America/Chicago:20240131T183000
DTSTAMP:20260424T081458
CREATED:20240128T161348Z
LAST-MODIFIED:20240128T161348Z
UID:10003220-1706724000-1706725800@rezumc.org
SUMMARY:Dinner On Us
DESCRIPTION:It’s Wednesday community dinner time at Resurrection and you’re invited\, along with anyone else you bring. Cost? Absolutely nothing! Hope you can make it.
URL:https://rezumc.org/event/dinner-on-us-35/
LOCATION:Resurrection Church\, 615 15th Street West\, Hastings\, 55033\, United States
CATEGORIES:rezCommunity,Wednesday Dinner
ATTACH;FMTTYPE=image/jpeg:https://rezumc.org/wp-content/uploads/2022/08/wednesday-dinners-s.jpg
GEO:44.7309452;-92.8595028
X-APPLE-STRUCTURED-LOCATION;VALUE=URI;X-ADDRESS=Resurrection Church 615 15th Street West Hastings 55033 United States;X-APPLE-RADIUS=500;X-TITLE=615 15th Street West:geo:-92.8595028,44.7309452
END:VEVENT
END:VCALENDAR