BEGIN:VCALENDAR
VERSION:2.0
PRODID:-//Resurrection United Methodist Church of Hastings - ECPv6.15.20//NONSGML v1.0//EN
CALSCALE:GREGORIAN
METHOD:PUBLISH
X-WR-CALNAME:Resurrection United Methodist Church of Hastings
X-ORIGINAL-URL:https://rezumc.org
X-WR-CALDESC:Events for Resurrection United Methodist Church of Hastings
REFRESH-INTERVAL;VALUE=DURATION:PT1H
X-Robots-Tag:noindex
X-PUBLISHED-TTL:PT1H
BEGIN:VTIMEZONE
TZID:America/Chicago
BEGIN:DAYLIGHT
TZOFFSETFROM:-0600
TZOFFSETTO:-0500
TZNAME:CDT
DTSTART:20220313T080000
END:DAYLIGHT
BEGIN:STANDARD
TZOFFSETFROM:-0500
TZOFFSETTO:-0600
TZNAME:CST
DTSTART:20221106T070000
END:STANDARD
BEGIN:DAYLIGHT
TZOFFSETFROM:-0600
TZOFFSETTO:-0500
TZNAME:CDT
DTSTART:20230312T080000
END:DAYLIGHT
BEGIN:STANDARD
TZOFFSETFROM:-0500
TZOFFSETTO:-0600
TZNAME:CST
DTSTART:20231105T070000
END:STANDARD
BEGIN:DAYLIGHT
TZOFFSETFROM:-0600
TZOFFSETTO:-0500
TZNAME:CDT
DTSTART:20240310T080000
END:DAYLIGHT
BEGIN:STANDARD
TZOFFSETFROM:-0500
TZOFFSETTO:-0600
TZNAME:CST
DTSTART:20241103T070000
END:STANDARD
END:VTIMEZONE
BEGIN:VEVENT
DTSTART;VALUE=DATE:20231031
DTEND;VALUE=DATE:20231105
DTSTAMP:20260424T105841
CREATED:20231004T221510Z
LAST-MODIFIED:20231025T140518Z
UID:10003176-1698710400-1699142399@rezumc.org
SUMMARY:Directory Photo Sessions
DESCRIPTION:Reserve a time slot for your free church directory photo session at REZ between OCT 31–NOV 04. Make your reservation online using the button below (at the login page\, use the church name: mn403 and the password: photos)\, or watch for sign-up assistance in the foyer. Bonus: a free 8“x10” photo of your choice from the photo session! \nReserve Your Photo Session\n  \nWant to help check-in members\, confirm information is correct\, and any other items the photographers may need help with on the photo session days? No experience is necessary. Sign up with a friend! \nPhoto Session Check-in Help  
URL:https://rezumc.org/event/directory-photos-2023/
LOCATION:Resurrection Church\, 615 15th Street West\, Hastings\, 55033\, United States
CATEGORIES:rezCommunity
ATTACH;FMTTYPE=image/jpeg:https://rezumc.org/wp-content/uploads/2023/10/photo-signup.jpg
GEO:44.7309452;-92.8595028
X-APPLE-STRUCTURED-LOCATION;VALUE=URI;X-ADDRESS=Resurrection Church 615 15th Street West Hastings 55033 United States;X-APPLE-RADIUS=500;X-TITLE=615 15th Street West:geo:-92.8595028,44.7309452
END:VEVENT
BEGIN:VEVENT
DTSTART;TZID=America/Chicago:20231101T180000
DTEND;TZID=America/Chicago:20231101T183000
DTSTAMP:20260424T105841
CREATED:20231026T134522Z
LAST-MODIFIED:20231027T223804Z
UID:10003182-1698861600-1698863400@rezumc.org
SUMMARY:Dinner On Us
DESCRIPTION:It’s our weekly Wednesday dinner time at Resurrection and you’re invited\, along with anyone else you bring. Cost? Absolutely nothing! Hope you can make it.
URL:https://rezumc.org/event/dinner-on-us-26/
LOCATION:Resurrection Church\, 615 15th Street West\, Hastings\, 55033\, United States
CATEGORIES:rezCommunity,Wednesday Dinner
ATTACH;FMTTYPE=image/jpeg:https://rezumc.org/wp-content/uploads/2022/08/wednesday-dinners-s.jpg
GEO:44.7309452;-92.8595028
X-APPLE-STRUCTURED-LOCATION;VALUE=URI;X-ADDRESS=Resurrection Church 615 15th Street West Hastings 55033 United States;X-APPLE-RADIUS=500;X-TITLE=615 15th Street West:geo:-92.8595028,44.7309452
END:VEVENT
BEGIN:VEVENT
DTSTART;TZID=America/Chicago:20231108T180000
DTEND;TZID=America/Chicago:20231108T183000
DTSTAMP:20260424T105841
CREATED:20231105T152141Z
LAST-MODIFIED:20231105T152141Z
UID:10003199-1699466400-1699468200@rezumc.org
SUMMARY:Dinner On Us
DESCRIPTION:It’s our weekly Wednesday dinner time at Resurrection and you’re invited\, along with anyone else you bring. Cost? Absolutely nothing! Hope you can make it.
URL:https://rezumc.org/event/dinner-on-us-27/
LOCATION:Resurrection Church\, 615 15th Street West\, Hastings\, 55033\, United States
CATEGORIES:rezCommunity,Wednesday Dinner
ATTACH;FMTTYPE=image/jpeg:https://rezumc.org/wp-content/uploads/2022/08/wednesday-dinners-s.jpg
GEO:44.7309452;-92.8595028
X-APPLE-STRUCTURED-LOCATION;VALUE=URI;X-ADDRESS=Resurrection Church 615 15th Street West Hastings 55033 United States;X-APPLE-RADIUS=500;X-TITLE=615 15th Street West:geo:-92.8595028,44.7309452
END:VEVENT
BEGIN:VEVENT
DTSTART;TZID=America/Chicago:20231115T180000
DTEND;TZID=America/Chicago:20231115T183000
DTSTAMP:20260424T105841
CREATED:20231109T140009Z
LAST-MODIFIED:20231105T152249Z
UID:10003186-1700071200-1700073000@rezumc.org
SUMMARY:Dinner On Us
DESCRIPTION:It’s our weekly Wednesday dinner time at Resurrection and you’re invited\, along with anyone else you bring. Cost? Absolutely nothing! Hope you can make it.
URL:https://rezumc.org/event/dinner-on-us-28/
LOCATION:Resurrection Church\, 615 15th Street West\, Hastings\, 55033\, United States
CATEGORIES:rezCommunity,Wednesday Dinner
ATTACH;FMTTYPE=image/jpeg:https://rezumc.org/wp-content/uploads/2022/08/wednesday-dinners-s.jpg
GEO:44.7309452;-92.8595028
X-APPLE-STRUCTURED-LOCATION;VALUE=URI;X-ADDRESS=Resurrection Church 615 15th Street West Hastings 55033 United States;X-APPLE-RADIUS=500;X-TITLE=615 15th Street West:geo:-92.8595028,44.7309452
END:VEVENT
BEGIN:VEVENT
DTSTART;TZID=America/Chicago:20231122T190000
DTEND;TZID=America/Chicago:20231122T200000
DTSTAMP:20260424T105841
CREATED:20231027T223043Z
LAST-MODIFIED:20231027T223043Z
UID:10003184-1700679600-1700683200@rezumc.org
SUMMARY:Thanksgiving Eve Service (+ Pie)
DESCRIPTION:Join us for a special time of giving thanks to God for all the privileges and blessings we enjoy. Pie immediately following the service. \nBRING A PIE (OR TWO)
URL:https://rezumc.org/event/thanksgiving-eve-service-pie-2023/
LOCATION:Resurrection Church\, 615 15th Street West\, Hastings\, 55033\, United States
CATEGORIES:rezCommunity
ATTACH;FMTTYPE=image/jpeg:https://rezumc.org/wp-content/uploads/2023/10/rez-thanksgiving-pie-2023.jpg
GEO:44.7309452;-92.8595028
X-APPLE-STRUCTURED-LOCATION;VALUE=URI;X-ADDRESS=Resurrection Church 615 15th Street West Hastings 55033 United States;X-APPLE-RADIUS=500;X-TITLE=615 15th Street West:geo:-92.8595028,44.7309452
END:VEVENT
BEGIN:VEVENT
DTSTART;TZID=America/Chicago:20231123T120000
DTEND;TZID=America/Chicago:20231123T130000
DTSTAMP:20260424T105841
CREATED:20231027T223152Z
LAST-MODIFIED:20231122T193059Z
UID:10003185-1700740800-1700744400@rezumc.org
SUMMARY:Free Thanksgiving Dinner
DESCRIPTION:You’re invited to a Thanksgiving feast here at the church. And if you’re not able to travel\, we’ll deliver it to you–just contact the church office by email\, or phone us at 651.437.4398. All are welcome – spread the word
URL:https://rezumc.org/event/free-thanksgiving-dinner-2023/
LOCATION:Resurrection Church\, 615 15th Street West\, Hastings\, 55033\, United States
CATEGORIES:rezCommunity
ATTACH;FMTTYPE=image/jpeg:https://rezumc.org/wp-content/uploads/2023/10/rez-thanksgiving-2023-s.jpg
ORGANIZER;CN="rezCommunity":MAILTO:community@rezumc.org
GEO:44.7309452;-92.8595028
X-APPLE-STRUCTURED-LOCATION;VALUE=URI;X-ADDRESS=Resurrection Church 615 15th Street West Hastings 55033 United States;X-APPLE-RADIUS=500;X-TITLE=615 15th Street West:geo:-92.8595028,44.7309452
END:VEVENT
BEGIN:VEVENT
DTSTART;TZID=America/Chicago:20231129T180000
DTEND;TZID=America/Chicago:20231129T183000
DTSTAMP:20260424T105841
CREATED:20231126T144635Z
LAST-MODIFIED:20231126T144635Z
UID:10003203-1701280800-1701282600@rezumc.org
SUMMARY:Dinner On Us
DESCRIPTION:It’s our weekly Wednesday dinner time at Resurrection and you’re invited\, along with anyone else you bring. Cost? Absolutely nothing! Hope you can make it.
URL:https://rezumc.org/event/dinner-on-us-29/
LOCATION:Resurrection Church\, 615 15th Street West\, Hastings\, 55033\, United States
CATEGORIES:rezCommunity,Wednesday Dinner
ATTACH;FMTTYPE=image/jpeg:https://rezumc.org/wp-content/uploads/2022/08/wednesday-dinners-s.jpg
GEO:44.7309452;-92.8595028
X-APPLE-STRUCTURED-LOCATION;VALUE=URI;X-ADDRESS=Resurrection Church 615 15th Street West Hastings 55033 United States;X-APPLE-RADIUS=500;X-TITLE=615 15th Street West:geo:-92.8595028,44.7309452
END:VEVENT
END:VCALENDAR