BEGIN:VCALENDAR
VERSION:2.0
PRODID:-//Resurrection United Methodist Church of Hastings - ECPv6.15.20//NONSGML v1.0//EN
CALSCALE:GREGORIAN
METHOD:PUBLISH
X-WR-CALNAME:Resurrection United Methodist Church of Hastings
X-ORIGINAL-URL:https://rezumc.org
X-WR-CALDESC:Events for Resurrection United Methodist Church of Hastings
REFRESH-INTERVAL;VALUE=DURATION:PT1H
X-Robots-Tag:noindex
X-PUBLISHED-TTL:PT1H
BEGIN:VTIMEZONE
TZID:America/Chicago
BEGIN:DAYLIGHT
TZOFFSETFROM:-0600
TZOFFSETTO:-0500
TZNAME:CDT
DTSTART:20220313T080000
END:DAYLIGHT
BEGIN:STANDARD
TZOFFSETFROM:-0500
TZOFFSETTO:-0600
TZNAME:CST
DTSTART:20221106T070000
END:STANDARD
BEGIN:DAYLIGHT
TZOFFSETFROM:-0600
TZOFFSETTO:-0500
TZNAME:CDT
DTSTART:20230312T080000
END:DAYLIGHT
BEGIN:STANDARD
TZOFFSETFROM:-0500
TZOFFSETTO:-0600
TZNAME:CST
DTSTART:20231105T070000
END:STANDARD
BEGIN:DAYLIGHT
TZOFFSETFROM:-0600
TZOFFSETTO:-0500
TZNAME:CDT
DTSTART:20240310T080000
END:DAYLIGHT
BEGIN:STANDARD
TZOFFSETFROM:-0500
TZOFFSETTO:-0600
TZNAME:CST
DTSTART:20241103T070000
END:STANDARD
END:VTIMEZONE
BEGIN:VEVENT
DTSTART;TZID=America/Chicago:20231004T180000
DTEND;TZID=America/Chicago:20231004T183000
DTSTAMP:20260424T122151
CREATED:20231001T152539Z
LAST-MODIFIED:20231001T152539Z
UID:10003174-1696442400-1696444200@rezumc.org
SUMMARY:Dinner On Us
DESCRIPTION:It’s our weekly Wednesday dinner time at Resurrection and you’re invited\, along with anyone else you bring. Cost? Absolutely nothing! Hope you can make it.
URL:https://rezumc.org/event/dinner-on-us-22/
LOCATION:Resurrection Church\, 615 15th Street West\, Hastings\, 55033\, United States
CATEGORIES:rezCommunity,Wednesday Dinner
ATTACH;FMTTYPE=image/jpeg:https://rezumc.org/wp-content/uploads/2022/08/wednesday-dinners-s.jpg
GEO:44.7309452;-92.8595028
X-APPLE-STRUCTURED-LOCATION;VALUE=URI;X-ADDRESS=Resurrection Church 615 15th Street West Hastings 55033 United States;X-APPLE-RADIUS=500;X-TITLE=615 15th Street West:geo:-92.8595028,44.7309452
END:VEVENT
BEGIN:VEVENT
DTSTART;TZID=America/Chicago:20231008T113000
DTEND;TZID=America/Chicago:20231008T143000
DTSTAMP:20260424T122151
CREATED:20230913T160132Z
LAST-MODIFIED:20230913T160132Z
UID:10003169-1696764600-1696775400@rezumc.org
SUMMARY:Adopt-A-Highway Cleanup
DESCRIPTION:It’s time to help clean up the stretch of highway Resurrection UMC has committed to care for—the north and south sides of Highway 55 between Pleasant Avenue and Vermillion Street (we don’t do the median). We’ll head out from Resurrection (rain or shine) and meet at 11:30 am in the Rivertown Eye Clinic parking lot. Garbage bags\, fluorescent green safety vests\, and gloves will be supplied. And remember: the more volunteers\, the faster we finish. \nLET US KNOW YOU’LL BE THERE
URL:https://rezumc.org/event/adopt-a-highway-cleanup-2023-fall/
LOCATION:Rivertown Eye Clinic\, 1011 N Frontage Rd\, Hastings\, MN\, 55033
CATEGORIES:rezCommunity
ATTACH;FMTTYPE=image/jpeg:https://rezumc.org/wp-content/uploads/2023/09/Adopt-A-Highway-fall2023-s_1.jpg
GEO:44.7386212;-92.8702193
X-APPLE-STRUCTURED-LOCATION;VALUE=URI;X-ADDRESS=Rivertown Eye Clinic 1011 N Frontage Rd Hastings MN 55033;X-APPLE-RADIUS=500;X-TITLE=1011 N Frontage Rd:geo:-92.8702193,44.7386212
END:VEVENT
BEGIN:VEVENT
DTSTART;TZID=America/Chicago:20231011T180000
DTEND;TZID=America/Chicago:20231011T183000
DTSTAMP:20260424T122151
CREATED:20231005T143025Z
LAST-MODIFIED:20231005T143025Z
UID:10003177-1697047200-1697049000@rezumc.org
SUMMARY:Dinner On Us
DESCRIPTION:It’s our weekly Wednesday dinner time at Resurrection and you’re invited\, along with anyone else you bring. Cost? Absolutely nothing! Hope you can make it.
URL:https://rezumc.org/event/dinner-on-us-23/
LOCATION:Resurrection Church\, 615 15th Street West\, Hastings\, 55033\, United States
CATEGORIES:rezCommunity,Wednesday Dinner
ATTACH;FMTTYPE=image/jpeg:https://rezumc.org/wp-content/uploads/2022/08/wednesday-dinners-s.jpg
GEO:44.7309452;-92.8595028
X-APPLE-STRUCTURED-LOCATION;VALUE=URI;X-ADDRESS=Resurrection Church 615 15th Street West Hastings 55033 United States;X-APPLE-RADIUS=500;X-TITLE=615 15th Street West:geo:-92.8595028,44.7309452
END:VEVENT
BEGIN:VEVENT
DTSTART;TZID=America/Chicago:20231018T180000
DTEND;TZID=America/Chicago:20231018T183000
DTSTAMP:20260424T122151
CREATED:20231015T152711Z
LAST-MODIFIED:20231015T152711Z
UID:10003180-1697652000-1697653800@rezumc.org
SUMMARY:Dinner On Us
DESCRIPTION:It’s our weekly Wednesday dinner time at Resurrection and you’re invited\, along with anyone else you bring. Cost? Absolutely nothing! Hope you can make it.
URL:https://rezumc.org/event/dinner-on-us-24/
LOCATION:Resurrection Church\, 615 15th Street West\, Hastings\, 55033\, United States
CATEGORIES:rezCommunity,Wednesday Dinner
ATTACH;FMTTYPE=image/jpeg:https://rezumc.org/wp-content/uploads/2022/08/wednesday-dinners-s.jpg
GEO:44.7309452;-92.8595028
X-APPLE-STRUCTURED-LOCATION;VALUE=URI;X-ADDRESS=Resurrection Church 615 15th Street West Hastings 55033 United States;X-APPLE-RADIUS=500;X-TITLE=615 15th Street West:geo:-92.8595028,44.7309452
END:VEVENT
BEGIN:VEVENT
DTSTART;TZID=America/Chicago:20231025T180000
DTEND;TZID=America/Chicago:20231025T183000
DTSTAMP:20260424T122151
CREATED:20231020T140030Z
LAST-MODIFIED:20231015T153059Z
UID:10003181-1698256800-1698258600@rezumc.org
SUMMARY:Dinner On Us
DESCRIPTION:It’s our weekly Wednesday dinner time at Resurrection and you’re invited\, along with anyone else you bring. Cost? Absolutely nothing! Hope you can make it.
URL:https://rezumc.org/event/dinner-on-us-25/
LOCATION:Resurrection Church\, 615 15th Street West\, Hastings\, 55033\, United States
CATEGORIES:rezCommunity,Wednesday Dinner
ATTACH;FMTTYPE=image/jpeg:https://rezumc.org/wp-content/uploads/2022/08/wednesday-dinners-s.jpg
GEO:44.7309452;-92.8595028
X-APPLE-STRUCTURED-LOCATION;VALUE=URI;X-ADDRESS=Resurrection Church 615 15th Street West Hastings 55033 United States;X-APPLE-RADIUS=500;X-TITLE=615 15th Street West:geo:-92.8595028,44.7309452
END:VEVENT
BEGIN:VEVENT
DTSTART;VALUE=DATE:20231031
DTEND;VALUE=DATE:20231105
DTSTAMP:20260424T122151
CREATED:20231004T221510Z
LAST-MODIFIED:20231025T140518Z
UID:10003176-1698710400-1699142399@rezumc.org
SUMMARY:Directory Photo Sessions
DESCRIPTION:Reserve a time slot for your free church directory photo session at REZ between OCT 31–NOV 04. Make your reservation online using the button below (at the login page\, use the church name: mn403 and the password: photos)\, or watch for sign-up assistance in the foyer. Bonus: a free 8“x10” photo of your choice from the photo session! \nReserve Your Photo Session\n  \nWant to help check-in members\, confirm information is correct\, and any other items the photographers may need help with on the photo session days? No experience is necessary. Sign up with a friend! \nPhoto Session Check-in Help  
URL:https://rezumc.org/event/directory-photos-2023/
LOCATION:Resurrection Church\, 615 15th Street West\, Hastings\, 55033\, United States
CATEGORIES:rezCommunity
ATTACH;FMTTYPE=image/jpeg:https://rezumc.org/wp-content/uploads/2023/10/photo-signup.jpg
GEO:44.7309452;-92.8595028
X-APPLE-STRUCTURED-LOCATION;VALUE=URI;X-ADDRESS=Resurrection Church 615 15th Street West Hastings 55033 United States;X-APPLE-RADIUS=500;X-TITLE=615 15th Street West:geo:-92.8595028,44.7309452
END:VEVENT
END:VCALENDAR