BEGIN:VCALENDAR
VERSION:2.0
PRODID:-//Resurrection United Methodist Church of Hastings - ECPv6.15.20//NONSGML v1.0//EN
CALSCALE:GREGORIAN
METHOD:PUBLISH
X-WR-CALNAME:Resurrection United Methodist Church of Hastings
X-ORIGINAL-URL:https://rezumc.org
X-WR-CALDESC:Events for Resurrection United Methodist Church of Hastings
REFRESH-INTERVAL;VALUE=DURATION:PT1H
X-Robots-Tag:noindex
X-PUBLISHED-TTL:PT1H
BEGIN:VTIMEZONE
TZID:America/Chicago
BEGIN:DAYLIGHT
TZOFFSETFROM:-0600
TZOFFSETTO:-0500
TZNAME:CDT
DTSTART:20220313T080000
END:DAYLIGHT
BEGIN:STANDARD
TZOFFSETFROM:-0500
TZOFFSETTO:-0600
TZNAME:CST
DTSTART:20221106T070000
END:STANDARD
BEGIN:DAYLIGHT
TZOFFSETFROM:-0600
TZOFFSETTO:-0500
TZNAME:CDT
DTSTART:20230312T080000
END:DAYLIGHT
BEGIN:STANDARD
TZOFFSETFROM:-0500
TZOFFSETTO:-0600
TZNAME:CST
DTSTART:20231105T070000
END:STANDARD
BEGIN:DAYLIGHT
TZOFFSETFROM:-0600
TZOFFSETTO:-0500
TZNAME:CDT
DTSTART:20240310T080000
END:DAYLIGHT
BEGIN:STANDARD
TZOFFSETFROM:-0500
TZOFFSETTO:-0600
TZNAME:CST
DTSTART:20241103T070000
END:STANDARD
END:VTIMEZONE
BEGIN:VEVENT
DTSTART;TZID=America/Chicago:20230912T090000
DTEND;TZID=America/Chicago:20230912T110000
DTSTAMP:20260424T134854
CREATED:20230802T191221Z
LAST-MODIFIED:20230806T195418Z
UID:10003165-1694509200-1694516400@rezumc.org
SUMMARY:Hastings MOPS Group
DESCRIPTION:MOPS of Hastings is a mom’s group geared for any mom with a child/children ages birth through age 5/pre-K. Our moms have children who range from newborns to teenagers. It’s a time when your young children are cared for by other loving people while you get time to connect with other moms and be refreshed and encouraged! We meet at Resurrection Church twice a month on the second and fourth Tuesdays from 9-11 a.m.. Childcare is available. \nREGISTRATION FORM\nMOPS MEMBERSHIP BENEFITS
URL:https://rezumc.org/event/hastings-mops-group-2023/
LOCATION:Resurrection Church\, 615 15th Street West\, Hastings\, 55033\, United States
CATEGORIES:rezCommunity,rezLife
ATTACH;FMTTYPE=image/png:https://rezumc.org/wp-content/uploads/2022/08/hastings-mops-post.png
ORGANIZER;CN="Nicole Cummings":MAILTO:cummingsnp@gmail.com
GEO:44.7309452;-92.8595028
X-APPLE-STRUCTURED-LOCATION;VALUE=URI;X-ADDRESS=Resurrection Church 615 15th Street West Hastings 55033 United States;X-APPLE-RADIUS=500;X-TITLE=615 15th Street West:geo:-92.8595028,44.7309452
END:VEVENT
BEGIN:VEVENT
DTSTART;TZID=America/Chicago:20230915T183000
DTEND;TZID=America/Chicago:20230915T210000
DTSTAMP:20260424T134854
CREATED:20230713T204645Z
LAST-MODIFIED:20230915T205203Z
UID:10003164-1694802600-1694811600@rezumc.org
SUMMARY:Canceled: Movie Night at Levee Park
DESCRIPTION:CANCELED due to power issue at the park. Sorry!\nFree Movie + Fun Activities\nMovie Night at Levee Park kicks off at 6:30p with fun\, pre-movie lawn games and events for youth/kids\, with a family-friendly movie following at 7:30 pm on the big outdoor screen at the Rotary Pavilion. Bring a non-perishable food donation for Hastings Family Service. \nWe need volunteers!\nREZ is helping host Movie Night at Levee Park. There are usually 100-200 people who attend this event with 50-75 youth\, so we need volunteers to: \n\n• Help set up at the Levee\n• Make crafts ahead of the event\n• Supervise lawn games prior to the movie\n• Loan REZ your ladder golf or other lawn game\n• Donate bags of candy for goody bags\n\nContact Julie Kocher or sign-up online to volunteer. Thanks! \nVOLUNTEER SIGN-UP
URL:https://rezumc.org/event/movie-night-at-levee-park-2023/
LOCATION:Rotary Pavilion at Levee Park\, 20 Ramsey St\, Hastings\, MN\, 55056
CATEGORIES:rezCommunity
ATTACH;FMTTYPE=image/jpeg:https://rezumc.org/wp-content/uploads/2023/07/Movie-in-Park-2023.jpg
GEO:44.7449161;-92.8499536
X-APPLE-STRUCTURED-LOCATION;VALUE=URI;X-ADDRESS=Rotary Pavilion at Levee Park 20 Ramsey St Hastings MN 55056;X-APPLE-RADIUS=500;X-TITLE=20 Ramsey St:geo:-92.8499536,44.7449161
END:VEVENT
BEGIN:VEVENT
DTSTART;TZID=America/Chicago:20230920T180000
DTEND;TZID=America/Chicago:20230920T183000
DTSTAMP:20260424T134854
CREATED:20230916T133648Z
LAST-MODIFIED:20230916T133648Z
UID:10003170-1695232800-1695234600@rezumc.org
SUMMARY:Dinner On Us
DESCRIPTION:It’s our weekly Wednesday dinner time at Resurrection and you’re invited\, along with anyone else you bring. Cost? Absolutely nothing! Hope you can make it.
URL:https://rezumc.org/event/dinner-on-us-2023-fall/
LOCATION:Resurrection Church\, 615 15th Street West\, Hastings\, 55033\, United States
CATEGORIES:rezCommunity,Wednesday Dinner
ATTACH;FMTTYPE=image/jpeg:https://rezumc.org/wp-content/uploads/2022/08/wednesday-dinners-s.jpg
GEO:44.7309452;-92.8595028
X-APPLE-STRUCTURED-LOCATION;VALUE=URI;X-ADDRESS=Resurrection Church 615 15th Street West Hastings 55033 United States;X-APPLE-RADIUS=500;X-TITLE=615 15th Street West:geo:-92.8595028,44.7309452
END:VEVENT
BEGIN:VEVENT
DTSTART;TZID=America/Chicago:20230924T093000
DTEND;TZID=America/Chicago:20230924T120000
DTSTAMP:20260424T134854
CREATED:20230814T201956Z
LAST-MODIFIED:20230814T201956Z
UID:10003167-1695547800-1695556800@rezumc.org
SUMMARY:”Great Stuff!” Sale
DESCRIPTION:The United Women in Faith at REZ are selling a bunch of great stuff to benefit missions. They are in need of your: \nBaked Goods • Pies • Homemade Crafts • Books • Plants • Christmas Items • Slightly Used Goods \nUse the sign-up sheet in the foyer at church to help them plan for the event. Please bring your creative crafts\, baked goods\, and item donations to the church on Saturday\, SEP 23rd\, 10:00a-1:00p. Food items must be in covered boxes or bags. Thanks! \n 
URL:https://rezumc.org/event/great-stuff-sale-2023/
LOCATION:Resurrection Church\, 615 15th Street West\, Hastings\, 55033\, United States
CATEGORIES:rezCommunity,UWF
ATTACH;FMTTYPE=image/jpeg:https://rezumc.org/wp-content/uploads/2023/08/Great-Stuff-Sale-2023-s.jpg
GEO:44.7309452;-92.8595028
X-APPLE-STRUCTURED-LOCATION;VALUE=URI;X-ADDRESS=Resurrection Church 615 15th Street West Hastings 55033 United States;X-APPLE-RADIUS=500;X-TITLE=615 15th Street West:geo:-92.8595028,44.7309452
END:VEVENT
BEGIN:VEVENT
DTSTART;TZID=America/Chicago:20230927T180000
DTEND;TZID=America/Chicago:20230927T183000
DTSTAMP:20260424T134854
CREATED:20230924T144040Z
LAST-MODIFIED:20230924T144040Z
UID:10003172-1695837600-1695839400@rezumc.org
SUMMARY:Dinner On Us
DESCRIPTION:It’s our weekly Wednesday dinner time at Resurrection and you’re invited\, along with anyone else you bring. Cost? Absolutely nothing! Hope you can make it.
URL:https://rezumc.org/event/dinner-on-us-2023-fall-2/
LOCATION:Resurrection Church\, 615 15th Street West\, Hastings\, 55033\, United States
CATEGORIES:rezCommunity,Wednesday Dinner
ATTACH;FMTTYPE=image/jpeg:https://rezumc.org/wp-content/uploads/2022/08/wednesday-dinners-s.jpg
GEO:44.7309452;-92.8595028
X-APPLE-STRUCTURED-LOCATION;VALUE=URI;X-ADDRESS=Resurrection Church 615 15th Street West Hastings 55033 United States;X-APPLE-RADIUS=500;X-TITLE=615 15th Street West:geo:-92.8595028,44.7309452
END:VEVENT
BEGIN:VEVENT
DTSTART;TZID=America/Chicago:20230930T140000
DTEND;TZID=America/Chicago:20230930T170000
DTSTAMP:20260424T134854
CREATED:20230723T161229Z
LAST-MODIFIED:20230806T195047Z
UID:10003162-1696082400-1696093200@rezumc.org
SUMMARY:Fall Festival
DESCRIPTION:Everyone’s invited to the Tharp’s farm for free food and family fun at our annual Fall Festival event. Enjoy hayrides\, pumpkin painting and carving\, pies\, yard games and much more for all ages. \n• Popcorn/Pies/Ice Cream\n• Coffee/Hot Chocolate/Water\n• Face Painting/Coloring Pages\n• Bonfire/Tractor Hay Rides\n• Outdoor Yard Games (Corn Hole/Bean Bag tournament starts at 3:00 pm!)\n• Pumpkin Carving & Painting (free pumpkins!) \nHELP AT THE EVENT
URL:https://rezumc.org/event/fall-festival-2023/
LOCATION:Tharp Farm\, 14171 Jacob Ave.\, Hastings\, MN\, 55033
CATEGORIES:rezCommunity
ATTACH;FMTTYPE=image/jpeg:https://rezumc.org/wp-content/uploads/2023/06/fall-festival-2023-s.jpg
ORGANIZER;CN="rezCommunity":MAILTO:community@rezumc.org
GEO:44.742976;-92.906963
X-APPLE-STRUCTURED-LOCATION;VALUE=URI;X-ADDRESS=Tharp Farm 14171 Jacob Ave. Hastings MN 55033;X-APPLE-RADIUS=500;X-TITLE=14171 Jacob Ave.:geo:-92.906963,44.742976
END:VEVENT
END:VCALENDAR